From mboxrd@z Thu Jan  1 00:00:00 1970
Return-Path: <test-report-bounces@dpdk.org>
Received: from mails.dpdk.org (mails.dpdk.org [217.70.189.124])
	by inbox.dpdk.org (Postfix) with ESMTP id BD7C24402B
	for <public@inbox.dpdk.org>; Tue, 14 May 2024 14:41:00 +0200 (CEST)
Received: from mails.dpdk.org (localhost [127.0.0.1])
	by mails.dpdk.org (Postfix) with ESMTP id 8E3D0402EC;
	Tue, 14 May 2024 14:41:00 +0200 (CEST)
Received: from mail-pf1-f228.google.com (mail-pf1-f228.google.com
 [209.85.210.228])
 by mails.dpdk.org (Postfix) with ESMTP id 45DB340156
 for <test-report@dpdk.org>; Tue, 14 May 2024 14:40:59 +0200 (CEST)
Received: by mail-pf1-f228.google.com with SMTP id
 d2e1a72fcca58-6f47787a0c3so4956350b3a.0
 for <test-report@dpdk.org>; Tue, 14 May 2024 05:40:59 -0700 (PDT)
DKIM-Signature: v=1; a=rsa-sha256; c=relaxed/relaxed;
 d=iol.unh.edu; s=unh-iol; t=1715690458; x=1716295258; darn=dpdk.org;
 h=references:in-reply-to:cc:to:from:subject:message-id:date:from:to
 :cc:subject:date:message-id:reply-to;
 bh=LanbS8Eo6SYKaB4hXwm8PDsmcjnLhBkVyfWzjRFeoCM=;
 b=eryfJOT5oBeUIGoID4FBDaNG1ehJgpObK5+4LP/AXztcqRh0wBp2eVtIpKJSh+8FZU
 wm5AzqUKc/vbhfV/D6+TVviYETCnwQF1GxVi8mLl3lsLagQMVplsV6QSKwffFGODoUTD
 ACVPQNYl67KvVmIZYvrNis5Jd/bux1vtDSs3U=
X-Google-DKIM-Signature: v=1; a=rsa-sha256; c=relaxed/relaxed;
 d=1e100.net; s=20230601; t=1715690458; x=1716295258;
 h=references:in-reply-to:cc:to:from:subject:message-id:date
 :x-gm-message-state:from:to:cc:subject:date:message-id:reply-to;
 bh=LanbS8Eo6SYKaB4hXwm8PDsmcjnLhBkVyfWzjRFeoCM=;
 b=gNDzpoxnVsrpGKJvStd5VF0NWpJOjsd3HgYu20R9mIJT1K+CECq3WZV/RRNSMY1LYT
 w5Xa8DkTkO76bt12jZcgagMcoKFpt+4cnMalQHTkRIJ0aIKP7qipIMv51LCJPsgNyxTf
 BXeDHc8vvKbu6dGlHGJStDnDy2WyNYnV3XbWo0zluzjCwYRK5hm8oykKqAk52T8WWpJ7
 R88dzl2VWqpcQ0Mz4DfZ9yJGQWXweaz9Xy+VOVXqdL7pDBPRkq489rgOiQ0OFd4yP+u2
 vvlZ9deyD1dwnxZxGp2hdIiuDSDLFVrDJIIFJxzIJfWz9t+EoPbGMKeN/hpc1mPpYNnc
 w9Pw==
X-Gm-Message-State: AOJu0Yw9poKel1m8UDFbZ9w33UvEc6pojBmD9NpteqqCScLskSLp82n5
 RHvGZEGTnB6o+sSVjlhrYpa9pm6l05T9F1rjhx2+HkNoKGyWUzVv0MwxrboMCQEaZ8Ru1JKFMOT
 Mvr/VX3e4KsW73xNpkAHBSuvIRH7hILC5w+AFmyCHJC3f7Zwr7N6WW99u
X-Google-Smtp-Source: AGHT+IGswKEf4pyjtMDaRyneeEffkRppFIERaVvgmJNVv9Cu0b7cS1+nxgxzWgM2knI1XieGPnF/Pq2Rs4G2
X-Received: by 2002:a05:6a00:1494:b0:6ed:21d5:fc2c with SMTP id
 d2e1a72fcca58-6f4e02f641fmr16854012b3a.26.1715690458284; 
 Tue, 14 May 2024 05:40:58 -0700 (PDT)
Received: from postal.iol.unh.edu (postal.iol.unh.edu.
 [2606:4100:3880:1234::84]) by smtp-relay.gmail.com with ESMTPS id
 d2e1a72fcca58-6f4d2aabb45sm648770b3a.3.2024.05.14.05.40.58
 (version=TLS1_2 cipher=ECDHE-ECDSA-AES128-GCM-SHA256 bits=128/128);
 Tue, 14 May 2024 05:40:58 -0700 (PDT)
X-Relaying-Domain: iol.unh.edu
Date: Tue, 14 May 2024 05:40:58 -0700 (PDT)
Message-ID: <66435bda.050a0220.9b9fc.3bcfSMTPIN_ADDED_MISSING@mx.google.com>
Received: from [172.21.0.6] (unknown [172.18.0.240])
 by postal.iol.unh.edu (Postfix) with ESMTP id 3F2DE60524C7;
 Tue, 14 May 2024 08:40:57 -0400 (EDT)
Subject: |SUCCESS| pw140054-140055 [PATCH] [v2,2/2] dts: clean up config type
From: dpdklab@iol.unh.edu
To: Test Report <test-report@dpdk.org>
Cc: dpdk-test-reports@iol.unh.edu
In-Reply-To: <20240514113446.1948050-3-luca.vizzarro@arm.com>
References: <20240514113446.1948050-3-luca.vizzarro@arm.com>
Content-Type: text/plain
X-BeenThere: test-report@dpdk.org
X-Mailman-Version: 2.1.29
Precedence: list
List-Id: automatic DPDK test reports <test-report.dpdk.org>
List-Unsubscribe: <https://mails.dpdk.org/options/test-report>,
 <mailto:test-report-request@dpdk.org?subject=unsubscribe>
List-Archive: <http://mails.dpdk.org/archives/test-report/>
List-Post: <mailto:test-report@dpdk.org>
List-Help: <mailto:test-report-request@dpdk.org?subject=help>
List-Subscribe: <https://mails.dpdk.org/listinfo/test-report>,
 <mailto:test-report-request@dpdk.org?subject=subscribe>
Errors-To: test-report-bounces@dpdk.org

Test-Label: iol-compile-arm64-testing
Test-Status: SUCCESS
http://dpdk.org/patch/140055

_Testing PASS_

Submitter: Luca Vizzarro <luca.vizzarro@arm.com>
Date: Tuesday, May 14 2024 11:34:46 
DPDK git baseline: Repo:dpdk
  Branch: master
  CommitID:7e06c0de1952d3109a5b0c4779d7e7d8059c9d78

140054-140055 --> testing pass

Test environment and result as below:

+----------------------------------------+--------------------+
|              Environment               | dpdk_meson_compile |
+========================================+====================+
| Ubuntu 20.04 ARM SVE                   | PASS               |
+----------------------------------------+--------------------+
| Debian 12 with MUSDK                   | PASS               |
+----------------------------------------+--------------------+
| Fedora 37 (ARM)                        | PASS               |
+----------------------------------------+--------------------+
| Fedora 38 (ARM)                        | PASS               |
+----------------------------------------+--------------------+
| CentOS Stream 9 (ARM)                  | PASS               |
+----------------------------------------+--------------------+
| Ubuntu 20.04 (ARM)                     | PASS               |
+----------------------------------------+--------------------+
| Debian 12 (arm)                        | PASS               |
+----------------------------------------+--------------------+
| Fedora 39 (ARM)                        | PASS               |
+----------------------------------------+--------------------+
| Debian 11 (Buster) (ARM)               | PASS               |
+----------------------------------------+--------------------+
| Ubuntu 20.04 aarch32 GCC Cross Compile | PASS               |
+----------------------------------------+--------------------+


Ubuntu 20.04 ARM SVE
	Kernel: 5.4.0-167-generic
	Compiler: gcc (Ubuntu 10.5.0-1ubuntu1~20.04) 10.5.0

Debian 12 with MUSDK
	Kernel: Container Host Kernel
	Compiler: gcc 12.2.0

Fedora 37 (ARM)
	Kernel: Depends on container host
	Compiler: gcc 12.3.1

Fedora 38 (ARM)
	Kernel: Depends on container host
	Compiler: gcc 13.2.1

CentOS Stream 9 (ARM)
	Kernel: Container Host Kernel
	Compiler: gcc 11.4.1

Ubuntu 20.04 (ARM)
	Kernel: Container Host Kernel
	Compiler: gcc 9.4.0

Debian 12 (arm)
	Kernel: Container Host Kernel
	Compiler: gcc 12.2.0

Fedora 39 (ARM)
	Kernel: Depends on container host
	Compiler: gcc 13.2.1

Debian 11 (Buster) (ARM)
	Kernel: Container Host Kernel
	Compiler: gcc 10.2.1

Ubuntu 20.04 aarch32 GCC Cross Compile
	Kernel: 5.4.0-167-generic
	Compiler: gcc 9.4.0

To view detailed results, visit:
https://lab.dpdk.org/results/dashboard/patchsets/29953/

UNH-IOL DPDK Community Lab

To manage your email subscriptions, visit: 
https://lab.dpdk.org/results/dashboard/preferences/subscriptions/