From mboxrd@z Thu Jan  1 00:00:00 1970
Return-Path: <test-report-bounces@dpdk.org>
Received: from mails.dpdk.org (mails.dpdk.org [217.70.189.124])
	by inbox.dpdk.org (Postfix) with ESMTP id 012564402B
	for <public@inbox.dpdk.org>; Tue, 14 May 2024 14:50:09 +0200 (CEST)
Received: from mails.dpdk.org (localhost [127.0.0.1])
	by mails.dpdk.org (Postfix) with ESMTP id D66AA402EC;
	Tue, 14 May 2024 14:50:09 +0200 (CEST)
Received: from mail-il1-f226.google.com (mail-il1-f226.google.com
 [209.85.166.226])
 by mails.dpdk.org (Postfix) with ESMTP id 52DD440156
 for <test-report@dpdk.org>; Tue, 14 May 2024 14:50:09 +0200 (CEST)
Received: by mail-il1-f226.google.com with SMTP id
 e9e14a558f8ab-36d93568a58so9300585ab.3
 for <test-report@dpdk.org>; Tue, 14 May 2024 05:50:09 -0700 (PDT)
DKIM-Signature: v=1; a=rsa-sha256; c=relaxed/relaxed;
 d=iol.unh.edu; s=unh-iol; t=1715691008; x=1716295808; darn=dpdk.org;
 h=references:in-reply-to:cc:to:from:subject:message-id:date:from:to
 :cc:subject:date:message-id:reply-to;
 bh=32B8sJnpEbP2bWmUh2vcHuDztgYdby31LDsDxAkn60Y=;
 b=NtCgUTmp5ZGbVOams5LtvtHzTK48+3p8//c+ZNbNpOGQQucDg3fCoF9TqdgJta9qFW
 1Agc0CIsYJD2bJySigfNsmHLx/Kkr38eLc9XYlBI51v2WBfBVUIOwXDBIOe06MBF+zE/
 Tg+mC3raNmF8Rajw6JpPhZLXdHVFFsKsr4H2I=
X-Google-DKIM-Signature: v=1; a=rsa-sha256; c=relaxed/relaxed;
 d=1e100.net; s=20230601; t=1715691008; x=1716295808;
 h=references:in-reply-to:cc:to:from:subject:message-id:date
 :x-gm-message-state:from:to:cc:subject:date:message-id:reply-to;
 bh=32B8sJnpEbP2bWmUh2vcHuDztgYdby31LDsDxAkn60Y=;
 b=HkNJkDfe8CRx6WvbDZ8N2F5h62aBiU+MbDiphUP9HWNKwzSRBKNubzT7+vceRK283O
 wsuDsoOXihNWiFzc2Ru3u+VSX2B4Vmr+X/3dwoifDA7iOSSPgwWMJlRYtsEXRDC3o/bM
 spc+LREjT+p+laivps2bwW8EpIXVhoTRr+uprQ3AKpcBt02khDRM9uSJ53Vq5fGcpXdj
 KZgFvP55kwI/oCEh3kVfvSrcBWY/kC5tzSJSAdJIltxmKA4IRrLNkwUTb+yHqKsj08mu
 Yh+c64PwGchztEY2ToZ2yQUIrGQ4oyIAlgZdMaYBv8fFrP68qjafwBHkMMos3S4t0mcd
 WVvg==
X-Gm-Message-State: AOJu0YwO981h8yTl0DOOEYY3QKc3CmoWm+ju0exeq5zB3hgA3d6C2NMC
 WEICvzhzYOGEt3malRROIOL+fRWfNq/qIbF8OjfYGJiLNc5HVZxlnInzhli7nJ+ggn8mfqlx/L6
 58Cbq99AhzcnBatQEJiQ0xW1nkdKIih6Qc+O5LG97
X-Google-Smtp-Source: AGHT+IEZtmaO6vbQzfeExq4dbq1eN46xEOMXH8ACSKtp59k17omZO0peq59WCfZYj1AZGZJGoDYBmmz8pJzB
X-Received: by 2002:a05:6e02:1886:b0:36a:1725:e123 with SMTP id
 e9e14a558f8ab-36cc14913bfmr160576825ab.14.1715691008707; 
 Tue, 14 May 2024 05:50:08 -0700 (PDT)
Received: from postal.iol.unh.edu (postal.iol.unh.edu. [132.177.123.84])
 by smtp-relay.gmail.com with ESMTPS id
 e9e14a558f8ab-36d4103f3d8sm2283085ab.7.2024.05.14.05.50.08
 (version=TLS1_2 cipher=ECDHE-ECDSA-AES128-GCM-SHA256 bits=128/128);
 Tue, 14 May 2024 05:50:08 -0700 (PDT)
X-Relaying-Domain: iol.unh.edu
Date: Tue, 14 May 2024 05:50:08 -0700 (PDT)
Message-ID: <66435e00.050a0220.4dde9.ccc7SMTPIN_ADDED_MISSING@mx.google.com>
Received: from [172.21.0.6] (unknown [172.18.0.240])
 by postal.iol.unh.edu (Postfix) with ESMTP id DB9B860524C7;
 Tue, 14 May 2024 08:50:07 -0400 (EDT)
Subject: |SUCCESS| pw140054-140055 [PATCH] [v2,2/2] dts: clean up config type
From: dpdklab@iol.unh.edu
To: Test Report <test-report@dpdk.org>
Cc: dpdk-test-reports@iol.unh.edu
In-Reply-To: <20240514113446.1948050-3-luca.vizzarro@arm.com>
References: <20240514113446.1948050-3-luca.vizzarro@arm.com>
Content-Type: text/plain
X-BeenThere: test-report@dpdk.org
X-Mailman-Version: 2.1.29
Precedence: list
List-Id: automatic DPDK test reports <test-report.dpdk.org>
List-Unsubscribe: <https://mails.dpdk.org/options/test-report>,
 <mailto:test-report-request@dpdk.org?subject=unsubscribe>
List-Archive: <http://mails.dpdk.org/archives/test-report/>
List-Post: <mailto:test-report@dpdk.org>
List-Help: <mailto:test-report-request@dpdk.org?subject=help>
List-Subscribe: <https://mails.dpdk.org/listinfo/test-report>,
 <mailto:test-report-request@dpdk.org?subject=subscribe>
Errors-To: test-report-bounces@dpdk.org

Test-Label: iol-unit-amd64-testing
Test-Status: SUCCESS
http://dpdk.org/patch/140055

_Testing PASS_

Submitter: Luca Vizzarro <luca.vizzarro@arm.com>
Date: Tuesday, May 14 2024 11:34:46 
DPDK git baseline: Repo:dpdk
  Branch: master
  CommitID:7e06c0de1952d3109a5b0c4779d7e7d8059c9d78

140054-140055 --> testing pass

Test environment and result as below:

+---------------------+----------------+
|     Environment     | dpdk_unit_test |
+=====================+================+
| Windows Server 2019 | PASS           |
+---------------------+----------------+
| CentOS Stream 9     | PASS           |
+---------------------+----------------+
| CentOS Stream 8     | PASS           |
+---------------------+----------------+
| Debian Bullseye     | PASS           |
+---------------------+----------------+
| Fedora 37           | PASS           |
+---------------------+----------------+
| Fedora 38           | PASS           |
+---------------------+----------------+
| Windows Server 2022 | PASS           |
+---------------------+----------------+
| Fedora 39           | PASS           |
+---------------------+----------------+


Windows Server 2019
	Kernel: 10.0.17763
	Compiler: clang 14.0 and gcc 8.1.0 (MinGW)

CentOS Stream 9
	Kernel: 5.4.0-167-generic
	Compiler: gcc 11.4.1 20230605

CentOS Stream 8
	Kernel: 5.4.0-167-generic
	Compiler: gcc 8.5.0 20210514

Debian Bullseye
	Kernel: 5.4.0-167-generic
	Compiler: gcc 10.2.1-6

Fedora 37
	Kernel: Depends on container host system
	Compiler: gcc 12.3.1

Fedora 38
	Kernel: Depends on container host
	Compiler: gcc 13.2.1

Windows Server 2022
	Kernel: 10.0.20348.2031
	Compiler: clang 15.0.7, gcc 8.1.0 (MinGW), and MSVC VS 17.9

Fedora 39
	Kernel: Depends on container host
	Compiler: gcc 13.2.1

To view detailed results, visit:
https://lab.dpdk.org/results/dashboard/patchsets/29953/

UNH-IOL DPDK Community Lab

To manage your email subscriptions, visit: 
https://lab.dpdk.org/results/dashboard/preferences/subscriptions/