From mboxrd@z Thu Jan  1 00:00:00 1970
Return-Path: <test-report-bounces@dpdk.org>
Received: from mails.dpdk.org (mails.dpdk.org [217.70.189.124])
	by inbox.dpdk.org (Postfix) with ESMTP id CC0AF4402E
	for <public@inbox.dpdk.org>; Tue, 14 May 2024 15:33:42 +0200 (CEST)
Received: from mails.dpdk.org (localhost [127.0.0.1])
	by mails.dpdk.org (Postfix) with ESMTP id C724D402EC;
	Tue, 14 May 2024 15:33:42 +0200 (CEST)
Received: from mail-pg1-f227.google.com (mail-pg1-f227.google.com
 [209.85.215.227])
 by mails.dpdk.org (Postfix) with ESMTP id 701F340156
 for <test-report@dpdk.org>; Tue, 14 May 2024 15:33:41 +0200 (CEST)
Received: by mail-pg1-f227.google.com with SMTP id
 41be03b00d2f7-61eba9f9c5dso4199956a12.0
 for <test-report@dpdk.org>; Tue, 14 May 2024 06:33:41 -0700 (PDT)
DKIM-Signature: v=1; a=rsa-sha256; c=relaxed/relaxed;
 d=iol.unh.edu; s=unh-iol; t=1715693620; x=1716298420; darn=dpdk.org;
 h=references:in-reply-to:cc:to:from:subject:message-id:date:from:to
 :cc:subject:date:message-id:reply-to;
 bh=Qo9Ve/F8Y9DOPrchU0lfXhla3As6GJ9AOOaOqQWWVS8=;
 b=WEqjSSpcLjtrwa1654d+Pm4SYFe5Y3YJsFUXz7Nu++2iO4bhcnqcY6NXMKAfXp5eWF
 VwYO2iF2Up57JOLecaARsGvKriNbh6MzbGVZsyeDhnQb4KZSCXJoatd7aInkdSmWl320
 m91uZzyTRP0FZXXL5yoKuQu/hPTQVj5sLyrnI=
X-Google-DKIM-Signature: v=1; a=rsa-sha256; c=relaxed/relaxed;
 d=1e100.net; s=20230601; t=1715693620; x=1716298420;
 h=references:in-reply-to:cc:to:from:subject:message-id:date
 :x-gm-message-state:from:to:cc:subject:date:message-id:reply-to;
 bh=Qo9Ve/F8Y9DOPrchU0lfXhla3As6GJ9AOOaOqQWWVS8=;
 b=V9y95Uqf6ZLPxHpMiexB3OAdxAjgDYUIZ7Qe+W8tX5rv4DIGhiChoZVmtGHNBt+Pfb
 WUp/gmuJKs0e53a4Fmb8pmhou1YTWFzrkigzXQwbaDtVZr3l8s5ceSwlQLVFnK6HXfLN
 xZDlRxQe+JTX5cngbDh76K0g6rJQuy8m+SPjRxtBNNqYsVzGnd1B3uV+QO7y8pQtMR7i
 7558QbCrTtewgSQS/UzhlriFStC/jR9KDeh0thuj+6uU5P0Kp0ozgy2nckjNoc2l/qP5
 XzmBchqf8cWaH3mxY7trPFfxrOl8vVv1WBd+tZc0DXX30tmM54+pBKPOi0ktoeXaGB+C
 4flg==
X-Gm-Message-State: AOJu0Yzv2R75SnafQI7Ln4w6y8xUcJfANSaQ2/Nwo1OX72qngWuH0zCp
 2C5IVo32y7MBMtlYFFMej8r05f0twfmt+nQ8bkDVDJJd56uqbILgJvxB28+PDfQeLlcQBMHrGAp
 GjtychW+/KNJOPVmLy4bLYOjZ8jHM/DDrFPZyW5gG
X-Google-Smtp-Source: AGHT+IGQAnWoOBrNbKfFXYEeW4ZKwU+ciMOR3JFWnRZjAIHDfXmiLm+Y6bwARcpiVABtSWAm9HTqXtoJJDA4
X-Received: by 2002:a17:90a:bd0f:b0:2ae:7f27:82cd with SMTP id
 98e67ed59e1d1-2b6cc141d5cmr9635612a91.7.1715693620690; 
 Tue, 14 May 2024 06:33:40 -0700 (PDT)
Received: from postal.iol.unh.edu (postal.iol.unh.edu. [132.177.123.84])
 by smtp-relay.gmail.com with ESMTPS id
 98e67ed59e1d1-2b627cb4231sm820394a91.0.2024.05.14.06.33.40
 (version=TLS1_2 cipher=ECDHE-ECDSA-AES128-GCM-SHA256 bits=128/128);
 Tue, 14 May 2024 06:33:40 -0700 (PDT)
X-Relaying-Domain: iol.unh.edu
Date: Tue, 14 May 2024 06:33:40 -0700 (PDT)
Message-ID: <66436834.170a0220.4ee97.91a1SMTPIN_ADDED_MISSING@mx.google.com>
Received: from [172.17.0.3] (unknown [172.18.0.217])
 by postal.iol.unh.edu (Postfix) with ESMTP id CC5B5604A954;
 Tue, 14 May 2024 09:33:39 -0400 (EDT)
Subject: |SUCCESS| pw140054-140055 [PATCH] [v2,2/2] dts: clean up config type
From: dpdklab@iol.unh.edu
To: Test Report <test-report@dpdk.org>
Cc: dpdk-test-reports@iol.unh.edu
In-Reply-To: <20240514113446.1948050-3-luca.vizzarro@arm.com>
References: <20240514113446.1948050-3-luca.vizzarro@arm.com>
Content-Type: text/plain
X-BeenThere: test-report@dpdk.org
X-Mailman-Version: 2.1.29
Precedence: list
List-Id: automatic DPDK test reports <test-report.dpdk.org>
List-Unsubscribe: <https://mails.dpdk.org/options/test-report>,
 <mailto:test-report-request@dpdk.org?subject=unsubscribe>
List-Archive: <http://mails.dpdk.org/archives/test-report/>
List-Post: <mailto:test-report@dpdk.org>
List-Help: <mailto:test-report-request@dpdk.org?subject=help>
List-Subscribe: <https://mails.dpdk.org/listinfo/test-report>,
 <mailto:test-report-request@dpdk.org?subject=subscribe>
Errors-To: test-report-bounces@dpdk.org

Test-Label: iol-compile-arm64-testing
Test-Status: SUCCESS
http://dpdk.org/patch/140055

_Testing PASS_

Submitter: Luca Vizzarro <luca.vizzarro@arm.com>
Date: Tuesday, May 14 2024 11:34:46 
DPDK git baseline: Repo:dpdk
  Branch: master
  CommitID:7e06c0de1952d3109a5b0c4779d7e7d8059c9d78

140054-140055 --> testing pass

Test environment and result as below:

+----------------------------------------+--------------------+
|              Environment               | dpdk_meson_compile |
+========================================+====================+
| Ubuntu 20.04 ARM SVE                   | PASS               |
+----------------------------------------+--------------------+
| Debian 12 with MUSDK                   | PASS               |
+----------------------------------------+--------------------+
| Fedora 37 (ARM)                        | PASS               |
+----------------------------------------+--------------------+
| Fedora 38 (ARM)                        | PASS               |
+----------------------------------------+--------------------+
| CentOS Stream 9 (ARM)                  | PASS               |
+----------------------------------------+--------------------+
| Ubuntu 20.04 (ARM)                     | PASS               |
+----------------------------------------+--------------------+
| Debian 12 (arm)                        | PASS               |
+----------------------------------------+--------------------+
| Fedora 39 (ARM)                        | PASS               |
+----------------------------------------+--------------------+
| Debian 11 (Buster) (ARM)               | PASS               |
+----------------------------------------+--------------------+
| Ubuntu 20.04 aarch32 GCC Cross Compile | PASS               |
+----------------------------------------+--------------------+
| Ubuntu 20.04 ARM GCC Cross Compile     | PASS               |
+----------------------------------------+--------------------+
| Ubuntu 20.04 ARM Clang Cross Compile   | PASS               |
+----------------------------------------+--------------------+
| Fedora 39 (ARM Clang)                  | PASS               |
+----------------------------------------+--------------------+
| Fedora 38 (ARM Clang)                  | PASS               |
+----------------------------------------+--------------------+


Ubuntu 20.04 ARM SVE
	Kernel: 5.4.0-167-generic
	Compiler: gcc (Ubuntu 10.5.0-1ubuntu1~20.04) 10.5.0

Debian 12 with MUSDK
	Kernel: Container Host Kernel
	Compiler: gcc 12.2.0

Fedora 37 (ARM)
	Kernel: Depends on container host
	Compiler: gcc 12.3.1

Fedora 38 (ARM)
	Kernel: Depends on container host
	Compiler: gcc 13.2.1

CentOS Stream 9 (ARM)
	Kernel: Container Host Kernel
	Compiler: gcc 11.4.1

Ubuntu 20.04 (ARM)
	Kernel: Container Host Kernel
	Compiler: gcc 9.4.0

Debian 12 (arm)
	Kernel: Container Host Kernel
	Compiler: gcc 12.2.0

Fedora 39 (ARM)
	Kernel: Depends on container host
	Compiler: gcc 13.2.1

Debian 11 (Buster) (ARM)
	Kernel: Container Host Kernel
	Compiler: gcc 10.2.1

Ubuntu 20.04 aarch32 GCC Cross Compile
	Kernel: 5.4.0-167-generic
	Compiler: gcc 9.4.0

Ubuntu 20.04 ARM GCC Cross Compile
	Kernel: 5.4.0-167-generic
	Compiler: aarch64-linux-gnu-gcc (Ubuntu 9.4.0-1ubuntu1~20.04.2) 9.4.0

Ubuntu 20.04 ARM Clang Cross Compile
	Kernel: 5.4.0-72-generic
	Compiler: clang 10.0.0-4ubuntu1

Fedora 39 (ARM Clang)
	Kernel: Depends on container host
	Compiler: clang 17.0.6

Fedora 38 (ARM Clang)
	Kernel: Depends on container host
	Compiler: clang 16.0.6

To view detailed results, visit:
https://lab.dpdk.org/results/dashboard/patchsets/29953/

UNH-IOL DPDK Community Lab

To manage your email subscriptions, visit: 
https://lab.dpdk.org/results/dashboard/preferences/subscriptions/