From mboxrd@z Thu Jan  1 00:00:00 1970
Return-Path: <test-report-bounces@dpdk.org>
Received: from mails.dpdk.org (mails.dpdk.org [217.70.189.124])
	by inbox.dpdk.org (Postfix) with ESMTP id B2FE944024
	for <public@inbox.dpdk.org>; Tue, 14 May 2024 19:21:35 +0200 (CEST)
Received: from mails.dpdk.org (localhost [127.0.0.1])
	by mails.dpdk.org (Postfix) with ESMTP id AF184402D1;
	Tue, 14 May 2024 19:21:35 +0200 (CEST)
Received: from mail-io1-f98.google.com (mail-io1-f98.google.com
 [209.85.166.98]) by mails.dpdk.org (Postfix) with ESMTP id 6B34D402C2
 for <test-report@dpdk.org>; Tue, 14 May 2024 19:21:34 +0200 (CEST)
Received: by mail-io1-f98.google.com with SMTP id
 ca18e2360f4ac-7e1bf0e9ab5so195971139f.3
 for <test-report@dpdk.org>; Tue, 14 May 2024 10:21:34 -0700 (PDT)
DKIM-Signature: v=1; a=rsa-sha256; c=relaxed/relaxed;
 d=iol.unh.edu; s=unh-iol; t=1715707294; x=1716312094; darn=dpdk.org;
 h=references:in-reply-to:cc:to:from:subject:message-id:date:from:to
 :cc:subject:date:message-id:reply-to;
 bh=Ha/zhyco4cTFMr2ZIOOmYAcXS6vtqwaWplOE6xVbhsw=;
 b=i9+h1BkI5ZBD/D9i3mYHyofH3OxmM0/0ev+jlt+ak4C3pliN2KvpU0pEnTU4bY4+sU
 InCgpcxI0xtRBqoo1bGuBbpu6v2hgFRERIdbVO4gp+g53gqsbUMHyBEgblnrYiaHk3yb
 aE5hirkjbgKb0b30qtXuCjTsb9diZJ8i0Lsdc=
X-Google-DKIM-Signature: v=1; a=rsa-sha256; c=relaxed/relaxed;
 d=1e100.net; s=20230601; t=1715707294; x=1716312094;
 h=references:in-reply-to:cc:to:from:subject:message-id:date
 :x-gm-message-state:from:to:cc:subject:date:message-id:reply-to;
 bh=Ha/zhyco4cTFMr2ZIOOmYAcXS6vtqwaWplOE6xVbhsw=;
 b=CSPvcGMfojtNHvyoS1y0eMYYVdxmSA6kBJhQk2iPceIg0oZ+4eGpAHb9eGuRbDF0BM
 Cw9nlZytrUEzUktEN8vJdU3t1daI+Yy6mASP4bkwyDNoW+lqIHX6MKGhjTZokHGMS36P
 UvsUMa2y+XiZj58bL8xOeRqQ4xhaLbnpAfEn9+mLxTuuwyirOGKy5PpaDMMKSiXP27/w
 /mCT7cg826vAMuURKJ2Que11v4DDP19ZYJCGjgOL/f2NUOvFOq6etUCHFIlmOuZAhuOM
 A/zBe9b/+MBnLz+ll+P/Glwjl9VSKezxrVhpsfMiQS5rLICYP/8zq0WYDUYqEF6zp+Fl
 cujg==
X-Gm-Message-State: AOJu0Yz27OqPekI3VwD5xQTnk6aNQy4BgH4BDRHjztt3CBp+rTkVyyLg
 wnrEn/XOVpjMY/kALSGMX42HQyd/4t+mIOPbTXGZviXo2Juax2Ew3HoA1T0vKRT3Q28xcNAgeCj
 B+J0z+BB9/x8KL/WxJCr0zTZEtZbsaz/UINJG9J/dIQHN/A9Bi2gfHYMI
X-Google-Smtp-Source: AGHT+IEap9Y15KWc2s9uA7zwulOVecO73fXR4w7e8qjVO/z/RPDBj+Czf6nvKJgonRle15GZHnYTAHiM1OBf
X-Received: by 2002:a6b:5112:0:b0:7e1:7ce6:6e42 with SMTP id
 ca18e2360f4ac-7e1b5219e3cmr1469321139f.18.1715707293748; 
 Tue, 14 May 2024 10:21:33 -0700 (PDT)
Received: from postal.iol.unh.edu (postal.iol.unh.edu.
 [2606:4100:3880:1234::84]) by smtp-relay.gmail.com with ESMTPS id
 ca18e2360f4ac-7e1d42fd219sm27146539f.10.2024.05.14.10.21.33
 (version=TLS1_2 cipher=ECDHE-ECDSA-AES128-GCM-SHA256 bits=128/128);
 Tue, 14 May 2024 10:21:33 -0700 (PDT)
X-Relaying-Domain: iol.unh.edu
Date: Tue, 14 May 2024 10:21:33 -0700 (PDT)
Message-ID: <66439d9d.050a0220.de9b9.0204SMTPIN_ADDED_MISSING@mx.google.com>
Received: from [172.17.0.2] (unknown [172.18.0.217])
 by postal.iol.unh.edu (Postfix) with ESMTP id 3BA05605C373;
 Tue, 14 May 2024 13:21:33 -0400 (EDT)
Subject: |SUCCESS| pw140063-140065 [PATCH] [v5,3/3] dts: store stderr in Remo
From: dpdklab@iol.unh.edu
To: Test Report <test-report@dpdk.org>
Cc: dpdk-test-reports@iol.unh.edu
In-Reply-To: <20240514121023.1957025-4-luca.vizzarro@arm.com>
References: <20240514121023.1957025-4-luca.vizzarro@arm.com>
Content-Type: text/plain
X-BeenThere: test-report@dpdk.org
X-Mailman-Version: 2.1.29
Precedence: list
List-Id: automatic DPDK test reports <test-report.dpdk.org>
List-Unsubscribe: <https://mails.dpdk.org/options/test-report>,
 <mailto:test-report-request@dpdk.org?subject=unsubscribe>
List-Archive: <http://mails.dpdk.org/archives/test-report/>
List-Post: <mailto:test-report@dpdk.org>
List-Help: <mailto:test-report-request@dpdk.org?subject=help>
List-Subscribe: <https://mails.dpdk.org/listinfo/test-report>,
 <mailto:test-report-request@dpdk.org?subject=subscribe>
Errors-To: test-report-bounces@dpdk.org

Test-Label: iol-unit-amd64-testing
Test-Status: SUCCESS
http://dpdk.org/patch/140065

_Testing PASS_

Submitter: Luca Vizzarro <luca.vizzarro@arm.com>
Date: Tuesday, May 14 2024 12:10:23 
DPDK git baseline: Repo:dpdk
  Branch: master
  CommitID:7e06c0de1952d3109a5b0c4779d7e7d8059c9d78

140063-140065 --> testing pass

Test environment and result as below:

+---------------------+----------------+
|     Environment     | dpdk_unit_test |
+=====================+================+
| CentOS Stream 8     | PASS           |
+---------------------+----------------+
| CentOS Stream 9     | PASS           |
+---------------------+----------------+
| Windows Server 2019 | PASS           |
+---------------------+----------------+
| Fedora 37           | PASS           |
+---------------------+----------------+
| Debian Bullseye     | PASS           |
+---------------------+----------------+
| Fedora 38           | PASS           |
+---------------------+----------------+
| Windows Server 2022 | PASS           |
+---------------------+----------------+
| Fedora 39           | PASS           |
+---------------------+----------------+
| Debian 12           | PASS           |
+---------------------+----------------+
| RHEL8               | PASS           |
+---------------------+----------------+
| openSUSE Leap 15    | PASS           |
+---------------------+----------------+
| Ubuntu 20.04        | PASS           |
+---------------------+----------------+
| Ubuntu 22.04        | PASS           |
+---------------------+----------------+


CentOS Stream 8
	Kernel: 5.4.0-167-generic
	Compiler: gcc 8.5.0 20210514

CentOS Stream 9
	Kernel: 5.4.0-167-generic
	Compiler: gcc 11.4.1 20230605

Windows Server 2019
	Kernel: 10.0.17763
	Compiler: clang 14.0 and gcc 8.1.0 (MinGW)

Fedora 37
	Kernel: Depends on container host system
	Compiler: gcc 12.3.1

Debian Bullseye
	Kernel: 5.4.0-167-generic
	Compiler: gcc 10.2.1-6

Fedora 38
	Kernel: Depends on container host
	Compiler: gcc 13.2.1

Windows Server 2022
	Kernel: 10.0.20348.2031
	Compiler: clang 15.0.7, gcc 8.1.0 (MinGW), and MSVC VS 17.9

Fedora 39
	Kernel: Depends on container host
	Compiler: clang 17.0.6

Debian 12
	Kernel: Container Host Kernel
	Compiler: gcc 10.2.1

RHEL8
	Kernel: 5.4.0-167-generic
	Compiler: gcc 8.5.0 20210514 (Red Hat 8.5.0-20)

openSUSE Leap 15
	Kernel: 5.4.0-167-generic
	Compiler: gcc 7.5.0

Ubuntu 20.04
	Kernel: 5.4.0-167-generic
	Compiler: gcc 9.4.0-1ubuntu1~20.04.1

Ubuntu 22.04
	Kernel: 5.4.0-167-generic
	Compiler: gcc 11.4.0

To view detailed results, visit:
https://lab.dpdk.org/results/dashboard/patchsets/29957/

UNH-IOL DPDK Community Lab

To manage your email subscriptions, visit: 
https://lab.dpdk.org/results/dashboard/preferences/subscriptions/