From mboxrd@z Thu Jan  1 00:00:00 1970
Return-Path: <test-report-bounces@dpdk.org>
Received: from mails.dpdk.org (mails.dpdk.org [217.70.189.124])
	by inbox.dpdk.org (Postfix) with ESMTP id 990B244021
	for <public@inbox.dpdk.org>; Tue, 14 May 2024 21:37:44 +0200 (CEST)
Received: from mails.dpdk.org (localhost [127.0.0.1])
	by mails.dpdk.org (Postfix) with ESMTP id 71DE8402C2;
	Tue, 14 May 2024 21:37:44 +0200 (CEST)
Received: from mail-il1-f227.google.com (mail-il1-f227.google.com
 [209.85.166.227])
 by mails.dpdk.org (Postfix) with ESMTP id 4698940156
 for <test-report@dpdk.org>; Tue, 14 May 2024 21:37:43 +0200 (CEST)
Received: by mail-il1-f227.google.com with SMTP id
 e9e14a558f8ab-36c809db200so26413665ab.3
 for <test-report@dpdk.org>; Tue, 14 May 2024 12:37:43 -0700 (PDT)
DKIM-Signature: v=1; a=rsa-sha256; c=relaxed/relaxed;
 d=iol.unh.edu; s=unh-iol; t=1715715462; x=1716320262; darn=dpdk.org;
 h=references:in-reply-to:cc:to:from:subject:message-id:date:from:to
 :cc:subject:date:message-id:reply-to;
 bh=+mFwb5tp56m2SSUgCoYJI840HZXj3q4K7M64GOd42rc=;
 b=WucLcmrCtW1UC35ULvJwUtayHgvy6fQa6hPsh58IYANGNipXGBuZv0MZ/oqex1EZak
 qA5k6PXayRXvdDzoh77zkarRkwVjHXwQoLQQs2x70hQf01w5azbMT2yQU8Ao+DtCUdZe
 AFEqLUYzcNbeAC6pIUCyBp9VpqKISwLS75rVM=
X-Google-DKIM-Signature: v=1; a=rsa-sha256; c=relaxed/relaxed;
 d=1e100.net; s=20230601; t=1715715462; x=1716320262;
 h=references:in-reply-to:cc:to:from:subject:message-id:date
 :x-gm-message-state:from:to:cc:subject:date:message-id:reply-to;
 bh=+mFwb5tp56m2SSUgCoYJI840HZXj3q4K7M64GOd42rc=;
 b=srJ2sTPwLWj7DZlu6NP0ESzP/xNiimiJEPfJvNWZI3SreeVGKzhMC5s3nx4YowJuyS
 MH1yfdPm9HYiEmINPos9cjx6jBu6e5Q9OHSsgoYuU51zzIg7s/WW3ZVb0Fh2+A38CjKR
 eEmyo8+/Zx7Pym172Vhpl2uwSoKwtyC4ZQzW/6QjPKjNstTL2OLNYZztOsK+YoMfRgDT
 GHHIn/lJrEFnDsHNIz3IIr3tEaDLdKXBA0hqTf6xHZaPQLJodzXMDDNDbSQEFl4TscLB
 oz3ArEiAG4MzcoVRgsoE5nH/6APg/juS4FO+3lyx98EAVYNbSFU6bJ8rUJvOA9XreSUb
 6CnA==
X-Gm-Message-State: AOJu0YwtHPvMxe7KxxVy16Niugn3kYkCxjRX6HJ7bx4s1q1dKrSt+c4L
 7lCq2RKYfIN4WIN1bsOER3ui87Mbt4j9fzcfsRtyan2sjZW1c9P1ZtEW3JbW91guZaVYF2iCQXC
 n/c/OQFxNV0I59k1Smubqbma4kKCrGZuYC/4cjnb9Om9giOtam9u2npmi
X-Google-Smtp-Source: AGHT+IH0iY1dAhUzhAhRfVVr30ogUYgpcIy4SERrkg9Z/biCo4Sdc412BDemqcWsxLiCkS1oSBhn4elM2Fn0
X-Received: by 2002:a92:cda1:0:b0:36c:546c:ccf6 with SMTP id
 e9e14a558f8ab-36cc148e3cfmr173927285ab.16.1715715462631; 
 Tue, 14 May 2024 12:37:42 -0700 (PDT)
Received: from postal.iol.unh.edu (postal.iol.unh.edu.
 [2606:4100:3880:1234::84]) by smtp-relay.gmail.com with ESMTPS id
 e9e14a558f8ab-36cb9d4392csm5535565ab.28.2024.05.14.12.37.42
 (version=TLS1_2 cipher=ECDHE-ECDSA-AES128-GCM-SHA256 bits=128/128);
 Tue, 14 May 2024 12:37:42 -0700 (PDT)
X-Relaying-Domain: iol.unh.edu
Date: Tue, 14 May 2024 12:37:42 -0700 (PDT)
Message-ID: <6643bd86.920a0220.b4a5.2dcdSMTPIN_ADDED_MISSING@mx.google.com>
Received: from [172.17.0.2] (unknown [172.18.0.217])
 by postal.iol.unh.edu (Postfix) with ESMTP id 3C643605C373;
 Tue, 14 May 2024 15:37:42 -0400 (EDT)
Subject: |SUCCESS| pw140063-140065 [PATCH] [v5,3/3] dts: store stderr in Remo
From: dpdklab@iol.unh.edu
To: Test Report <test-report@dpdk.org>
Cc: dpdk-test-reports@iol.unh.edu
In-Reply-To: <20240514121023.1957025-4-luca.vizzarro@arm.com>
References: <20240514121023.1957025-4-luca.vizzarro@arm.com>
Content-Type: text/plain
X-BeenThere: test-report@dpdk.org
X-Mailman-Version: 2.1.29
Precedence: list
List-Id: automatic DPDK test reports <test-report.dpdk.org>
List-Unsubscribe: <https://mails.dpdk.org/options/test-report>,
 <mailto:test-report-request@dpdk.org?subject=unsubscribe>
List-Archive: <http://mails.dpdk.org/archives/test-report/>
List-Post: <mailto:test-report@dpdk.org>
List-Help: <mailto:test-report-request@dpdk.org?subject=help>
List-Subscribe: <https://mails.dpdk.org/listinfo/test-report>,
 <mailto:test-report-request@dpdk.org?subject=subscribe>
Errors-To: test-report-bounces@dpdk.org

Test-Label: iol-compile-arm64-testing
Test-Status: SUCCESS
http://dpdk.org/patch/140065

_Testing PASS_

Submitter: Luca Vizzarro <luca.vizzarro@arm.com>
Date: Tuesday, May 14 2024 12:10:23 
DPDK git baseline: Repo:dpdk
  Branch: master
  CommitID:7e06c0de1952d3109a5b0c4779d7e7d8059c9d78

140063-140065 --> testing pass

Test environment and result as below:

+----------------------------------------+--------------------+
|              Environment               | dpdk_meson_compile |
+========================================+====================+
| Ubuntu 20.04 ARM SVE                   | PASS               |
+----------------------------------------+--------------------+
| Debian 12 with MUSDK                   | PASS               |
+----------------------------------------+--------------------+
| Fedora 37 (ARM)                        | PASS               |
+----------------------------------------+--------------------+
| Fedora 39 (ARM)                        | PASS               |
+----------------------------------------+--------------------+
| Debian 12 (arm)                        | PASS               |
+----------------------------------------+--------------------+
| CentOS Stream 9 (ARM)                  | PASS               |
+----------------------------------------+--------------------+
| Fedora 38 (ARM)                        | PASS               |
+----------------------------------------+--------------------+
| Ubuntu 20.04 (ARM)                     | PASS               |
+----------------------------------------+--------------------+
| Debian 11 (Buster) (ARM)               | PASS               |
+----------------------------------------+--------------------+
| Ubuntu 20.04 aarch32 GCC Cross Compile | PASS               |
+----------------------------------------+--------------------+
| Ubuntu 20.04 ARM Clang Cross Compile   | PASS               |
+----------------------------------------+--------------------+
| Ubuntu 20.04 ARM GCC Cross Compile     | PASS               |
+----------------------------------------+--------------------+
| Fedora 39 (ARM Clang)                  | PASS               |
+----------------------------------------+--------------------+
| Fedora 38 (ARM Clang)                  | PASS               |
+----------------------------------------+--------------------+


Ubuntu 20.04 ARM SVE
	Kernel: 5.4.0-167-generic
	Compiler: gcc (Ubuntu 10.5.0-1ubuntu1~20.04) 10.5.0

Debian 12 with MUSDK
	Kernel: Container Host Kernel
	Compiler: gcc 12.2.0

Fedora 37 (ARM)
	Kernel: Depends on container host
	Compiler: gcc 12.3.1

Fedora 39 (ARM)
	Kernel: Depends on container host
	Compiler: gcc 13.2.1

Debian 12 (arm)
	Kernel: Container Host Kernel
	Compiler: gcc 12.2.0

CentOS Stream 9 (ARM)
	Kernel: Container Host Kernel
	Compiler: gcc 11.4.1

Fedora 38 (ARM)
	Kernel: Depends on container host
	Compiler: gcc 13.2.1

Ubuntu 20.04 (ARM)
	Kernel: Container Host Kernel
	Compiler: gcc 9.4.0

Debian 11 (Buster) (ARM)
	Kernel: Container Host Kernel
	Compiler: gcc 10.2.1

Ubuntu 20.04 aarch32 GCC Cross Compile
	Kernel: 5.4.0-167-generic
	Compiler: gcc 9.4.0

Ubuntu 20.04 ARM Clang Cross Compile
	Kernel: 5.4.0-72-generic
	Compiler: clang 10.0.0-4ubuntu1

Ubuntu 20.04 ARM GCC Cross Compile
	Kernel: 5.4.0-167-generic
	Compiler: aarch64-linux-gnu-gcc (Ubuntu 9.4.0-1ubuntu1~20.04.2) 9.4.0

Fedora 39 (ARM Clang)
	Kernel: Depends on container host
	Compiler: clang 17.0.6

Fedora 38 (ARM Clang)
	Kernel: Depends on container host
	Compiler: clang 16.0.6

To view detailed results, visit:
https://lab.dpdk.org/results/dashboard/patchsets/29957/

UNH-IOL DPDK Community Lab

To manage your email subscriptions, visit: 
https://lab.dpdk.org/results/dashboard/preferences/subscriptions/