From mboxrd@z Thu Jan  1 00:00:00 1970
Return-Path: <test-report-bounces@dpdk.org>
Received: from mails.dpdk.org (mails.dpdk.org [217.70.189.124])
	by inbox.dpdk.org (Postfix) with ESMTP id A38054402F
	for <public@inbox.dpdk.org>; Wed, 15 May 2024 00:37:23 +0200 (CEST)
Received: from mails.dpdk.org (localhost [127.0.0.1])
	by mails.dpdk.org (Postfix) with ESMTP id 9D7644029E;
	Wed, 15 May 2024 00:37:23 +0200 (CEST)
Received: from mail-yw1-f228.google.com (mail-yw1-f228.google.com
 [209.85.128.228])
 by mails.dpdk.org (Postfix) with ESMTP id 1B6704025C
 for <test-report@dpdk.org>; Wed, 15 May 2024 00:37:22 +0200 (CEST)
Received: by mail-yw1-f228.google.com with SMTP id
 00721157ae682-61be674f5d1so66855897b3.2
 for <test-report@dpdk.org>; Tue, 14 May 2024 15:37:22 -0700 (PDT)
DKIM-Signature: v=1; a=rsa-sha256; c=relaxed/relaxed;
 d=iol.unh.edu; s=unh-iol; t=1715726241; x=1716331041; darn=dpdk.org;
 h=references:in-reply-to:cc:to:from:subject:message-id:date:from:to
 :cc:subject:date:message-id:reply-to;
 bh=lY1IADpLeUg/4fs5PmS9VThwvDtD0CgLQUuw3A2oOF0=;
 b=jYZqu5+iyofwZCmZ+Y3Y1dw+3Lj93a8tMSWN7CgC05SUYbswl4EhVDlksmHGMuxzqt
 IXtnSiu+IYP6jbxoDSvFORgLOP/2nmqJQDQD/3lgUTPpzOBkftxB7prITfIUdE6vJOeq
 7wQUumH2LuNJH4grSKf4vNHsqWk7x8nbFhlQU=
X-Google-DKIM-Signature: v=1; a=rsa-sha256; c=relaxed/relaxed;
 d=1e100.net; s=20230601; t=1715726241; x=1716331041;
 h=references:in-reply-to:cc:to:from:subject:message-id:date
 :x-gm-message-state:from:to:cc:subject:date:message-id:reply-to;
 bh=lY1IADpLeUg/4fs5PmS9VThwvDtD0CgLQUuw3A2oOF0=;
 b=VBpQ+cXuslNP0pnxgnU3ipN/qtbMIUuiUjrlunCgkkvBce9NEJXMDKrA28LButOgCD
 Pq44ivZ+pC1kFALYJGhCIYehVFNuhlpNjcAF9QItZV76Kw7SU/dkPF+52ye7AK38cQzp
 0nmJ9vs3eSqO7yNgLz0aNe7zBrZrOHMFmqJryDE8X+gaF3izb/5hacAj/ar1VUxAH1zY
 8bdUBN8UqhcsoihmuU6tBn77/+RjJCcQL5vW4yAsSIh+m01NCtfJblK64vFAE5m2lUcI
 2Rk4YxCo4gbDYhBjmef5tJWfcKSRkFZkIZ+Ule00x+08EYsDg41TGxIm9zudTRbc8mLC
 SntQ==
X-Gm-Message-State: AOJu0Yx+wwzgGPJHFEXWP37FxLTEpKBFUb2hvQmG72kHJSxfubl34Kyf
 2G9rU97pfKUx7O8y3dgc6BSV57Qu4vCivmGnzRG7x2uwLmPsg8yZVde+sa0Q2jIw0mHT1pLSyqJ
 iretJy83Qz1HniuXyuU8kpXoV+GiGzksAWN7jYimq
X-Google-Smtp-Source: AGHT+IFF+pljMfsAClY1/HcPa6RKhCyoJcsyscTyEnGJfo90VcB0m5DLFWnjm2TTUooBrXVQLBk1GRcGhfbM
X-Received: by 2002:a05:690c:3805:b0:61e:a66:bccd with SMTP id
 00721157ae682-622afff95e1mr204917357b3.38.1715726241513; 
 Tue, 14 May 2024 15:37:21 -0700 (PDT)
Received: from postal.iol.unh.edu (postal.iol.unh.edu. [132.177.123.84])
 by smtp-relay.gmail.com with ESMTPS id
 00721157ae682-6209e3648a7sm9158117b3.47.2024.05.14.15.37.21
 (version=TLS1_2 cipher=ECDHE-ECDSA-AES128-GCM-SHA256 bits=128/128);
 Tue, 14 May 2024 15:37:21 -0700 (PDT)
X-Relaying-Domain: iol.unh.edu
Date: Tue, 14 May 2024 15:37:21 -0700 (PDT)
Message-ID: <6643e7a1.0d0a0220.1ca1e.73a0SMTPIN_ADDED_MISSING@mx.google.com>
Received: from [172.21.0.6] (unknown [172.18.0.240])
 by postal.iol.unh.edu (Postfix) with ESMTP id 399C3605C373;
 Tue, 14 May 2024 18:37:21 -0400 (EDT)
Subject: |SUCCESS| pw140067-140073 [PATCH] [v3,7/7] net/tap: use generic SW s
From: dpdklab@iol.unh.edu
To: Test Report <test-report@dpdk.org>
Cc: dpdk-test-reports@iol.unh.edu
In-Reply-To: <20240514153845.42489-8-stephen@networkplumber.org>
References: <20240514153845.42489-8-stephen@networkplumber.org>
Content-Type: text/plain
X-BeenThere: test-report@dpdk.org
X-Mailman-Version: 2.1.29
Precedence: list
List-Id: automatic DPDK test reports <test-report.dpdk.org>
List-Unsubscribe: <https://mails.dpdk.org/options/test-report>,
 <mailto:test-report-request@dpdk.org?subject=unsubscribe>
List-Archive: <http://mails.dpdk.org/archives/test-report/>
List-Post: <mailto:test-report@dpdk.org>
List-Help: <mailto:test-report-request@dpdk.org?subject=help>
List-Subscribe: <https://mails.dpdk.org/listinfo/test-report>,
 <mailto:test-report-request@dpdk.org?subject=subscribe>
Errors-To: test-report-bounces@dpdk.org

Test-Label: iol-compile-arm64-testing
Test-Status: SUCCESS
http://dpdk.org/patch/140073

_Testing PASS_

Submitter: Stephen Hemminger <stephen@networkplumber.org>
Date: Tuesday, May 14 2024 15:35:10 
DPDK git baseline: Repo:dpdk
  Branch: master
  CommitID:7e06c0de1952d3109a5b0c4779d7e7d8059c9d78

140067-140073 --> testing pass

Test environment and result as below:

+----------------------------------------+--------------------+
|              Environment               | dpdk_meson_compile |
+========================================+====================+
| Ubuntu 20.04 ARM SVE                   | PASS               |
+----------------------------------------+--------------------+
| Debian 12 with MUSDK                   | PASS               |
+----------------------------------------+--------------------+
| Fedora 37 (ARM)                        | PASS               |
+----------------------------------------+--------------------+
| Fedora 38 (ARM)                        | PASS               |
+----------------------------------------+--------------------+
| Ubuntu 20.04 ARM Clang Cross Compile   | PASS               |
+----------------------------------------+--------------------+
| Ubuntu 20.04 (ARM)                     | PASS               |
+----------------------------------------+--------------------+
| Fedora 39 (ARM)                        | PASS               |
+----------------------------------------+--------------------+
| Debian 12 (arm)                        | PASS               |
+----------------------------------------+--------------------+
| Debian 11 (Buster) (ARM)               | PASS               |
+----------------------------------------+--------------------+
| Ubuntu 20.04 aarch32 GCC Cross Compile | PASS               |
+----------------------------------------+--------------------+
| CentOS Stream 9 (ARM)                  | PASS               |
+----------------------------------------+--------------------+


Ubuntu 20.04 ARM SVE
	Kernel: 5.4.0-167-generic
	Compiler: gcc (Ubuntu 10.5.0-1ubuntu1~20.04) 10.5.0

Debian 12 with MUSDK
	Kernel: Container Host Kernel
	Compiler: gcc 12.2.0

Fedora 37 (ARM)
	Kernel: Depends on container host
	Compiler: gcc 12.3.1

Fedora 38 (ARM)
	Kernel: Depends on container host
	Compiler: gcc 13.2.1

Ubuntu 20.04 ARM Clang Cross Compile
	Kernel: 5.4.0-72-generic
	Compiler: clang 10.0.0-4ubuntu1

Ubuntu 20.04 (ARM)
	Kernel: Container Host Kernel
	Compiler: gcc 9.4.0

Fedora 39 (ARM)
	Kernel: Depends on container host
	Compiler: gcc 13.2.1

Debian 12 (arm)
	Kernel: Container Host Kernel
	Compiler: gcc 12.2.0

Debian 11 (Buster) (ARM)
	Kernel: Container Host Kernel
	Compiler: gcc 10.2.1

Ubuntu 20.04 aarch32 GCC Cross Compile
	Kernel: 5.4.0-167-generic
	Compiler: gcc 9.4.0

CentOS Stream 9 (ARM)
	Kernel: Container Host Kernel
	Compiler: gcc 11.4.1

To view detailed results, visit:
https://lab.dpdk.org/results/dashboard/patchsets/29959/

UNH-IOL DPDK Community Lab

To manage your email subscriptions, visit: 
https://lab.dpdk.org/results/dashboard/preferences/subscriptions/