From mboxrd@z Thu Jan  1 00:00:00 1970
Return-Path: <test-report-bounces@dpdk.org>
Received: from mails.dpdk.org (mails.dpdk.org [217.70.189.124])
	by inbox.dpdk.org (Postfix) with ESMTP id 474524402F
	for <public@inbox.dpdk.org>; Wed, 15 May 2024 01:26:07 +0200 (CEST)
Received: from mails.dpdk.org (localhost [127.0.0.1])
	by mails.dpdk.org (Postfix) with ESMTP id 438024029E;
	Wed, 15 May 2024 01:26:07 +0200 (CEST)
Received: from mail-yw1-f225.google.com (mail-yw1-f225.google.com
 [209.85.128.225])
 by mails.dpdk.org (Postfix) with ESMTP id D58254025C
 for <test-report@dpdk.org>; Wed, 15 May 2024 01:26:05 +0200 (CEST)
Received: by mail-yw1-f225.google.com with SMTP id
 00721157ae682-61b68644ab4so59154167b3.0
 for <test-report@dpdk.org>; Tue, 14 May 2024 16:26:05 -0700 (PDT)
DKIM-Signature: v=1; a=rsa-sha256; c=relaxed/relaxed;
 d=iol.unh.edu; s=unh-iol; t=1715729165; x=1716333965; darn=dpdk.org;
 h=references:in-reply-to:cc:to:from:subject:message-id:date:from:to
 :cc:subject:date:message-id:reply-to;
 bh=an3eY11lmrNMJQlArqJ0c5/8nbeDHwLjRwN/G0E1oeg=;
 b=Qrmj7f2XYTXZBFxW0TSHlLYx6urKyzi78fDzvxxWf4PwsfNZqhzbt4zR6yRnOwkfXt
 JWs8Xc0Xqk/7iiS9wtJ8dT/3fZK5i8UAvtm/Aljmt9vJWKxm2IfEvzk4SnOK9Jf5aEZr
 qIuW8Jd6OnfSJ7uuEq6dNyL1kyEf6W72DAWBE=
X-Google-DKIM-Signature: v=1; a=rsa-sha256; c=relaxed/relaxed;
 d=1e100.net; s=20230601; t=1715729165; x=1716333965;
 h=references:in-reply-to:cc:to:from:subject:message-id:date
 :x-gm-message-state:from:to:cc:subject:date:message-id:reply-to;
 bh=an3eY11lmrNMJQlArqJ0c5/8nbeDHwLjRwN/G0E1oeg=;
 b=VVvsdgZrMwb9/p2lih6fcRn5fbqQPA1WUSly74k8tUwafVEVtM7J5lMuRj3BRhF7pU
 oXUtG2rtHSM3K1J/a46VeZ1ZKBf4J45KL8IbgJ0O92UFkIouijVE/V1RSLHpbOWClR2G
 4M7H9cBD/42dPcFtEA9sTgtl/YkkyIuMogYtZ69ZuhqoFY5EZwRQllUUZfb8THgzstof
 XO7XTTUpN2qX+raUwwXYhaP2NAkHjkDMF2xwjlO6kym3whA1ptwojL/Be5cIN53biHch
 1OwSmEz75VAOzdcrnVChUDfH8H0RJIaJMA2aMRktveYbW0SDDDNKhRZJ+tnhjoborIHE
 n3Xw==
X-Gm-Message-State: AOJu0Yy2Hn4PNCkL+Z5/xPHXeXP+Nu/P19xGuSUSmPlbvc205EB1UaUh
 oK4Bc8+PFliO/M/LwvjevoNJCc8cYQ0/awRu9g/6jPlmlTJnelOuWQ6YkwB2p0gKtGPcQFrq5BM
 PiRiFaS0Iw3QIqZvU9ekycmEuskxSthQ5YnXydbWAA+vdtPMMRik84DCM
X-Google-Smtp-Source: AGHT+IGHDGoWrEsMIc0752msOtLSBjJoCa4xyMcRfi/9hT/r4xsFgHy1zJmelmRovPHMaU52Q/4yaIG0dox/
X-Received: by 2002:a0d:df0b:0:b0:618:8e3e:8675 with SMTP id
 00721157ae682-622affe1ffemr141994117b3.22.1715729165352; 
 Tue, 14 May 2024 16:26:05 -0700 (PDT)
Received: from postal.iol.unh.edu (postal.iol.unh.edu.
 [2606:4100:3880:1234::84]) by smtp-relay.gmail.com with ESMTPS id
 00721157ae682-620a3627161sm8944097b3.39.2024.05.14.16.26.05
 (version=TLS1_2 cipher=ECDHE-ECDSA-AES128-GCM-SHA256 bits=128/128);
 Tue, 14 May 2024 16:26:05 -0700 (PDT)
X-Relaying-Domain: iol.unh.edu
Date: Tue, 14 May 2024 16:26:05 -0700 (PDT)
Message-ID: <6643f30d.0d0a0220.567de.5549SMTPIN_ADDED_MISSING@mx.google.com>
Received: from [172.21.0.7] (unknown [172.18.0.240])
 by postal.iol.unh.edu (Postfix) with ESMTP id 073B3605C373;
 Tue, 14 May 2024 19:26:05 -0400 (EDT)
Subject: |SUCCESS| pw140075-140118 [PATCH] [v6,45/45] app/test-bbdev: use rte
From: dpdklab@iol.unh.edu
To: Test Report <test-report@dpdk.org>
Cc: dpdk-test-reports@iol.unh.edu
In-Reply-To: <1715704559-15839-46-git-send-email-roretzla@linux.microsoft.com>
References: <1715704559-15839-46-git-send-email-roretzla@linux.microsoft.com>
Content-Type: text/plain
X-BeenThere: test-report@dpdk.org
X-Mailman-Version: 2.1.29
Precedence: list
List-Id: automatic DPDK test reports <test-report.dpdk.org>
List-Unsubscribe: <https://mails.dpdk.org/options/test-report>,
 <mailto:test-report-request@dpdk.org?subject=unsubscribe>
List-Archive: <http://mails.dpdk.org/archives/test-report/>
List-Post: <mailto:test-report@dpdk.org>
List-Help: <mailto:test-report-request@dpdk.org?subject=help>
List-Subscribe: <https://mails.dpdk.org/listinfo/test-report>,
 <mailto:test-report-request@dpdk.org?subject=subscribe>
Errors-To: test-report-bounces@dpdk.org

Test-Label: iol-abi-testing
Test-Status: SUCCESS
http://dpdk.org/patch/140118

_Testing PASS_

Submitter: Tyler Retzlaff <roretzla@linux.microsoft.com>
Date: Tuesday, May 14 2024 16:35:59 
DPDK git baseline: Repo:dpdk
  Branch: master
  CommitID:7e06c0de1952d3109a5b0c4779d7e7d8059c9d78

140075-140118 --> testing pass

Test environment and result as below:

+------------------+----------+
|   Environment    | abi_test |
+==================+==========+
| CentOS Stream 9  | PASS     |
+------------------+----------+
| Debian Bullseye  | PASS     |
+------------------+----------+
| Debian 12        | PASS     |
+------------------+----------+
| CentOS Stream 8  | PASS     |
+------------------+----------+
| openSUSE Leap 15 | PASS     |
+------------------+----------+
| Fedora 38        | PASS     |
+------------------+----------+
| Fedora 37        | PASS     |
+------------------+----------+
| Ubuntu 22.04     | PASS     |
+------------------+----------+
| RHEL8            | PASS     |
+------------------+----------+
| Fedora 39        | PASS     |
+------------------+----------+


CentOS Stream 9
	Kernel: 5.4.0-167-generic
	Compiler: gcc 11.4.1 20230605

Debian Bullseye
	Kernel: 5.4.0-167-generic
	Compiler: gcc 10.2.1-6

Debian 12
	Kernel: Container Host Kernel
	Compiler: gcc 10.2.1

CentOS Stream 8
	Kernel: 5.4.0-167-generic
	Compiler: gcc 8.5.0 20210514

openSUSE Leap 15
	Kernel: 5.4.0-167-generic
	Compiler: gcc 7.5.0

Fedora 38
	Kernel: Depends on container host
	Compiler: gcc 13.2.1

Fedora 37
	Kernel: Depends on container host system
	Compiler: gcc 12.3.1

Ubuntu 22.04
	Kernel: 5.4.0-167-generic
	Compiler: gcc 11.4.0

RHEL8
	Kernel: 5.4.0-167-generic
	Compiler: gcc 8.5.0 20210514 (Red Hat 8.5.0-20)

Fedora 39
	Kernel: Depends on container host
	Compiler: clang 17.0.6

To view detailed results, visit:
https://lab.dpdk.org/results/dashboard/patchsets/29960/

UNH-IOL DPDK Community Lab

To manage your email subscriptions, visit: 
https://lab.dpdk.org/results/dashboard/preferences/subscriptions/