From mboxrd@z Thu Jan  1 00:00:00 1970
Return-Path: <test-report-bounces@dpdk.org>
Received: from mails.dpdk.org (mails.dpdk.org [217.70.189.124])
	by inbox.dpdk.org (Postfix) with ESMTP id 52F544402F
	for <public@inbox.dpdk.org>; Wed, 15 May 2024 01:26:43 +0200 (CEST)
Received: from mails.dpdk.org (localhost [127.0.0.1])
	by mails.dpdk.org (Postfix) with ESMTP id 4A1914029E;
	Wed, 15 May 2024 01:26:43 +0200 (CEST)
Received: from mail-yw1-f225.google.com (mail-yw1-f225.google.com
 [209.85.128.225])
 by mails.dpdk.org (Postfix) with ESMTP id EE4A54025C
 for <test-report@dpdk.org>; Wed, 15 May 2024 01:26:40 +0200 (CEST)
Received: by mail-yw1-f225.google.com with SMTP id
 00721157ae682-6181d032bf9so61440527b3.3
 for <test-report@dpdk.org>; Tue, 14 May 2024 16:26:40 -0700 (PDT)
DKIM-Signature: v=1; a=rsa-sha256; c=relaxed/relaxed;
 d=iol.unh.edu; s=unh-iol; t=1715729200; x=1716334000; darn=dpdk.org;
 h=references:in-reply-to:cc:to:from:subject:message-id:date:from:to
 :cc:subject:date:message-id:reply-to;
 bh=qXXqsaVJNAQCTIUT2LLy+nGr6ZP/o6U+eDCqIwF8kWM=;
 b=TmJ4kAL8lrgQ1M6vJqshBpy5QMJEd3jh1xG2qLRZ8BGjhRqZSxC5ofmPv9rvN4ClgU
 rYVZBRf2XN0N+RI4Tvm17kYovx1IoVqSF+bhZvXoG7Ig5IYdFMNxmnDMAmQJg7i1jNuj
 PCUQo/txgTF2UZsaGg/lSTcHPp2rcv9HrFefs=
X-Google-DKIM-Signature: v=1; a=rsa-sha256; c=relaxed/relaxed;
 d=1e100.net; s=20230601; t=1715729200; x=1716334000;
 h=references:in-reply-to:cc:to:from:subject:message-id:date
 :x-gm-message-state:from:to:cc:subject:date:message-id:reply-to;
 bh=qXXqsaVJNAQCTIUT2LLy+nGr6ZP/o6U+eDCqIwF8kWM=;
 b=CUHUoXQhAs8ePRCrWmWOa3Gd7IUFBwTcauEVFK4n5KvSYIGOoIYkOPhNm+FsdgkvuM
 CYUL2k3QtcVum0LI+vCS6ApcXEMDqjWZK5zXdam3Itbu3ogIFzN2XsN9P9P8wRy8k7Cm
 NahaWEM/pw5FJO4ZuDJhgiQXt/xAmHv2rD+K17xXk67c6ghYsUpitxdMWI3J+4/xSAPA
 ALHahQExtguFPPOsmNFC0Xwvr0GPtiDYMUq3xUY23FsGsrnMK+lvy+/CHq/OCW9nnzVj
 AFXnXWfCO30Plqr/yfdE2diWtsIXDMYHV4Y71UFOuQyBwOjUmscgP7MANknSCca439Wc
 Z/ZA==
X-Gm-Message-State: AOJu0Yxvrlhwo6pRc5jWckRue7YhbF4sDA4fiKp4f/TVbGlCRLsuNnYb
 53r7bMSfOqSaxyW3R+vSSy0e6TzfS8UEdJCyg5zboaGqunqZek97j5BzVydPHD1vbAwxkLdDoMt
 bViXAiBUnFgyrbBY11gzPrG5KteXqtrOW0jy48dJjfBcPiaczyi20BOy5
X-Google-Smtp-Source: AGHT+IHKS5f1j6+6qmcf+oMhmKERc2T2N8s/7FSxLBEYQQtkD7BXAVFVzvzu8CPtezBAIw2E8aqL6nmBe1eh
X-Received: by 2002:a05:690c:fd5:b0:614:2b54:16f3 with SMTP id
 00721157ae682-622affc3428mr166809017b3.25.1715729200417; 
 Tue, 14 May 2024 16:26:40 -0700 (PDT)
Received: from postal.iol.unh.edu (postal.iol.unh.edu.
 [2606:4100:3880:1234::84]) by smtp-relay.gmail.com with ESMTPS id
 00721157ae682-6209e5a5a2csm9258897b3.75.2024.05.14.16.26.40
 (version=TLS1_2 cipher=ECDHE-ECDSA-AES128-GCM-SHA256 bits=128/128);
 Tue, 14 May 2024 16:26:40 -0700 (PDT)
X-Relaying-Domain: iol.unh.edu
Date: Tue, 14 May 2024 16:26:40 -0700 (PDT)
Message-ID: <6643f330.810a0220.7188c.6f0cSMTPIN_ADDED_MISSING@mx.google.com>
Received: from [172.17.0.2] (unknown [172.18.0.214])
 by postal.iol.unh.edu (Postfix) with ESMTP id 0C7A8605C373;
 Tue, 14 May 2024 19:26:40 -0400 (EDT)
Subject: |SUCCESS| pw140075-140118 [PATCH] [v6,45/45] app/test-bbdev: use rte
From: dpdklab@iol.unh.edu
To: Test Report <test-report@dpdk.org>
Cc: dpdk-test-reports@iol.unh.edu
In-Reply-To: <1715704559-15839-46-git-send-email-roretzla@linux.microsoft.com>
References: <1715704559-15839-46-git-send-email-roretzla@linux.microsoft.com>
Content-Type: text/plain
X-BeenThere: test-report@dpdk.org
X-Mailman-Version: 2.1.29
Precedence: list
List-Id: automatic DPDK test reports <test-report.dpdk.org>
List-Unsubscribe: <https://mails.dpdk.org/options/test-report>,
 <mailto:test-report-request@dpdk.org?subject=unsubscribe>
List-Archive: <http://mails.dpdk.org/archives/test-report/>
List-Post: <mailto:test-report@dpdk.org>
List-Help: <mailto:test-report-request@dpdk.org?subject=help>
List-Subscribe: <https://mails.dpdk.org/listinfo/test-report>,
 <mailto:test-report-request@dpdk.org?subject=subscribe>
Errors-To: test-report-bounces@dpdk.org

Test-Label: iol-unit-arm64-testing
Test-Status: SUCCESS
http://dpdk.org/patch/140118

_Testing PASS_

Submitter: Tyler Retzlaff <roretzla@linux.microsoft.com>
Date: Tuesday, May 14 2024 16:35:59 
DPDK git baseline: Repo:dpdk
  Branch: master
  CommitID:7e06c0de1952d3109a5b0c4779d7e7d8059c9d78

140075-140118 --> testing pass

Test environment and result as below:

+-----------------------------+---------------------------+------------------------------+----------------+--------------+
|         Environment         | cryptodev_sw_zuc_autotest | cryptodev_sw_snow3g_autotest | dpdk_unit_test | lpm_autotest |
+=============================+===========================+==============================+================+==============+
| Debian 12 (arm)             | PASS                      | PASS                         | PASS           | SKIPPED      |
+-----------------------------+---------------------------+------------------------------+----------------+--------------+
| CentOS Stream 9 (ARM)       | SKIPPED                   | SKIPPED                      | PASS           | SKIPPED      |
+-----------------------------+---------------------------+------------------------------+----------------+--------------+
| Debian 11 (Buster) (ARM)    | SKIPPED                   | SKIPPED                      | PASS           | SKIPPED      |
+-----------------------------+---------------------------+------------------------------+----------------+--------------+
| Fedora 37 (ARM)             | SKIPPED                   | SKIPPED                      | PASS           | SKIPPED      |
+-----------------------------+---------------------------+------------------------------+----------------+--------------+
| 32-bit Ubuntu 20.04.4 (ARM) | SKIPPED                   | SKIPPED                      | PASS           | SKIPPED      |
+-----------------------------+---------------------------+------------------------------+----------------+--------------+
| Fedora 39 (ARM)             | SKIPPED                   | SKIPPED                      | PASS           | SKIPPED      |
+-----------------------------+---------------------------+------------------------------+----------------+--------------+
| Fedora 38 (ARM)             | SKIPPED                   | SKIPPED                      | PASS           | SKIPPED      |
+-----------------------------+---------------------------+------------------------------+----------------+--------------+
| Fedora 38 (ARM Clang)       | SKIPPED                   | SKIPPED                      | PASS           | SKIPPED      |
+-----------------------------+---------------------------+------------------------------+----------------+--------------+
| Ubuntu 20.04 (ARM)          | SKIPPED                   | SKIPPED                      | PASS           | SKIPPED      |
+-----------------------------+---------------------------+------------------------------+----------------+--------------+
| Ubuntu 20.04 ARM SVE        | SKIPPED                   | SKIPPED                      | SKIPPED        | PASS         |
+-----------------------------+---------------------------+------------------------------+----------------+--------------+


Debian 12 (arm)
	Kernel: Container Host Kernel
	Compiler: gcc 12.2.0

CentOS Stream 9 (ARM)
	Kernel: Container Host Kernel
	Compiler: gcc 11.4.1

Debian 11 (Buster) (ARM)
	Kernel: Container Host Kernel
	Compiler: gcc 10.2.1

Fedora 37 (ARM)
	Kernel: Depends on container host
	Compiler: gcc 12.3.1

32-bit Ubuntu 20.04.4 (ARM)
	Kernel: 5.4.0-155-generic aarch64
	Compiler: gcc 9.4

Fedora 39 (ARM)
	Kernel: Depends on container host
	Compiler: gcc 13.2.1

Fedora 38 (ARM)
	Kernel: Depends on container host
	Compiler: gcc 13.2.1

Fedora 38 (ARM Clang)
	Kernel: Depends on container host
	Compiler: clang 16.0.6

Ubuntu 20.04 (ARM)
	Kernel: Container Host Kernel
	Compiler: gcc 9.4.0

Ubuntu 20.04 ARM SVE
	Kernel: 5.4.0-167-generic
	Compiler: gcc (Ubuntu 10.5.0-1ubuntu1~20.04) 10.5.0

To view detailed results, visit:
https://lab.dpdk.org/results/dashboard/patchsets/29960/

UNH-IOL DPDK Community Lab

To manage your email subscriptions, visit: 
https://lab.dpdk.org/results/dashboard/preferences/subscriptions/