From mboxrd@z Thu Jan  1 00:00:00 1970
Return-Path: <test-report-bounces@dpdk.org>
Received: from mails.dpdk.org (mails.dpdk.org [217.70.189.124])
	by inbox.dpdk.org (Postfix) with ESMTP id C026344030
	for <public@inbox.dpdk.org>; Wed, 15 May 2024 02:01:47 +0200 (CEST)
Received: from mails.dpdk.org (localhost [127.0.0.1])
	by mails.dpdk.org (Postfix) with ESMTP id BC6DD4029E;
	Wed, 15 May 2024 02:01:47 +0200 (CEST)
Received: from mail-yw1-f227.google.com (mail-yw1-f227.google.com
 [209.85.128.227])
 by mails.dpdk.org (Postfix) with ESMTP id C5DFB4025C
 for <test-report@dpdk.org>; Wed, 15 May 2024 02:01:46 +0200 (CEST)
Received: by mail-yw1-f227.google.com with SMTP id
 00721157ae682-61804067da0so62074587b3.0
 for <test-report@dpdk.org>; Tue, 14 May 2024 17:01:46 -0700 (PDT)
DKIM-Signature: v=1; a=rsa-sha256; c=relaxed/relaxed;
 d=iol.unh.edu; s=unh-iol; t=1715731306; x=1716336106; darn=dpdk.org;
 h=references:in-reply-to:cc:to:from:subject:message-id:date:from:to
 :cc:subject:date:message-id:reply-to;
 bh=BU0Yi5R2BLLLfxqKJtDWkuTBm3Y+0PYEMbmPWT1uZoY=;
 b=C8vMWDEiIkdW+ipEXc6ys1qg41yDyo8/2vmM0a17kRjeKXygcf0O9XLsvwtwjz2JhK
 W5MSolzPy8u8pSviayIZ/Z9Gr4w/vn2/SslwtkJxKbHRprny6jmJFCxHqGJZH1qhvFDJ
 FhU4u1gBdR1etgAkk13d8un9fcqqP82Z4EhFI=
X-Google-DKIM-Signature: v=1; a=rsa-sha256; c=relaxed/relaxed;
 d=1e100.net; s=20230601; t=1715731306; x=1716336106;
 h=references:in-reply-to:cc:to:from:subject:message-id:date
 :x-gm-message-state:from:to:cc:subject:date:message-id:reply-to;
 bh=BU0Yi5R2BLLLfxqKJtDWkuTBm3Y+0PYEMbmPWT1uZoY=;
 b=pdjB2d+khJ2b+2z1ALKLNrrsuNBPnF2HTLupXrb41BppcbtRlaFrJQyOtAwBP3IixS
 ftDkj8kTYyNDmKccszEptmQkfmEK7t588nN9ivqrB8bIBcqYdrmtJINsBpNTBwkWvcef
 DnQdw0aSkYDqGDcJ23aAbHrWFjE7sKIdUVPxpOOatHxX/jkVOfFAdiqNfFT1Xtj+iBvR
 lYR33n6JxgGzEkJZ5Cy+X9LnQan6xCCJs+pZXbKAB4UHziy/b6lZ2ds8myawnPwg3zds
 4kr2teUHK1alJK+J07mNy65vDFtRCNwHfZ16bide1b3IdJoLordURgVOhX9hCzZsKw+M
 01WA==
X-Gm-Message-State: AOJu0Yy+qdkMP12nreEwmC5pycLKzlo1hc3haPYNDFiR/NnfAVN1iUXy
 jDGeMqUFUMLzWLhNHdQJJAkk3nD1Quot+1QJEpIEKXr+aPzxPqpwJcRBtLaqm5w81DeZZMaWHOQ
 jvq/1zC7/b+w3PmwbdSZFWZAavYGt4lFWMphh2E9x6d9njEEiN3Eo0/mL
X-Google-Smtp-Source: AGHT+IFqata+gjMmBFKznQOa1UBItO9zThiP9tJwUoJWHeG6J4TxsmzRzWaC9GjFw8zfYmo52t9nI8/ZyZIh
X-Received: by 2002:a05:690c:ed4:b0:61a:e9f6:2b1b with SMTP id
 00721157ae682-622aff774d9mr191109627b3.8.1715731306240; 
 Tue, 14 May 2024 17:01:46 -0700 (PDT)
Received: from postal.iol.unh.edu (postal.iol.unh.edu.
 [2606:4100:3880:1234::84]) by smtp-relay.gmail.com with ESMTPS id
 00721157ae682-6209e364c0bsm8992267b3.56.2024.05.14.17.01.46
 (version=TLS1_2 cipher=ECDHE-ECDSA-AES128-GCM-SHA256 bits=128/128);
 Tue, 14 May 2024 17:01:46 -0700 (PDT)
X-Relaying-Domain: iol.unh.edu
Date: Tue, 14 May 2024 17:01:46 -0700 (PDT)
Message-ID: <6643fb6a.810a0220.b52b7.4f1eSMTPIN_ADDED_MISSING@mx.google.com>
Received: from [172.21.0.7] (unknown [172.18.0.240])
 by postal.iol.unh.edu (Postfix) with ESMTP id B4DA6605C373;
 Tue, 14 May 2024 20:01:45 -0400 (EDT)
Subject: |SUCCESS| pw140075-140118 [PATCH] [v6,45/45] app/test-bbdev: use rte
From: dpdklab@iol.unh.edu
To: Test Report <test-report@dpdk.org>
Cc: dpdk-test-reports@iol.unh.edu
In-Reply-To: <1715704559-15839-46-git-send-email-roretzla@linux.microsoft.com>
References: <1715704559-15839-46-git-send-email-roretzla@linux.microsoft.com>
Content-Type: text/plain
X-BeenThere: test-report@dpdk.org
X-Mailman-Version: 2.1.29
Precedence: list
List-Id: automatic DPDK test reports <test-report.dpdk.org>
List-Unsubscribe: <https://mails.dpdk.org/options/test-report>,
 <mailto:test-report-request@dpdk.org?subject=unsubscribe>
List-Archive: <http://mails.dpdk.org/archives/test-report/>
List-Post: <mailto:test-report@dpdk.org>
List-Help: <mailto:test-report-request@dpdk.org?subject=help>
List-Subscribe: <https://mails.dpdk.org/listinfo/test-report>,
 <mailto:test-report-request@dpdk.org?subject=subscribe>
Errors-To: test-report-bounces@dpdk.org

Test-Label: iol-unit-amd64-testing
Test-Status: SUCCESS
http://dpdk.org/patch/140118

_Testing PASS_

Submitter: Tyler Retzlaff <roretzla@linux.microsoft.com>
Date: Tuesday, May 14 2024 16:35:59 
DPDK git baseline: Repo:dpdk
  Branch: master
  CommitID:7e06c0de1952d3109a5b0c4779d7e7d8059c9d78

140075-140118 --> testing pass

Test environment and result as below:

+---------------------+----------------+
|     Environment     | dpdk_unit_test |
+=====================+================+
| CentOS Stream 8     | PASS           |
+---------------------+----------------+
| CentOS Stream 9     | PASS           |
+---------------------+----------------+
| Windows Server 2019 | PASS           |
+---------------------+----------------+
| Debian Bullseye     | PASS           |
+---------------------+----------------+
| Debian 12           | PASS           |
+---------------------+----------------+
| Fedora 37           | PASS           |
+---------------------+----------------+
| Fedora 39           | PASS           |
+---------------------+----------------+
| Fedora 38           | PASS           |
+---------------------+----------------+
| Windows Server 2022 | PASS           |
+---------------------+----------------+
| openSUSE Leap 15    | PASS           |
+---------------------+----------------+
| RHEL8               | PASS           |
+---------------------+----------------+
| Ubuntu 22.04        | PASS           |
+---------------------+----------------+
| Ubuntu 20.04        | PASS           |
+---------------------+----------------+


CentOS Stream 8
	Kernel: 5.4.0-167-generic
	Compiler: gcc 8.5.0 20210514

CentOS Stream 9
	Kernel: 5.4.0-167-generic
	Compiler: gcc 11.4.1 20230605

Windows Server 2019
	Kernel: 10.0.17763
	Compiler: clang 14.0 and gcc 8.1.0 (MinGW)

Debian Bullseye
	Kernel: 5.4.0-167-generic
	Compiler: gcc 10.2.1-6

Debian 12
	Kernel: Container Host Kernel
	Compiler: gcc 10.2.1

Fedora 37
	Kernel: Depends on container host system
	Compiler: gcc 12.3.1

Fedora 39
	Kernel: Depends on container host
	Compiler: gcc 13.2.1

Fedora 38
	Kernel: Depends on container host
	Compiler: gcc 13.2.1

Windows Server 2022
	Kernel: 10.0.20348.2031
	Compiler: clang 15.0.7, gcc 8.1.0 (MinGW), and MSVC VS 17.9

openSUSE Leap 15
	Kernel: 5.4.0-167-generic
	Compiler: gcc 7.5.0

RHEL8
	Kernel: 5.4.0-167-generic
	Compiler: gcc 8.5.0 20210514 (Red Hat 8.5.0-20)

Ubuntu 22.04
	Kernel: 5.4.0-167-generic
	Compiler: gcc 11.4.0

Ubuntu 20.04
	Kernel: 5.4.0-167-generic
	Compiler: gcc 9.4.0-1ubuntu1~20.04.1

To view detailed results, visit:
https://lab.dpdk.org/results/dashboard/patchsets/29960/

UNH-IOL DPDK Community Lab

To manage your email subscriptions, visit: 
https://lab.dpdk.org/results/dashboard/preferences/subscriptions/