From mboxrd@z Thu Jan  1 00:00:00 1970
Return-Path: <test-report-bounces@dpdk.org>
Received: from mails.dpdk.org (mails.dpdk.org [217.70.189.124])
	by inbox.dpdk.org (Postfix) with ESMTP id A0A2A44030
	for <public@inbox.dpdk.org>; Wed, 15 May 2024 02:11:52 +0200 (CEST)
Received: from mails.dpdk.org (localhost [127.0.0.1])
	by mails.dpdk.org (Postfix) with ESMTP id 9C44B4029E;
	Wed, 15 May 2024 02:11:52 +0200 (CEST)
Received: from mail-yb1-f226.google.com (mail-yb1-f226.google.com
 [209.85.219.226])
 by mails.dpdk.org (Postfix) with ESMTP id 0BD7F4025C
 for <test-report@dpdk.org>; Wed, 15 May 2024 02:11:51 +0200 (CEST)
Received: by mail-yb1-f226.google.com with SMTP id
 3f1490d57ef6-de61424f478so6029965276.0
 for <test-report@dpdk.org>; Tue, 14 May 2024 17:11:51 -0700 (PDT)
DKIM-Signature: v=1; a=rsa-sha256; c=relaxed/relaxed;
 d=iol.unh.edu; s=unh-iol; t=1715731910; x=1716336710; darn=dpdk.org;
 h=references:in-reply-to:cc:to:from:subject:message-id:date:from:to
 :cc:subject:date:message-id:reply-to;
 bh=+ifp+D9rh7MVngc2aPzhYAj1VLRCeLdIWZ15HQLJ9uE=;
 b=NkaoO6Hh9igHFApLYW9qTRdXSVUHmJRnSy3lrVhFO20778klp4C3KXN4gJ7LI7pEpM
 CSrw00S7tZ1ATlSrE7Qha5n10qSxk25pXd38mSFb/3oMJ7xlzYGHuoHbZLag4cDJapl9
 ddRD0ZQRHRUuDxoKBYU0peygcsfy07R1OYfBY=
X-Google-DKIM-Signature: v=1; a=rsa-sha256; c=relaxed/relaxed;
 d=1e100.net; s=20230601; t=1715731910; x=1716336710;
 h=references:in-reply-to:cc:to:from:subject:message-id:date
 :x-gm-message-state:from:to:cc:subject:date:message-id:reply-to;
 bh=+ifp+D9rh7MVngc2aPzhYAj1VLRCeLdIWZ15HQLJ9uE=;
 b=jrTCceENeRSa34mnn13b5uhGDw+HM3P8nqvrPJmpOtILP3YzQgQ8CfOGDdtj3SSIyT
 CPV9sxGJNfKgklOz4tW43XheTItuWxgeVU+hdxOXhxkt7+XTYVKla2SNCZuaLzewMCwN
 jPHK9ar80pLch54Yk+leS+qhBA+jQE+S3ZiPCMjlXKCvX6S0QNpRytWE9c5rcqYPGJYy
 u2d3pbPdbpfq1MWvumVy/PPSgz0x9XE8PhR8+4So0pzopQYDA+EgPCjcXtnxP4JKY0UP
 iakyy4iDDiPnZoZr8XLs5gAZ3bE1bjRMKIhif5iBObYzxfdw/uubB2u3Mub2WS9hBKnu
 2QFg==
X-Gm-Message-State: AOJu0Yxhc1kTrgCs9yy5RDJ8bxbjwVXqyc6lY/bLytbGRqOKPQfF/lTq
 BIS4QIrEqnloN5tgY0uNOhRj/GaexlVxR5fxXMAEYTG9cHjTJzB1f0F3DJAMcnaGA+fbjuQl7wM
 p0UHVj2/3X++GTbcbXU3Ua8MQ/3AJVvdydtz2I36C
X-Google-Smtp-Source: AGHT+IHvMHknPp2fTZvf7jyvIihtI6+oP3swG7ImDhvouNz24/Ok53FAPxCucr8L/10/RlSqdoM3XkmZFU5F
X-Received: by 2002:a25:b1a3:0:b0:dee:5cb6:483c with SMTP id
 3f1490d57ef6-dee5cb64977mr12150658276.49.1715731910499; 
 Tue, 14 May 2024 17:11:50 -0700 (PDT)
Received: from postal.iol.unh.edu (postal.iol.unh.edu. [132.177.123.84])
 by smtp-relay.gmail.com with ESMTPS id
 3f1490d57ef6-dee6d8e83d1sm173936276.1.2024.05.14.17.11.50
 (version=TLS1_2 cipher=ECDHE-ECDSA-AES128-GCM-SHA256 bits=128/128);
 Tue, 14 May 2024 17:11:50 -0700 (PDT)
X-Relaying-Domain: iol.unh.edu
Date: Tue, 14 May 2024 17:11:50 -0700 (PDT)
Message-ID: <6643fdc6.050a0220.1651af.81baSMTPIN_ADDED_MISSING@mx.google.com>
Received: from [172.17.0.4] (unknown [172.18.0.217])
 by postal.iol.unh.edu (Postfix) with ESMTP id 335A3605C373;
 Tue, 14 May 2024 20:11:50 -0400 (EDT)
Subject: |SUCCESS| pw140067-140073 [PATCH] [v3,7/7] net/tap: use generic SW s
From: dpdklab@iol.unh.edu
To: Test Report <test-report@dpdk.org>
Cc: dpdk-test-reports@iol.unh.edu
In-Reply-To: <20240514153845.42489-8-stephen@networkplumber.org>
References: <20240514153845.42489-8-stephen@networkplumber.org>
Content-Type: text/plain
X-BeenThere: test-report@dpdk.org
X-Mailman-Version: 2.1.29
Precedence: list
List-Id: automatic DPDK test reports <test-report.dpdk.org>
List-Unsubscribe: <https://mails.dpdk.org/options/test-report>,
 <mailto:test-report-request@dpdk.org?subject=unsubscribe>
List-Archive: <http://mails.dpdk.org/archives/test-report/>
List-Post: <mailto:test-report@dpdk.org>
List-Help: <mailto:test-report-request@dpdk.org?subject=help>
List-Subscribe: <https://mails.dpdk.org/listinfo/test-report>,
 <mailto:test-report-request@dpdk.org?subject=subscribe>
Errors-To: test-report-bounces@dpdk.org

Test-Label: iol-compile-amd64-testing
Test-Status: SUCCESS
http://dpdk.org/patch/140073

_Testing PASS_

Submitter: Stephen Hemminger <stephen@networkplumber.org>
Date: Tuesday, May 14 2024 15:35:10 
DPDK git baseline: Repo:dpdk
  Branch: master
  CommitID:7e06c0de1952d3109a5b0c4779d7e7d8059c9d78

140067-140073 --> testing pass

Test environment and result as below:

+---------------------+--------------------+----------------------+-------------------+
|     Environment     | dpdk_meson_compile | dpdk_mingw64_compile | dpdk_msvc_compile |
+=====================+====================+======================+===================+
| FreeBSD 13.3        | PASS               | SKIPPED              | SKIPPED           |
+---------------------+--------------------+----------------------+-------------------+
| Windows Server 2022 | PASS               | PASS                 | PASS              |
+---------------------+--------------------+----------------------+-------------------+
| FreeBSD 14.0        | PASS               | SKIPPED              | SKIPPED           |
+---------------------+--------------------+----------------------+-------------------+
| Windows Server 2019 | PASS               | PASS                 | SKIPPED           |
+---------------------+--------------------+----------------------+-------------------+
| Debian Bullseye     | PASS               | SKIPPED              | SKIPPED           |
+---------------------+--------------------+----------------------+-------------------+
| Debian 12           | PASS               | SKIPPED              | SKIPPED           |
+---------------------+--------------------+----------------------+-------------------+
| Fedora 37           | PASS               | SKIPPED              | SKIPPED           |
+---------------------+--------------------+----------------------+-------------------+
| Fedora 38           | PASS               | SKIPPED              | SKIPPED           |
+---------------------+--------------------+----------------------+-------------------+
| CentOS Stream 8     | PASS               | SKIPPED              | SKIPPED           |
+---------------------+--------------------+----------------------+-------------------+
| Fedora 39           | PASS               | SKIPPED              | SKIPPED           |
+---------------------+--------------------+----------------------+-------------------+
| Ubuntu 20.04        | PASS               | SKIPPED              | SKIPPED           |
+---------------------+--------------------+----------------------+-------------------+
| openSUSE Leap 15    | PASS               | SKIPPED              | SKIPPED           |
+---------------------+--------------------+----------------------+-------------------+
| RHEL8               | PASS               | SKIPPED              | SKIPPED           |
+---------------------+--------------------+----------------------+-------------------+
| Ubuntu 22.04        | PASS               | SKIPPED              | SKIPPED           |
+---------------------+--------------------+----------------------+-------------------+
| CentOS Stream 9     | PASS               | SKIPPED              | SKIPPED           |
+---------------------+--------------------+----------------------+-------------------+


FreeBSD 13.3
	Kernel: 13.3-RELEASE-p1
	Compiler: clang 17.0.6

Windows Server 2022
	Kernel: 10.0.20348.2031
	Compiler: clang 15.0.7, gcc 8.1.0 (MinGW), and MSVC VS 17.9

FreeBSD 14.0
	Kernel: 14.0
	Compiler: clang 16.0.6

Windows Server 2019
	Kernel: 10.0.17763
	Compiler: clang 14.0 and gcc 8.1.0 (MinGW)

Debian Bullseye
	Kernel: 5.4.0-167-generic
	Compiler: gcc 10.2.1-6

Debian 12
	Kernel: Container Host Kernel
	Compiler: gcc 10.2.1

Fedora 37
	Kernel: Depends on container host system
	Compiler: gcc 12.3.1

Fedora 38
	Kernel: Depends on container host
	Compiler: gcc 13.2.1

CentOS Stream 8
	Kernel: 5.4.0-167-generic
	Compiler: gcc 8.5.0 20210514

Fedora 39
	Kernel: Depends on container host
	Compiler: gcc 13.2.1

Ubuntu 20.04
	Kernel: 5.4.0-167-generic
	Compiler: gcc 9.4.0-1ubuntu1~20.04.1

openSUSE Leap 15
	Kernel: 5.4.0-167-generic
	Compiler: gcc 7.5.0

RHEL8
	Kernel: 5.4.0-167-generic
	Compiler: gcc 8.5.0 20210514 (Red Hat 8.5.0-20)

Ubuntu 22.04
	Kernel: 5.4.0-167-generic
	Compiler: gcc 11.4.0

CentOS Stream 9
	Kernel: 5.4.0-167-generic
	Compiler: gcc 11.4.1 20230605

To view detailed results, visit:
https://lab.dpdk.org/results/dashboard/patchsets/29959/

UNH-IOL DPDK Community Lab

To manage your email subscriptions, visit: 
https://lab.dpdk.org/results/dashboard/preferences/subscriptions/