From mboxrd@z Thu Jan  1 00:00:00 1970
Return-Path: <test-report-bounces@dpdk.org>
Received: from mails.dpdk.org (mails.dpdk.org [217.70.189.124])
	by inbox.dpdk.org (Postfix) with ESMTP id A41AE44044
	for <public@inbox.dpdk.org>; Fri, 17 May 2024 02:57:41 +0200 (CEST)
Received: from mails.dpdk.org (localhost [127.0.0.1])
	by mails.dpdk.org (Postfix) with ESMTP id 9FB5A40285;
	Fri, 17 May 2024 02:57:41 +0200 (CEST)
Received: from mail-oo1-f98.google.com (mail-oo1-f98.google.com
 [209.85.161.98]) by mails.dpdk.org (Postfix) with ESMTP id C110A4027F
 for <test-report@dpdk.org>; Fri, 17 May 2024 02:57:39 +0200 (CEST)
Received: by mail-oo1-f98.google.com with SMTP id
 006d021491bc7-5b2733389f9so462367eaf.1
 for <test-report@dpdk.org>; Thu, 16 May 2024 17:57:39 -0700 (PDT)
DKIM-Signature: v=1; a=rsa-sha256; c=relaxed/relaxed;
 d=iol.unh.edu; s=unh-iol; t=1715907459; x=1716512259; darn=dpdk.org;
 h=references:in-reply-to:cc:to:from:subject:message-id:date:from:to
 :cc:subject:date:message-id:reply-to;
 bh=yIARaFUzWu+jkFgY9H5Jw8ws3+bUTbQhhDl5YV3YKgM=;
 b=J4fgqZCwxom8pp53kkIMMQFwTrhRcfULFjTL94EEw1HyWTcZtd4iW2ONpRwDmHqSjD
 Ja19eZ20v77By7p7mOZKhehh762+wrRiQC67uMMTZkubhnOz1CRhTgKxpJDvdhkHeQhM
 NFvz0GASs3n4lOuJ6hxJfikMtbRVvSyGYuG5U=
X-Google-DKIM-Signature: v=1; a=rsa-sha256; c=relaxed/relaxed;
 d=1e100.net; s=20230601; t=1715907459; x=1716512259;
 h=references:in-reply-to:cc:to:from:subject:message-id:date
 :x-gm-message-state:from:to:cc:subject:date:message-id:reply-to;
 bh=yIARaFUzWu+jkFgY9H5Jw8ws3+bUTbQhhDl5YV3YKgM=;
 b=dZg+Vv6msp6sLhNKMc/iMeApwSXbiCKoYGWmco2cD3UTnmw9tmmCNSJo6AI/4+uQ10
 x6ch4fW2L73hUFphQqWJiMmiCEUamOhmrVPM1RBpxf7bkJOucDDcujyzrVFlH9PzfXly
 o9+2dqDSpEg4i+7pBBxTBB2TbPWIBPk67GUKxrlkdXDnbRJq6jvDwL64nQ/RhFP/9MuN
 YZTtmuw8cHMsERaOuYfavcyPTwC175S8YH3dxmal+5CvkUjdeJf2XwJAGnI4IQSKNJzO
 QWOk41BLjw+PhqwPmMkPGa14/BO18M2clwrSzAbOqLp/8iDBQTg+3/VCmFRi1QjUajQP
 KsAQ==
X-Gm-Message-State: AOJu0YzPlYKuXcTO5qWQnoPYd0yirFVTaQXOv6wWKi7vzvR11OWl8hSC
 CaGV9eD7PHAVIaW6BwjT+N6T461RRXuevw4XtYrA92Olb1ikOSPbtMM8DN1aSSdMJFK7M6GX35t
 DMuS7S50X6l44oGRSGnqTrL+Bk3r20Y773g1RZdz/a9AOemOl+tf8WXMa
X-Google-Smtp-Source: AGHT+IFeg6Kfqq3mJCYdaqnOh9r+rHv558uhBHjjG9e7aKdmt0eQ0AJKFS6lc+v2hNoMlFlgDls1R0o5Lm/a
X-Received: by 2002:a4a:904:0:b0:5af:c6bb:319 with SMTP id
 006d021491bc7-5b2815e04e7mr20368634eaf.0.1715907458943; 
 Thu, 16 May 2024 17:57:38 -0700 (PDT)
Received: from postal.iol.unh.edu (postal.iol.unh.edu.
 [2606:4100:3880:1234::84]) by smtp-relay.gmail.com with ESMTPS id
 006d021491bc7-5b274a5c1f9sm1462306eaf.23.2024.05.16.17.57.38
 (version=TLS1_2 cipher=ECDHE-ECDSA-AES128-GCM-SHA256 bits=128/128);
 Thu, 16 May 2024 17:57:38 -0700 (PDT)
X-Relaying-Domain: iol.unh.edu
Date: Thu, 16 May 2024 17:57:38 -0700 (PDT)
Message-ID: <6646ab82.4a0a0220.72750.2c20SMTPIN_ADDED_MISSING@mx.google.com>
Received: from [172.21.0.6] (unknown [172.18.0.240])
 by postal.iol.unh.edu (Postfix) with ESMTP id 70E76605C380;
 Thu, 16 May 2024 20:57:38 -0400 (EDT)
Subject: |SUCCESS| pw140149-140157 [PATCH] [v6,9/9] net/null: use generic SW 
From: dpdklab@iol.unh.edu
To: Test Report <test-report@dpdk.org>
Cc: dpdk-test-reports@iol.unh.edu
In-Reply-To: <20240517001302.65514-10-stephen@networkplumber.org>
References: <20240517001302.65514-10-stephen@networkplumber.org>
Content-Type: text/plain
X-BeenThere: test-report@dpdk.org
X-Mailman-Version: 2.1.29
Precedence: list
List-Id: automatic DPDK test reports <test-report.dpdk.org>
List-Unsubscribe: <https://mails.dpdk.org/options/test-report>,
 <mailto:test-report-request@dpdk.org?subject=unsubscribe>
List-Archive: <http://mails.dpdk.org/archives/test-report/>
List-Post: <mailto:test-report@dpdk.org>
List-Help: <mailto:test-report-request@dpdk.org?subject=help>
List-Subscribe: <https://mails.dpdk.org/listinfo/test-report>,
 <mailto:test-report-request@dpdk.org?subject=subscribe>
Errors-To: test-report-bounces@dpdk.org

Test-Label: iol-compile-amd64-testing
Test-Status: SUCCESS
http://dpdk.org/patch/140157

_Testing PASS_

Submitter: Stephen Hemminger <stephen@networkplumber.org>
Date: Friday, May 17 2024 00:12:09 
DPDK git baseline: Repo:dpdk
  Branch: master
  CommitID:e5bf3e397b34082673b9fe06f4b8f667c8e4913d

140149-140157 --> testing pass

Test environment and result as below:

+---------------------+--------------------+----------------------+-------------------+
|     Environment     | dpdk_meson_compile | dpdk_mingw64_compile | dpdk_msvc_compile |
+=====================+====================+======================+===================+
| Windows Server 2022 | PASS               | PASS                 | PASS              |
+---------------------+--------------------+----------------------+-------------------+
| FreeBSD 13.3        | PASS               | SKIPPED              | SKIPPED           |
+---------------------+--------------------+----------------------+-------------------+
| FreeBSD 14.0        | PASS               | SKIPPED              | SKIPPED           |
+---------------------+--------------------+----------------------+-------------------+
| Windows Server 2019 | PASS               | SKIPPED              | SKIPPED           |
+---------------------+--------------------+----------------------+-------------------+


Windows Server 2022
	Kernel: 10.0.20348.2031
	Compiler: clang 15.0.7, gcc 8.1.0 (MinGW), and MSVC VS 17.9

FreeBSD 13.3
	Kernel: 13.3-RELEASE-p1
	Compiler: clang 17.0.6

FreeBSD 14.0
	Kernel: 14.0
	Compiler: clang 16.0.6

Windows Server 2019
	Kernel: 10.0.17763
	Compiler: clang 14.0 and gcc 8.1.0 (MinGW)

To view detailed results, visit:
https://lab.dpdk.org/results/dashboard/patchsets/29972/

UNH-IOL DPDK Community Lab

To manage your email subscriptions, visit: 
https://lab.dpdk.org/results/dashboard/preferences/subscriptions/