From mboxrd@z Thu Jan  1 00:00:00 1970
Return-Path: <test-report-bounces@dpdk.org>
Received: from mails.dpdk.org (mails.dpdk.org [217.70.189.124])
	by inbox.dpdk.org (Postfix) with ESMTP id DBFB144044
	for <public@inbox.dpdk.org>; Fri, 17 May 2024 03:08:34 +0200 (CEST)
Received: from mails.dpdk.org (localhost [127.0.0.1])
	by mails.dpdk.org (Postfix) with ESMTP id D2E1C40285;
	Fri, 17 May 2024 03:08:34 +0200 (CEST)
Received: from mail-yw1-f228.google.com (mail-yw1-f228.google.com
 [209.85.128.228])
 by mails.dpdk.org (Postfix) with ESMTP id E1B164027F
 for <test-report@dpdk.org>; Fri, 17 May 2024 03:08:33 +0200 (CEST)
Received: by mail-yw1-f228.google.com with SMTP id
 00721157ae682-61bec6bab2bso97799377b3.1
 for <test-report@dpdk.org>; Thu, 16 May 2024 18:08:33 -0700 (PDT)
DKIM-Signature: v=1; a=rsa-sha256; c=relaxed/relaxed;
 d=iol.unh.edu; s=unh-iol; t=1715908113; x=1716512913; darn=dpdk.org;
 h=references:in-reply-to:cc:to:from:subject:message-id:date:from:to
 :cc:subject:date:message-id:reply-to;
 bh=t+HOcMe938s0+oRyDKZthqZK79pwSNs5P/6yn44DjqY=;
 b=EUuWIX80JYrDIfxV/lLj8PW5rOrFzmO97KEpFArwFFFnXOKjebDFkwK6YdXTTiocu4
 +OZvvZI2iXtMX6GnkerLHpLZ71W2EPtDV8ks79J/VgkPUTAP//gLrINckCpFbtKEMuvK
 Mj7PkWlLt9TEyCRc9dzwADd24231ONldJ61Nw=
X-Google-DKIM-Signature: v=1; a=rsa-sha256; c=relaxed/relaxed;
 d=1e100.net; s=20230601; t=1715908113; x=1716512913;
 h=references:in-reply-to:cc:to:from:subject:message-id:date
 :x-gm-message-state:from:to:cc:subject:date:message-id:reply-to;
 bh=t+HOcMe938s0+oRyDKZthqZK79pwSNs5P/6yn44DjqY=;
 b=BTaNXNR8Jlhhz0+bXZQAPZZJKhPI/VFpsTVyenn2QV/Lwkv0ehfC2R9fAOEHetBllK
 AMsMykT4N8d01LAOnUH++M5Sk7nRlUB25Q83fw8fmhsWA9CqaYx3cW1gmch8WfugYZO3
 rPI9TTGA9VzJJlH013xoNl6uBN93AGSHMnd0ZGh59Uz+I+eHMrPbFx7iItMWKE5eWRk9
 RGxOrLD8z5ljDtGEWEYWkPtlJ9jDHh3BNabhUDTWhGRd2a0IOLZuwQWL4iz2lMELrOwd
 mLOgNBBm+3Ol6ibcq1hGZXWI+JiJOK7YDR3j4tZ2QO6rQkSxGXIH+kWj/QZh7FVwGILF
 gNPw==
X-Gm-Message-State: AOJu0Yz1T9XgRXjOLiVE9PV9kRGAKDHeObWWS0SXXDshF3sh47pYKuq0
 Cf7YzukgzPxljqR0dW2korp3YhR21j9tPyEZb+gKoDEcOo/CsKqTpFd/CS+vwYU+0DlYqWYacaF
 hdrZWY8IUGBYoc58//HKLflAE1zIGpqifct/fAipQ2/9d/m++hNxvYzRH
X-Google-Smtp-Source: AGHT+IHd3Mi+Va5EX8tWeRriJ0C5O3ldZ3P6k21sSERrksTQLnHvt6qhp0lx8ALV8KoXpc5iaJKDv/oSJAXo
X-Received: by 2002:a05:690c:fc7:b0:615:3e2c:d318 with SMTP id
 00721157ae682-622affda599mr247076777b3.41.1715908113319; 
 Thu, 16 May 2024 18:08:33 -0700 (PDT)
Received: from postal.iol.unh.edu (postal.iol.unh.edu.
 [2606:4100:3880:1234::84]) by smtp-relay.gmail.com with ESMTPS id
 d75a77b69052e-43df5a66357sm10040021cf.1.2024.05.16.18.08.33
 (version=TLS1_2 cipher=ECDHE-ECDSA-AES128-GCM-SHA256 bits=128/128);
 Thu, 16 May 2024 18:08:33 -0700 (PDT)
X-Relaying-Domain: iol.unh.edu
Date: Thu, 16 May 2024 18:08:33 -0700 (PDT)
Message-ID: <6646ae11.050a0220.1ba49.7b48SMTPIN_ADDED_MISSING@mx.google.com>
Received: from [172.21.0.7] (unknown [172.18.0.240])
 by postal.iol.unh.edu (Postfix) with ESMTP id 0533B605C380;
 Thu, 16 May 2024 21:08:33 -0400 (EDT)
Subject: |SUCCESS| pw140149-140157 [PATCH] [v6,9/9] net/null: use generic SW 
From: dpdklab@iol.unh.edu
To: Test Report <test-report@dpdk.org>
Cc: Stephen Hemminger <stephen@networkplumber.org>
In-Reply-To: <20240517001302.65514-10-stephen@networkplumber.org>
References: <20240517001302.65514-10-stephen@networkplumber.org>
Content-Type: text/plain
X-BeenThere: test-report@dpdk.org
X-Mailman-Version: 2.1.29
Precedence: list
List-Id: automatic DPDK test reports <test-report.dpdk.org>
List-Unsubscribe: <https://mails.dpdk.org/options/test-report>,
 <mailto:test-report-request@dpdk.org?subject=unsubscribe>
List-Archive: <http://mails.dpdk.org/archives/test-report/>
List-Post: <mailto:test-report@dpdk.org>
List-Help: <mailto:test-report-request@dpdk.org?subject=help>
List-Subscribe: <https://mails.dpdk.org/listinfo/test-report>,
 <mailto:test-report-request@dpdk.org?subject=subscribe>
Errors-To: test-report-bounces@dpdk.org

Test-Label: iol-compile-amd64-testing
Test-Status: SUCCESS
http://dpdk.org/patch/140157

_Testing PASS_

Submitter: Stephen Hemminger <stephen@networkplumber.org>
Date: Friday, May 17 2024 00:12:09 
DPDK git baseline: Repo:dpdk
  Branch: master
  CommitID:e5bf3e397b34082673b9fe06f4b8f667c8e4913d

140149-140157 --> testing pass

Test environment and result as below:

+---------------------+--------------------+----------------------+-------------------+------------------+
|     Environment     | dpdk_meson_compile | dpdk_mingw64_compile | dpdk_msvc_compile | dpdk_compile_ovs |
+=====================+====================+======================+===================+==================+
| Windows Server 2022 | PASS               | PASS                 | PASS              | SKIPPED          |
+---------------------+--------------------+----------------------+-------------------+------------------+
| FreeBSD 13.3        | PASS               | SKIPPED              | SKIPPED           | SKIPPED          |
+---------------------+--------------------+----------------------+-------------------+------------------+
| FreeBSD 14.0        | PASS               | SKIPPED              | SKIPPED           | SKIPPED          |
+---------------------+--------------------+----------------------+-------------------+------------------+
| Windows Server 2019 | PASS               | PASS                 | SKIPPED           | SKIPPED          |
+---------------------+--------------------+----------------------+-------------------+------------------+
| CentOS Stream 8     | PASS               | SKIPPED              | SKIPPED           | PASS             |
+---------------------+--------------------+----------------------+-------------------+------------------+
| Debian Bullseye     | PASS               | SKIPPED              | SKIPPED           | PASS             |
+---------------------+--------------------+----------------------+-------------------+------------------+


Windows Server 2022
	Kernel: 10.0.20348.2031
	Compiler: clang 15.0.7, gcc 8.1.0 (MinGW), and MSVC VS 17.9

FreeBSD 13.3
	Kernel: 13.3-RELEASE-p1
	Compiler: clang 17.0.6

FreeBSD 14.0
	Kernel: 14.0
	Compiler: clang 16.0.6

Windows Server 2019
	Kernel: 10.0.17763
	Compiler: clang 14.0 and gcc 8.1.0 (MinGW)

CentOS Stream 8
	Kernel: 5.4.0-167-generic
	Compiler: gcc 8.5.0 20210514

Debian Bullseye
	Kernel: 5.4.0-167-generic
	Compiler: gcc 10.2.1-6

To view detailed results, visit:
https://lab.dpdk.org/results/dashboard/patchsets/29972/

UNH-IOL DPDK Community Lab

To manage your email subscriptions, visit: 
https://lab.dpdk.org/results/dashboard/preferences/subscriptions/