From mboxrd@z Thu Jan  1 00:00:00 1970
Return-Path: <test-report-bounces@dpdk.org>
Received: from mails.dpdk.org (mails.dpdk.org [217.70.189.124])
	by inbox.dpdk.org (Postfix) with ESMTP id 2104F44044
	for <public@inbox.dpdk.org>; Fri, 17 May 2024 03:25:47 +0200 (CEST)
Received: from mails.dpdk.org (localhost [127.0.0.1])
	by mails.dpdk.org (Postfix) with ESMTP id 038FA40285;
	Fri, 17 May 2024 03:25:47 +0200 (CEST)
Received: from mail-yw1-f227.google.com (mail-yw1-f227.google.com
 [209.85.128.227])
 by mails.dpdk.org (Postfix) with ESMTP id 0C27F4027F
 for <test-report@dpdk.org>; Fri, 17 May 2024 03:25:46 +0200 (CEST)
Received: by mail-yw1-f227.google.com with SMTP id
 00721157ae682-62036051972so97496997b3.1
 for <test-report@dpdk.org>; Thu, 16 May 2024 18:25:45 -0700 (PDT)
DKIM-Signature: v=1; a=rsa-sha256; c=relaxed/relaxed;
 d=iol.unh.edu; s=unh-iol; t=1715909145; x=1716513945; darn=dpdk.org;
 h=references:in-reply-to:cc:to:from:subject:message-id:date:from:to
 :cc:subject:date:message-id:reply-to;
 bh=/s7yx+jM8OhZmQwbVW21IeuoHBnLbspVTzV71tBlPsU=;
 b=UOXnNjzfaxgzLPvyv8qfvWupBLHv33/ES8mk3Kpqw0DmBon3erzODlgHF+spRALfm0
 i0OO547h5Yni8VZHVTZU3uktiByPeAMi7OX2kL8zEH8+w2Sx3hT+8FsBvL5R4IEYPCuA
 r9MJiSGCIwRjegRYOZRbkhxM1Q7psFuIxlsLM=
X-Google-DKIM-Signature: v=1; a=rsa-sha256; c=relaxed/relaxed;
 d=1e100.net; s=20230601; t=1715909145; x=1716513945;
 h=references:in-reply-to:cc:to:from:subject:message-id:date
 :x-gm-message-state:from:to:cc:subject:date:message-id:reply-to;
 bh=/s7yx+jM8OhZmQwbVW21IeuoHBnLbspVTzV71tBlPsU=;
 b=qlgXt9Y9j1hTfpCGvQ4GiyHyyzTlRzWWTwFOAUe10a2dAabBW/hE+i8WIutDu67UVE
 v/63bDu+AX6b6Xshri2oAHZJMI8zOqREX2VUf+D6GjnejURK/a2v43bItW8T4UPibdbl
 K6AXOQ6bM55vmLWfaiXglMybItYbmdicEh9reEqjvEhgPtzw1Z3PELXk0u8RB3TDuKUU
 +v6zSZdnULf9w1qi5mFBxmdwEzo27HCw/+hY1nQ8tafS6fZFVMSoDyURHHl3+pLdgG8L
 QQq4nDA/zYjCU4xI3V3oeqBK8u2P/C6NMpQaqTy4OAzAM/3ATUwz+Es5Xob3NaUwkva0
 ugkQ==
X-Gm-Message-State: AOJu0Yw7OHBUkYtOQIkPnfYtzpPyDJ0H3nbGwSZ7pNFvXdfNJwlKZh8F
 9+9UutWf5P+4GEYDp0m524O12nm0Yoe8aBcPCTi1Q6qIw8K6MmnJxPcCgT01omgBJVF3PPd1dot
 LIAoq79UaKcG6USQ2KSaHzN5nBwP2liw0z3Y6GOXg
X-Google-Smtp-Source: AGHT+IEox2bpGPbY2YwZKEmXudXF3JwKS70qNEoWslmmDfV1Ei2Y/2kopYl3iHol1VV/SAoS4Ht6POXnfFsU
X-Received: by 2002:a05:690c:6510:b0:618:66f3:818d with SMTP id
 00721157ae682-622affc3a41mr234582677b3.16.1715909145423; 
 Thu, 16 May 2024 18:25:45 -0700 (PDT)
Received: from postal.iol.unh.edu (postal.iol.unh.edu. [132.177.123.84])
 by smtp-relay.gmail.com with ESMTPS id
 00721157ae682-6209e26af46sm12974907b3.34.2024.05.16.18.25.45
 (version=TLS1_2 cipher=ECDHE-ECDSA-AES128-GCM-SHA256 bits=128/128);
 Thu, 16 May 2024 18:25:45 -0700 (PDT)
X-Relaying-Domain: iol.unh.edu
Date: Thu, 16 May 2024 18:25:45 -0700 (PDT)
Message-ID: <6646b219.810a0220.5305f.99c7SMTPIN_ADDED_MISSING@mx.google.com>
Received: from [172.21.0.6] (unknown [172.18.0.240])
 by postal.iol.unh.edu (Postfix) with ESMTP id D9FA0605C380;
 Thu, 16 May 2024 21:25:44 -0400 (EDT)
Subject: |SUCCESS| pw140149-140157 [PATCH] [v6,9/9] net/null: use generic SW 
From: dpdklab@iol.unh.edu
To: Test Report <test-report@dpdk.org>
Cc: dpdk-test-reports@iol.unh.edu
In-Reply-To: <20240517001302.65514-10-stephen@networkplumber.org>
References: <20240517001302.65514-10-stephen@networkplumber.org>
Content-Type: text/plain
X-BeenThere: test-report@dpdk.org
X-Mailman-Version: 2.1.29
Precedence: list
List-Id: automatic DPDK test reports <test-report.dpdk.org>
List-Unsubscribe: <https://mails.dpdk.org/options/test-report>,
 <mailto:test-report-request@dpdk.org?subject=unsubscribe>
List-Archive: <http://mails.dpdk.org/archives/test-report/>
List-Post: <mailto:test-report@dpdk.org>
List-Help: <mailto:test-report-request@dpdk.org?subject=help>
List-Subscribe: <https://mails.dpdk.org/listinfo/test-report>,
 <mailto:test-report-request@dpdk.org?subject=subscribe>
Errors-To: test-report-bounces@dpdk.org

Test-Label: iol-abi-testing
Test-Status: SUCCESS
http://dpdk.org/patch/140157

_Testing PASS_

Submitter: Stephen Hemminger <stephen@networkplumber.org>
Date: Friday, May 17 2024 00:12:09 
DPDK git baseline: Repo:dpdk
  Branch: master
  CommitID:e5bf3e397b34082673b9fe06f4b8f667c8e4913d

140149-140157 --> testing pass

Test environment and result as below:

+------------------+----------+
|   Environment    | abi_test |
+==================+==========+
| Debian Bullseye  | PASS     |
+------------------+----------+
| openSUSE Leap 15 | PASS     |
+------------------+----------+
| CentOS Stream 8  | PASS     |
+------------------+----------+
| Ubuntu 22.04     | PASS     |
+------------------+----------+
| RHEL8            | PASS     |
+------------------+----------+
| Fedora 37        | PASS     |
+------------------+----------+
| Fedora 38        | PASS     |
+------------------+----------+
| CentOS Stream 9  | PASS     |
+------------------+----------+
| Fedora 39        | PASS     |
+------------------+----------+
| Debian 12        | PASS     |
+------------------+----------+


Debian Bullseye
	Kernel: 5.4.0-167-generic
	Compiler: gcc 10.2.1-6

openSUSE Leap 15
	Kernel: 5.4.0-167-generic
	Compiler: gcc 7.5.0

CentOS Stream 8
	Kernel: 5.4.0-167-generic
	Compiler: gcc 8.5.0 20210514

Ubuntu 22.04
	Kernel: 5.4.0-167-generic
	Compiler: gcc 11.4.0

RHEL8
	Kernel: 5.4.0-167-generic
	Compiler: gcc 8.5.0 20210514 (Red Hat 8.5.0-20)

Fedora 37
	Kernel: Depends on container host system
	Compiler: gcc 12.3.1

Fedora 38
	Kernel: Depends on container host
	Compiler: clang 16.0.6

CentOS Stream 9
	Kernel: 5.4.0-167-generic
	Compiler: gcc 11.4.1 20230605

Fedora 39
	Kernel: Depends on container host
	Compiler: clang 17.0.6

Debian 12
	Kernel: Container Host Kernel
	Compiler: gcc 10.2.1

To view detailed results, visit:
https://lab.dpdk.org/results/dashboard/patchsets/29972/

UNH-IOL DPDK Community Lab

To manage your email subscriptions, visit: 
https://lab.dpdk.org/results/dashboard/preferences/subscriptions/