From mboxrd@z Thu Jan  1 00:00:00 1970
Return-Path: <test-report-bounces@dpdk.org>
Received: from mails.dpdk.org (mails.dpdk.org [217.70.189.124])
	by inbox.dpdk.org (Postfix) with ESMTP id 7388744044
	for <public@inbox.dpdk.org>; Fri, 17 May 2024 03:32:11 +0200 (CEST)
Received: from mails.dpdk.org (localhost [127.0.0.1])
	by mails.dpdk.org (Postfix) with ESMTP id 6DD3540285;
	Fri, 17 May 2024 03:32:11 +0200 (CEST)
Received: from mail-ot1-f97.google.com (mail-ot1-f97.google.com
 [209.85.210.97]) by mails.dpdk.org (Postfix) with ESMTP id C40A14027F
 for <test-report@dpdk.org>; Fri, 17 May 2024 03:32:10 +0200 (CEST)
Received: by mail-ot1-f97.google.com with SMTP id
 46e09a7af769-6f0f5645c68so489704a34.1
 for <test-report@dpdk.org>; Thu, 16 May 2024 18:32:10 -0700 (PDT)
DKIM-Signature: v=1; a=rsa-sha256; c=relaxed/relaxed;
 d=iol.unh.edu; s=unh-iol; t=1715909530; x=1716514330; darn=dpdk.org;
 h=references:in-reply-to:cc:to:from:subject:message-id:date:from:to
 :cc:subject:date:message-id:reply-to;
 bh=8P1SNpP2WXgONbZOHGNKSEcXDL7rTP5bUFPZYm5kva0=;
 b=dfzMmLHNQepGvX6u1YdQZ5cC98Zoegx2OeYgW4i8L4scQ5FZed8gf7+7lZQ1Rn0d7l
 4ub9tVyTcM93v0vVkKkLG9E9QdUTCQnRTCtZR94HhrHPwJrC3CfiUypn0SM7b3AWoMdn
 4HWia6RZGyf4tAc6nsNLL+nKzDm8tNCioqpVY=
X-Google-DKIM-Signature: v=1; a=rsa-sha256; c=relaxed/relaxed;
 d=1e100.net; s=20230601; t=1715909530; x=1716514330;
 h=references:in-reply-to:cc:to:from:subject:message-id:date
 :x-gm-message-state:from:to:cc:subject:date:message-id:reply-to;
 bh=8P1SNpP2WXgONbZOHGNKSEcXDL7rTP5bUFPZYm5kva0=;
 b=qbDzyCFyMuA094YoHtd1uNsLdVk4Cz89vFMx4UF5F+hoyRozx1XYqAdK0iQgiQh68h
 yr5ATOQ3Xql9+M+iLt2udfVDkB1WMtQHspArY5H/q9NAEZTRtvrAK+6x8vjIBWnMYZm4
 3mlq3Ary2o9+LwP6AIJ9v2z/dDab7Q2CqQPNzc6X4bU8IPP1uHzTO3rtXXxnswV8Zg+0
 TsGzB0CW7Uf13rbN4l0l1yO+WGwATk8Rj+atkNuRwkuAQ6WEM0j0wV3tc/GTMwcLZp6j
 2NHU6U02/NZ40wx4SMXVqsHRd2A2uW1+fu3JdKmFBiYTCvFRFK8h5ApEKGGqRGx4c5oR
 /UIA==
X-Gm-Message-State: AOJu0Yy6G7ORZt47O+olfo5+/viPiaf4ov00x7huwYLzNBkbI8xs+YDx
 /0s+DO0pPKE0bgCzn1XKlONN5SIjmLGJ5OaZzUns+F5ENh8FhOjhsh9+qb1Eq969pixIvfQO/bc
 T8/vkyiieLiNCtN5JHCPNUH7ubbBFlsXvpyhNAjH6b+dbXZnSG9+VnEmJ
X-Google-Smtp-Source: AGHT+IHqNuTRX1oHlSKbK8xLvKSzgBTOrhzFWa/r87v5TJ5o67Qh/cLKvIUQC1jyIhLxXLpHEMxSRS3N7ioj
X-Received: by 2002:a05:6870:d623:b0:245:47b5:604 with SMTP id
 586e51a60fabf-24547b506d8mr3743871fac.49.1715909530069; 
 Thu, 16 May 2024 18:32:10 -0700 (PDT)
Received: from postal.iol.unh.edu (postal.iol.unh.edu.
 [2606:4100:3880:1234::84]) by smtp-relay.gmail.com with ESMTPS id
 586e51a60fabf-24544131d8csm112045fac.3.2024.05.16.18.32.09
 (version=TLS1_2 cipher=ECDHE-ECDSA-AES128-GCM-SHA256 bits=128/128);
 Thu, 16 May 2024 18:32:10 -0700 (PDT)
X-Relaying-Domain: iol.unh.edu
Date: Thu, 16 May 2024 18:32:10 -0700 (PDT)
Message-ID: <6646b39a.050a0220.2fe13.6e0bSMTPIN_ADDED_MISSING@mx.google.com>
Received: from [172.21.0.6] (unknown [172.18.0.240])
 by postal.iol.unh.edu (Postfix) with ESMTP id 857FF605C380;
 Thu, 16 May 2024 21:32:09 -0400 (EDT)
Subject: |SUCCESS| pw140149-140157 [PATCH] [v6,9/9] net/null: use generic SW 
From: dpdklab@iol.unh.edu
To: Test Report <test-report@dpdk.org>
Cc: Stephen Hemminger <stephen@networkplumber.org>
In-Reply-To: <20240517001302.65514-10-stephen@networkplumber.org>
References: <20240517001302.65514-10-stephen@networkplumber.org>
Content-Type: text/plain
X-BeenThere: test-report@dpdk.org
X-Mailman-Version: 2.1.29
Precedence: list
List-Id: automatic DPDK test reports <test-report.dpdk.org>
List-Unsubscribe: <https://mails.dpdk.org/options/test-report>,
 <mailto:test-report-request@dpdk.org?subject=unsubscribe>
List-Archive: <http://mails.dpdk.org/archives/test-report/>
List-Post: <mailto:test-report@dpdk.org>
List-Help: <mailto:test-report-request@dpdk.org?subject=help>
List-Subscribe: <https://mails.dpdk.org/listinfo/test-report>,
 <mailto:test-report-request@dpdk.org?subject=subscribe>
Errors-To: test-report-bounces@dpdk.org

Test-Label: iol-unit-amd64-testing
Test-Status: SUCCESS
http://dpdk.org/patch/140157

_Testing PASS_

Submitter: Stephen Hemminger <stephen@networkplumber.org>
Date: Friday, May 17 2024 00:12:09 
DPDK git baseline: Repo:dpdk
  Branch: master
  CommitID:e5bf3e397b34082673b9fe06f4b8f667c8e4913d

140149-140157 --> testing pass

Test environment and result as below:

+---------------------+----------------+
|     Environment     | dpdk_unit_test |
+=====================+================+
| Windows Server 2019 | PASS           |
+---------------------+----------------+
| Windows Server 2022 | PASS           |
+---------------------+----------------+
| CentOS Stream 8     | PASS           |
+---------------------+----------------+
| CentOS Stream 9     | PASS           |
+---------------------+----------------+
| Fedora 37           | PASS           |
+---------------------+----------------+
| Debian Bullseye     | PASS           |
+---------------------+----------------+


Windows Server 2019
	Kernel: 10.0.17763
	Compiler: clang 14.0 and gcc 8.1.0 (MinGW)

Windows Server 2022
	Kernel: 10.0.20348.2031
	Compiler: clang 15.0.7, gcc 8.1.0 (MinGW), and MSVC VS 17.9

CentOS Stream 8
	Kernel: 5.4.0-167-generic
	Compiler: gcc 8.5.0 20210514

CentOS Stream 9
	Kernel: 5.4.0-167-generic
	Compiler: gcc 11.4.1 20230605

Fedora 37
	Kernel: Depends on container host system
	Compiler: gcc 12.3.1

Debian Bullseye
	Kernel: 5.4.0-167-generic
	Compiler: gcc 10.2.1-6

To view detailed results, visit:
https://lab.dpdk.org/results/dashboard/patchsets/29972/

UNH-IOL DPDK Community Lab

To manage your email subscriptions, visit: 
https://lab.dpdk.org/results/dashboard/preferences/subscriptions/