From mboxrd@z Thu Jan  1 00:00:00 1970
Return-Path: <test-report-bounces@dpdk.org>
Received: from mails.dpdk.org (mails.dpdk.org [217.70.189.124])
	by inbox.dpdk.org (Postfix) with ESMTP id 35F9C44044
	for <public@inbox.dpdk.org>; Fri, 17 May 2024 03:34:20 +0200 (CEST)
Received: from mails.dpdk.org (localhost [127.0.0.1])
	by mails.dpdk.org (Postfix) with ESMTP id 315FA40285;
	Fri, 17 May 2024 03:34:20 +0200 (CEST)
Received: from mail-oo1-f98.google.com (mail-oo1-f98.google.com
 [209.85.161.98]) by mails.dpdk.org (Postfix) with ESMTP id B00C74027F
 for <test-report@dpdk.org>; Fri, 17 May 2024 03:34:19 +0200 (CEST)
Received: by mail-oo1-f98.google.com with SMTP id
 006d021491bc7-5b277e17e15so607262eaf.2
 for <test-report@dpdk.org>; Thu, 16 May 2024 18:34:19 -0700 (PDT)
DKIM-Signature: v=1; a=rsa-sha256; c=relaxed/relaxed;
 d=iol.unh.edu; s=unh-iol; t=1715909659; x=1716514459; darn=dpdk.org;
 h=references:in-reply-to:cc:to:from:subject:message-id:date:from:to
 :cc:subject:date:message-id:reply-to;
 bh=FLkgDG4LCdu7R7m8XJjVNUXlemlBE+YxK/LzAZxFecA=;
 b=f2EXpao1i3f278v2PyIwiIkv3e/e3l6E9ioAd8v4ADc1Xqy/mmB4lPVbPyIG2vt8o5
 7nbin2uQ394ysHb9OSI6sAw37qCy+fjltfg9eiFKuWSgrIgXqEaI9dxJd0InW4Gdb9Ze
 MGNsft2CENa7WQfd5YitXonPN8Ailf9UUqAyw=
X-Google-DKIM-Signature: v=1; a=rsa-sha256; c=relaxed/relaxed;
 d=1e100.net; s=20230601; t=1715909659; x=1716514459;
 h=references:in-reply-to:cc:to:from:subject:message-id:date
 :x-gm-message-state:from:to:cc:subject:date:message-id:reply-to;
 bh=FLkgDG4LCdu7R7m8XJjVNUXlemlBE+YxK/LzAZxFecA=;
 b=qTGTatkzf6TDlgSPCUd23ici8x0fUvLh31AlrdlSRDVwrNMRperg3YfA8mUQJzAj61
 XtG+UUljk0bBak+6GbYHxSyl+e9SbCdSLZG31n4CLcm8vWP+Woimch4riXzzt0bF/hwh
 vQYMNPK8wJP8eCfl+dI9RqAVGRK1MTcTGmfpIDnYeX9SAXzonM5/zrOhDZ4mEynAJNL+
 kMVjMAppoT8OOFYKsPzJrrHsvty95T94hA1/x1pwMou4dlVJcxkBSx0fuZ6rdmIInIlY
 jW/GDS1sfReFFTCblLyAJgWzpn+iadtEOAL8qYiRI12twTTX6Le2RMDnOybLfttqoMH3
 pfdg==
X-Gm-Message-State: AOJu0Yw4y1aSLjx8LwG5yDZQYXP+YLCgy02vMBxSASMUxb+vP3lw5kQN
 ca0JhOZtGiLArItPCaDQMCWb7WgYbEBycGg/JhyfDrhU/rEny/OVV0Kn1D05faw4pgP5K96vGUP
 KydzqrsX33i1Ifb0PUAdZEqxnR0d4KvpauBJi0Gys
X-Google-Smtp-Source: AGHT+IGVw0MDqXW9GCOukjJINM0qDbvgP4I1CB5Zxysx61DZ/CPeP/MU4h+8X39fMtOaDLGDkGBKS3r4IGEZ
X-Received: by 2002:a4a:8553:0:b0:5b2:f1cb:1a3f with SMTP id
 006d021491bc7-5b2f1cb1b21mr7571577eaf.7.1715909658968; 
 Thu, 16 May 2024 18:34:18 -0700 (PDT)
Received: from postal.iol.unh.edu (postal.iol.unh.edu. [132.177.123.84])
 by smtp-relay.gmail.com with ESMTPS id
 006d021491bc7-5b27707b774sm1480513eaf.4.2024.05.16.18.34.18
 (version=TLS1_2 cipher=ECDHE-ECDSA-AES128-GCM-SHA256 bits=128/128);
 Thu, 16 May 2024 18:34:18 -0700 (PDT)
X-Relaying-Domain: iol.unh.edu
Date: Thu, 16 May 2024 18:34:18 -0700 (PDT)
Message-ID: <6646b41a.4a0a0220.6e20f.59b7SMTPIN_ADDED_MISSING@mx.google.com>
Received: from [172.21.0.6] (unknown [172.18.0.240])
 by postal.iol.unh.edu (Postfix) with ESMTP id 69700605C380;
 Thu, 16 May 2024 21:34:18 -0400 (EDT)
Subject: |SUCCESS| pw140149-140157 [PATCH] [v6,9/9] net/null: use generic SW 
From: dpdklab@iol.unh.edu
To: Test Report <test-report@dpdk.org>
Cc: dpdk-test-reports@iol.unh.edu
In-Reply-To: <20240517001302.65514-10-stephen@networkplumber.org>
References: <20240517001302.65514-10-stephen@networkplumber.org>
Content-Type: text/plain
X-BeenThere: test-report@dpdk.org
X-Mailman-Version: 2.1.29
Precedence: list
List-Id: automatic DPDK test reports <test-report.dpdk.org>
List-Unsubscribe: <https://mails.dpdk.org/options/test-report>,
 <mailto:test-report-request@dpdk.org?subject=unsubscribe>
List-Archive: <http://mails.dpdk.org/archives/test-report/>
List-Post: <mailto:test-report@dpdk.org>
List-Help: <mailto:test-report-request@dpdk.org?subject=help>
List-Subscribe: <https://mails.dpdk.org/listinfo/test-report>,
 <mailto:test-report-request@dpdk.org?subject=subscribe>
Errors-To: test-report-bounces@dpdk.org

Test-Label: iol-compile-amd64-testing
Test-Status: SUCCESS
http://dpdk.org/patch/140157

_Testing PASS_

Submitter: Stephen Hemminger <stephen@networkplumber.org>
Date: Friday, May 17 2024 00:12:09 
DPDK git baseline: Repo:dpdk
  Branch: master
  CommitID:e5bf3e397b34082673b9fe06f4b8f667c8e4913d

140149-140157 --> testing pass

Test environment and result as below:

+---------------------+--------------------+----------------------+-------------------+------------------+
|     Environment     | dpdk_meson_compile | dpdk_mingw64_compile | dpdk_msvc_compile | dpdk_compile_ovs |
+=====================+====================+======================+===================+==================+
| Windows Server 2022 | PASS               | PASS                 | PASS              | SKIPPED          |
+---------------------+--------------------+----------------------+-------------------+------------------+
| FreeBSD 13.3        | PASS               | SKIPPED              | SKIPPED           | SKIPPED          |
+---------------------+--------------------+----------------------+-------------------+------------------+
| FreeBSD 14.0        | PASS               | SKIPPED              | SKIPPED           | SKIPPED          |
+---------------------+--------------------+----------------------+-------------------+------------------+
| Windows Server 2019 | PASS               | PASS                 | SKIPPED           | SKIPPED          |
+---------------------+--------------------+----------------------+-------------------+------------------+
| CentOS Stream 8     | PASS               | SKIPPED              | SKIPPED           | PASS             |
+---------------------+--------------------+----------------------+-------------------+------------------+
| Debian Bullseye     | PASS               | SKIPPED              | SKIPPED           | PASS             |
+---------------------+--------------------+----------------------+-------------------+------------------+
| Fedora 38           | PASS               | SKIPPED              | SKIPPED           | PASS             |
+---------------------+--------------------+----------------------+-------------------+------------------+
| CentOS Stream 9     | PASS               | SKIPPED              | SKIPPED           | PASS             |
+---------------------+--------------------+----------------------+-------------------+------------------+
| Fedora 39           | PASS               | SKIPPED              | SKIPPED           | PASS             |
+---------------------+--------------------+----------------------+-------------------+------------------+
| Debian 12           | PASS               | SKIPPED              | SKIPPED           | PASS             |
+---------------------+--------------------+----------------------+-------------------+------------------+
| Fedora 37           | PASS               | SKIPPED              | SKIPPED           | PASS             |
+---------------------+--------------------+----------------------+-------------------+------------------+


Windows Server 2022
	Kernel: 10.0.20348.2031
	Compiler: clang 15.0.7, gcc 8.1.0 (MinGW), and MSVC VS 17.9

FreeBSD 13.3
	Kernel: 13.3-RELEASE-p1
	Compiler: clang 17.0.6

FreeBSD 14.0
	Kernel: 14.0
	Compiler: clang 16.0.6

Windows Server 2019
	Kernel: 10.0.17763
	Compiler: clang 14.0 and gcc 8.1.0 (MinGW)

CentOS Stream 8
	Kernel: 5.4.0-167-generic
	Compiler: gcc 8.5.0 20210514

Debian Bullseye
	Kernel: 5.4.0-167-generic
	Compiler: gcc 10.2.1-6

Fedora 38
	Kernel: Depends on container host
	Compiler: clang 16.0.6

CentOS Stream 9
	Kernel: 5.4.0-167-generic
	Compiler: gcc 11.4.1 20230605

Fedora 39
	Kernel: Depends on container host
	Compiler: clang 17.0.6

Debian 12
	Kernel: Container Host Kernel
	Compiler: gcc 10.2.1

Fedora 37
	Kernel: Depends on container host system
	Compiler: gcc 12.3.1

To view detailed results, visit:
https://lab.dpdk.org/results/dashboard/patchsets/29972/

UNH-IOL DPDK Community Lab

To manage your email subscriptions, visit: 
https://lab.dpdk.org/results/dashboard/preferences/subscriptions/