From mboxrd@z Thu Jan  1 00:00:00 1970
Return-Path: <test-report-bounces@dpdk.org>
Received: from mails.dpdk.org (mails.dpdk.org [217.70.189.124])
	by inbox.dpdk.org (Postfix) with ESMTP id 0AF4144045
	for <public@inbox.dpdk.org>; Fri, 17 May 2024 05:38:13 +0200 (CEST)
Received: from mails.dpdk.org (localhost [127.0.0.1])
	by mails.dpdk.org (Postfix) with ESMTP id 0748A4029B;
	Fri, 17 May 2024 05:38:13 +0200 (CEST)
Received: from mail-qv1-f98.google.com (mail-qv1-f98.google.com
 [209.85.219.98]) by mails.dpdk.org (Postfix) with ESMTP id D76E44027F
 for <test-report@dpdk.org>; Fri, 17 May 2024 05:38:10 +0200 (CEST)
Received: by mail-qv1-f98.google.com with SMTP id
 6a1803df08f44-69b47833dc5so856216d6.0
 for <test-report@dpdk.org>; Thu, 16 May 2024 20:38:10 -0700 (PDT)
DKIM-Signature: v=1; a=rsa-sha256; c=relaxed/relaxed;
 d=iol.unh.edu; s=unh-iol; t=1715917090; x=1716521890; darn=dpdk.org;
 h=references:in-reply-to:cc:to:from:subject:message-id:date:from:to
 :cc:subject:date:message-id:reply-to;
 bh=LRRTTloZa9YHm2dk3zQ99Eq+gSPXi4Rg1xxq91d9ODo=;
 b=cN61EiRMOXJ5UTNJElTNNTa0UvOmN7+zOUYGe+JTYO/mvOfewQpBuZEotdANhj2dul
 xk588k73JJZvpjRvas44LkvP8s6p+ZGQv5RNogGu7xIY6SolSF3zVAlSN03dP2HFUCv3
 E5WKb7iyOwix4uexVMPhKxjU+swWnzuj5Ri1c=
X-Google-DKIM-Signature: v=1; a=rsa-sha256; c=relaxed/relaxed;
 d=1e100.net; s=20230601; t=1715917090; x=1716521890;
 h=references:in-reply-to:cc:to:from:subject:message-id:date
 :x-gm-message-state:from:to:cc:subject:date:message-id:reply-to;
 bh=LRRTTloZa9YHm2dk3zQ99Eq+gSPXi4Rg1xxq91d9ODo=;
 b=iZBtagHf1Sk3j9Qh6GMVXDsR4oC5f4PDhG0SeQZZttpggVl2Dh9I+oLUhgcmQSVeTW
 x80UOg8/tlgIJf19YwB6Q7OCdSv5jkDsLeiiN+stFmyOEFY0Oy4EhUftwdtDmZBlvxwM
 GP/3uZMBqr9zm6jvjkcmA6kbUkrJOfBTV7AEVItrnyKqD2AQJu17CkC0FhyErvDt1H/l
 3cSu/5fVsOil77O44Vw1b7aVhrHhIuc6H2NUjxdu2fgZ+T99j3uJDfgh5jB5thekfmV7
 ilAV8qD6xvgGOcunTydL4SkvYXUsBWK7G8o7GDDwCCAWK/3oxjs7bXkRjJ1btmb7+Pw4
 J48g==
X-Gm-Message-State: AOJu0YwYl1713i0XnQWWis+iyIikNfyBIHzeiFsA1FdN40Emd0vzieEG
 pe5GwtwwBodmZqXXfehtzO5qIgjLaUePm8tc1EmgbAuifzIqHqVtP07D8YPixYMwJxrQNnmQldr
 EGjzi6hmzKFqymWbK0SbJDBkjlKXD35sVTun7nSUw
X-Google-Smtp-Source: AGHT+IHIzuBEEv73rTIMrJSR3en8EwrdMqxMwyM6RZDu1AbwjIMIE4IJ8SNUFuQVrff72iIukmYABM/WVG00
X-Received: by 2002:a05:6214:43c7:b0:69b:4503:9fbf with SMTP id
 6a1803df08f44-6a168208f9dmr231706766d6.43.1715917090152; 
 Thu, 16 May 2024 20:38:10 -0700 (PDT)
Received: from postal.iol.unh.edu (postal.iol.unh.edu. [132.177.123.84])
 by smtp-relay.gmail.com with ESMTPS id
 6a1803df08f44-6a15f1ab5bdsm11123886d6.3.2024.05.16.20.38.10
 (version=TLS1_2 cipher=ECDHE-ECDSA-AES128-GCM-SHA256 bits=128/128);
 Thu, 16 May 2024 20:38:10 -0700 (PDT)
X-Relaying-Domain: iol.unh.edu
Date: Thu, 16 May 2024 20:38:10 -0700 (PDT)
Message-ID: <6646d122.d40a0220.2dd16.ee5bSMTPIN_ADDED_MISSING@mx.google.com>
Received: from [172.17.0.2] (unknown [172.18.0.217])
 by postal.iol.unh.edu (Postfix) with ESMTP id D1DDF605C373;
 Thu, 16 May 2024 23:38:09 -0400 (EDT)
Subject: |SUCCESS| pw140149-140157 [PATCH] [v6,9/9] net/null: use generic SW 
From: dpdklab@iol.unh.edu
To: Test Report <test-report@dpdk.org>
Cc: dpdk-test-reports@iol.unh.edu
In-Reply-To: <20240517001302.65514-10-stephen@networkplumber.org>
References: <20240517001302.65514-10-stephen@networkplumber.org>
Content-Type: text/plain
X-BeenThere: test-report@dpdk.org
X-Mailman-Version: 2.1.29
Precedence: list
List-Id: automatic DPDK test reports <test-report.dpdk.org>
List-Unsubscribe: <https://mails.dpdk.org/options/test-report>,
 <mailto:test-report-request@dpdk.org?subject=unsubscribe>
List-Archive: <http://mails.dpdk.org/archives/test-report/>
List-Post: <mailto:test-report@dpdk.org>
List-Help: <mailto:test-report-request@dpdk.org?subject=help>
List-Subscribe: <https://mails.dpdk.org/listinfo/test-report>,
 <mailto:test-report-request@dpdk.org?subject=subscribe>
Errors-To: test-report-bounces@dpdk.org

Test-Label: iol-compile-arm64-testing
Test-Status: SUCCESS
http://dpdk.org/patch/140157

_Testing PASS_

Submitter: Stephen Hemminger <stephen@networkplumber.org>
Date: Friday, May 17 2024 00:12:09 
DPDK git baseline: Repo:dpdk
  Branch: master
  CommitID:e5bf3e397b34082673b9fe06f4b8f667c8e4913d

140149-140157 --> testing pass

Test environment and result as below:

+----------------------------------------+--------------------+
|              Environment               | dpdk_meson_compile |
+========================================+====================+
| Ubuntu 20.04 ARM SVE                   | PASS               |
+----------------------------------------+--------------------+
| Debian 12 with MUSDK                   | PASS               |
+----------------------------------------+--------------------+
| Debian 12 (arm)                        | PASS               |
+----------------------------------------+--------------------+
| Ubuntu 20.04 aarch32 GCC Cross Compile | PASS               |
+----------------------------------------+--------------------+
| Ubuntu 20.04 ARM Clang Cross Compile   | PASS               |
+----------------------------------------+--------------------+
| Ubuntu 20.04 ARM GCC Cross Compile     | PASS               |
+----------------------------------------+--------------------+
| Fedora 38 (ARM)                        | PASS               |
+----------------------------------------+--------------------+
| Fedora 39 (ARM Clang)                  | PASS               |
+----------------------------------------+--------------------+
| Fedora 38 (ARM Clang)                  | PASS               |
+----------------------------------------+--------------------+
| Debian 11 (Buster) (ARM)               | PASS               |
+----------------------------------------+--------------------+
| CentOS Stream 9 (ARM)                  | PASS               |
+----------------------------------------+--------------------+
| Ubuntu 20.04 (ARM)                     | PASS               |
+----------------------------------------+--------------------+
| Fedora 37 (ARM)                        | PASS               |
+----------------------------------------+--------------------+


Ubuntu 20.04 ARM SVE
	Kernel: 5.4.0-167-generic
	Compiler: gcc (Ubuntu 10.5.0-1ubuntu1~20.04) 10.5.0

Debian 12 with MUSDK
	Kernel: Container Host Kernel
	Compiler: gcc 12.2.0

Debian 12 (arm)
	Kernel: Container Host Kernel
	Compiler: gcc 12.2.0

Ubuntu 20.04 aarch32 GCC Cross Compile
	Kernel: 5.4.0-167-generic
	Compiler: gcc 9.4.0

Ubuntu 20.04 ARM Clang Cross Compile
	Kernel: 5.4.0-72-generic
	Compiler: clang 10.0.0-4ubuntu1

Ubuntu 20.04 ARM GCC Cross Compile
	Kernel: 5.4.0-167-generic
	Compiler: aarch64-linux-gnu-gcc (Ubuntu 9.4.0-1ubuntu1~20.04.2) 9.4.0

Fedora 38 (ARM)
	Kernel: Depends on container host
	Compiler: gcc 13.2.1

Fedora 39 (ARM Clang)
	Kernel: Depends on container host
	Compiler: clang 17.0.6

Fedora 38 (ARM Clang)
	Kernel: Depends on container host
	Compiler: clang 16.0.6

Debian 11 (Buster) (ARM)
	Kernel: Container Host Kernel
	Compiler: gcc 10.2.1

CentOS Stream 9 (ARM)
	Kernel: Container Host Kernel
	Compiler: gcc 11.4.1

Ubuntu 20.04 (ARM)
	Kernel: Container Host Kernel
	Compiler: gcc 9.4.0

Fedora 37 (ARM)
	Kernel: Depends on container host
	Compiler: gcc 12.3.1

To view detailed results, visit:
https://lab.dpdk.org/results/dashboard/patchsets/29972/

UNH-IOL DPDK Community Lab

To manage your email subscriptions, visit: 
https://lab.dpdk.org/results/dashboard/preferences/subscriptions/