From mboxrd@z Thu Jan  1 00:00:00 1970
Return-Path: <test-report-bounces@dpdk.org>
Received: from mails.dpdk.org (mails.dpdk.org [217.70.189.124])
	by inbox.dpdk.org (Postfix) with ESMTP id A51F344055
	for <public@inbox.dpdk.org>; Fri, 17 May 2024 20:51:43 +0200 (CEST)
Received: from mails.dpdk.org (localhost [127.0.0.1])
	by mails.dpdk.org (Postfix) with ESMTP id 9D20A40278;
	Fri, 17 May 2024 20:51:43 +0200 (CEST)
Received: from mail-il1-f227.google.com (mail-il1-f227.google.com
 [209.85.166.227])
 by mails.dpdk.org (Postfix) with ESMTP id A240D40268
 for <test-report@dpdk.org>; Fri, 17 May 2024 20:51:42 +0200 (CEST)
Received: by mail-il1-f227.google.com with SMTP id
 e9e14a558f8ab-36c947ff642so8495985ab.2
 for <test-report@dpdk.org>; Fri, 17 May 2024 11:51:42 -0700 (PDT)
DKIM-Signature: v=1; a=rsa-sha256; c=relaxed/relaxed;
 d=iol.unh.edu; s=unh-iol; t=1715971902; x=1716576702; darn=dpdk.org;
 h=references:in-reply-to:cc:to:from:subject:message-id:date:from:to
 :cc:subject:date:message-id:reply-to;
 bh=QARYCqnAL9BtBKEe5Mj9+cKWhriiQWJe8/5986hni5U=;
 b=EOBuXPMxD7B4cnK8hv9hY4TM16eiVvtODFreYiqfmzuHts1oJUDEpMUBACQh+ridH2
 lwvPlSESa++mNTMepgy8+SB9fsZrO5UZmmSNhemmg/9sNQqGA49ZIXJcOsaHANKqL+tK
 tPLKkqq+1z/BId9VusqTe6HQPpJSQAsstdU/s=
X-Google-DKIM-Signature: v=1; a=rsa-sha256; c=relaxed/relaxed;
 d=1e100.net; s=20230601; t=1715971902; x=1716576702;
 h=references:in-reply-to:cc:to:from:subject:message-id:date
 :x-gm-message-state:from:to:cc:subject:date:message-id:reply-to;
 bh=QARYCqnAL9BtBKEe5Mj9+cKWhriiQWJe8/5986hni5U=;
 b=q0SgasflGkUztyqdPGeuqLaEA4xQe8rnGS9FMZR26AVknQwFRz15vo+UYqDjhWlM18
 9XXqiU4LoociQH5YXoRsYx6wmBHWyKNEHmkRvsG21DIgV/lcQdcGyTqJJB8vJ4sRjYTN
 SA2R3BI1iRU30e5KLgTTn5RCT3PqqDRQBrkQpHHbAK/cN4gep99k5af7KxNhUeB2fPZX
 xjJFvaKwO8v0T3KtkPW9CUNV4pTIdOHAYwXivS4Kt0t3FR7zFMQ3UeJ1xN2oJrMQVQsh
 K15Hr54/bR7sfGfUcH88uBfWEeLqt5vVpHLd9PjLCwvxL3uTXZdNxCcRyxW+NORt0F3J
 /HjQ==
X-Gm-Message-State: AOJu0Yxose7MVt02YhK5nFM92yDJbEFOWRqnbuoZO0zdm/WDYSDfIvMp
 f8PiLoVkf4gDEUErSQ0J0k4J7v4Zp/TJQPKKiuBIxcFjLDxy9ajtWBPMwF0m4so0fFr/vCZZreh
 Pw9JTOYTqsHQKns5stK0sm6YzHx2yZY07jVIHSC3S
X-Google-Smtp-Source: AGHT+IEAWrg3jn7RJOcufZSVMpgcMGmrynvCAKfnSocUjLUgEebp2SwFFGnJnOuDTLtrjZ16/VgHNFCxStYQ
X-Received: by 2002:a05:6e02:1d8b:b0:36c:7bdb:c870 with SMTP id
 e9e14a558f8ab-36cc1473f3emr290575975ab.10.1715971902040; 
 Fri, 17 May 2024 11:51:42 -0700 (PDT)
Received: from postal.iol.unh.edu (postal.iol.unh.edu. [132.177.123.84])
 by smtp-relay.gmail.com with ESMTPS id
 e9e14a558f8ab-36cb9de704esm8884555ab.60.2024.05.17.11.51.41
 (version=TLS1_2 cipher=ECDHE-ECDSA-AES128-GCM-SHA256 bits=128/128);
 Fri, 17 May 2024 11:51:42 -0700 (PDT)
X-Relaying-Domain: iol.unh.edu
Date: Fri, 17 May 2024 11:51:42 -0700 (PDT)
Message-ID: <6647a73e.050a0220.8f6c7.e4d6SMTPIN_ADDED_MISSING@mx.google.com>
Received: from [172.21.0.6] (unknown [172.18.0.240])
 by postal.iol.unh.edu (Postfix) with ESMTP id 7D076605C373;
 Fri, 17 May 2024 14:51:41 -0400 (EDT)
Subject: |SUCCESS| pw140173-140181 [PATCH] [v7,9/9] net/null: use generic SW 
From: dpdklab@iol.unh.edu
To: Test Report <test-report@dpdk.org>
Cc: dpdk-test-reports@iol.unh.edu
In-Reply-To: <20240517174044.90952-10-stephen@networkplumber.org>
References: <20240517174044.90952-10-stephen@networkplumber.org>
Content-Type: text/plain
X-BeenThere: test-report@dpdk.org
X-Mailman-Version: 2.1.29
Precedence: list
List-Id: automatic DPDK test reports <test-report.dpdk.org>
List-Unsubscribe: <https://mails.dpdk.org/options/test-report>,
 <mailto:test-report-request@dpdk.org?subject=unsubscribe>
List-Archive: <http://mails.dpdk.org/archives/test-report/>
List-Post: <mailto:test-report@dpdk.org>
List-Help: <mailto:test-report-request@dpdk.org?subject=help>
List-Subscribe: <https://mails.dpdk.org/listinfo/test-report>,
 <mailto:test-report-request@dpdk.org?subject=subscribe>
Errors-To: test-report-bounces@dpdk.org

Test-Label: iol-unit-arm64-testing
Test-Status: SUCCESS
http://dpdk.org/patch/140181

_Testing PASS_

Submitter: Stephen Hemminger <stephen@networkplumber.org>
Date: Friday, May 17 2024 17:35:16 
DPDK git baseline: Repo:dpdk
  Branch: master
  CommitID:6f80df8cb0f889203d7cd27766abcc6ebc720e33

140173-140181 --> testing pass

Test environment and result as below:

+-----------------------------+------------------------------+---------------------------+----------------+
|         Environment         | cryptodev_sw_snow3g_autotest | cryptodev_sw_zuc_autotest | dpdk_unit_test |
+=============================+==============================+===========================+================+
| Debian 12 (arm)             | PASS                         | PASS                      | SKIPPED        |
+-----------------------------+------------------------------+---------------------------+----------------+
| CentOS Stream 9 (ARM)       | SKIPPED                      | SKIPPED                   | PASS           |
+-----------------------------+------------------------------+---------------------------+----------------+
| Fedora 38 (ARM)             | SKIPPED                      | SKIPPED                   | PASS           |
+-----------------------------+------------------------------+---------------------------+----------------+
| Fedora 39 (ARM)             | SKIPPED                      | SKIPPED                   | PASS           |
+-----------------------------+------------------------------+---------------------------+----------------+
| 32-bit Ubuntu 20.04.4 (ARM) | SKIPPED                      | SKIPPED                   | PASS           |
+-----------------------------+------------------------------+---------------------------+----------------+
| Debian 11 (Buster) (ARM)    | SKIPPED                      | SKIPPED                   | PASS           |
+-----------------------------+------------------------------+---------------------------+----------------+


Debian 12 (arm)
	Kernel: Container Host Kernel
	Compiler: gcc 12.2.0

CentOS Stream 9 (ARM)
	Kernel: Container Host Kernel
	Compiler: gcc 11.4.1

Fedora 38 (ARM)
	Kernel: Depends on container host
	Compiler: gcc 13.2.1

Fedora 39 (ARM)
	Kernel: Depends on container host
	Compiler: gcc 13.2.1

32-bit Ubuntu 20.04.4 (ARM)
	Kernel: 5.4.0-155-generic aarch64
	Compiler: gcc 9.4

Debian 11 (Buster) (ARM)
	Kernel: Container Host Kernel
	Compiler: gcc 10.2.1

To view detailed results, visit:
https://lab.dpdk.org/results/dashboard/patchsets/29976/

UNH-IOL DPDK Community Lab

To manage your email subscriptions, visit: 
https://lab.dpdk.org/results/dashboard/preferences/subscriptions/