From mboxrd@z Thu Jan  1 00:00:00 1970
Return-Path: <test-report-bounces@dpdk.org>
Received: from mails.dpdk.org (mails.dpdk.org [217.70.189.124])
	by inbox.dpdk.org (Postfix) with ESMTP id 08DFE44055
	for <public@inbox.dpdk.org>; Fri, 17 May 2024 20:52:34 +0200 (CEST)
Received: from mails.dpdk.org (localhost [127.0.0.1])
	by mails.dpdk.org (Postfix) with ESMTP id 054FC40278;
	Fri, 17 May 2024 20:52:34 +0200 (CEST)
Received: from mail-il1-f228.google.com (mail-il1-f228.google.com
 [209.85.166.228])
 by mails.dpdk.org (Postfix) with ESMTP id 4C21A40268
 for <test-report@dpdk.org>; Fri, 17 May 2024 20:52:32 +0200 (CEST)
Received: by mail-il1-f228.google.com with SMTP id
 e9e14a558f8ab-36c826d6edeso3525615ab.0
 for <test-report@dpdk.org>; Fri, 17 May 2024 11:52:32 -0700 (PDT)
DKIM-Signature: v=1; a=rsa-sha256; c=relaxed/relaxed;
 d=iol.unh.edu; s=unh-iol; t=1715971951; x=1716576751; darn=dpdk.org;
 h=references:in-reply-to:cc:to:from:subject:message-id:date:from:to
 :cc:subject:date:message-id:reply-to;
 bh=+FFM8KZPbPz5Meke4LsWsSqI8nfVm59JEnpWW1yYNx0=;
 b=IGFrpJ9+wiDozPnbr3TAb8SE9isUDE2971L/8Mq6V4oRcvzkOgxL7wVC6Ks4GNmWMI
 SGaM23yQ8Yxavfqp8HddESuYOAuahqrUi6DEleh/UBWqDN7vCwPKZ2Xb6GpDvkUoL5G4
 UYjEOAWGZZGjFcDBAKh2CZYnT8TDb8/0n4cwM=
X-Google-DKIM-Signature: v=1; a=rsa-sha256; c=relaxed/relaxed;
 d=1e100.net; s=20230601; t=1715971951; x=1716576751;
 h=references:in-reply-to:cc:to:from:subject:message-id:date
 :x-gm-message-state:from:to:cc:subject:date:message-id:reply-to;
 bh=+FFM8KZPbPz5Meke4LsWsSqI8nfVm59JEnpWW1yYNx0=;
 b=Yb8QTGsvr/sXCL2ZqA5XrqA+XV3HV/fx4eHESmauB2ZqD3IQLSpdpOXIqEgybGMhIh
 7a3lKDEGxgBUoiQp+kpmFupUwUwB2kjvERTVcnuGeYqX6gLWFA5IHIO0KwcSnhBDIcEi
 Ypm78Ay5i007d7z6ZCblUKdJGeu+gbt48Kahf27rPNMlK7sGOZH32sV8JR8Xcm5xnYt/
 miyPJqL84boQbc2KMkySf3f4Nz7aIR6eZvhuSDUB3sn9Va3ov/ouWkmnMBQlHvBZJvEA
 +F/q5gt/dVwHDi2AKcd6P5y0nQ+tPgjJH7LIe7+RjaWeu7HL8nacPsyzZWtQIWJ7sVSV
 ya7g==
X-Gm-Message-State: AOJu0Yy+QxgaKdXsNQ5apFeRvLHKiWEez5I+EwIpFsHbiQOB1ycKyRTh
 4jpjkmcc1wy/s+KS92VXweW+V8dpWeinh9yQVHI34Mk5b+9qPA0+/Oy7Wbu/QQ6OQIB3PSfSWuK
 JksUadItOxXWuBeADIC28T5GV3kVW8YxuGeygqYn9
X-Google-Smtp-Source: AGHT+IEwUz3HCF7WbEsLaFioy3RPQRWRT2WSwLN1114wzJyT6S5zvseYgHd/smISul3FkaFzCnFVgLNyTISu
X-Received: by 2002:a05:6e02:1607:b0:36b:2438:8805 with SMTP id
 e9e14a558f8ab-36cc1488a5fmr306490865ab.12.1715971951747; 
 Fri, 17 May 2024 11:52:31 -0700 (PDT)
Received: from postal.iol.unh.edu (postal.iol.unh.edu. [132.177.123.84])
 by smtp-relay.gmail.com with ESMTPS id
 8926c6da1cb9f-48937005f19sm932067173.36.2024.05.17.11.52.31
 (version=TLS1_2 cipher=ECDHE-ECDSA-AES128-GCM-SHA256 bits=128/128);
 Fri, 17 May 2024 11:52:31 -0700 (PDT)
X-Relaying-Domain: iol.unh.edu
Date: Fri, 17 May 2024 11:52:31 -0700 (PDT)
Message-ID: <6647a76f.050a0220.55c5.1f5bSMTPIN_ADDED_MISSING@mx.google.com>
Received: from [172.21.0.6] (unknown [172.18.0.240])
 by postal.iol.unh.edu (Postfix) with ESMTP id 39C51605C373;
 Fri, 17 May 2024 14:52:31 -0400 (EDT)
Subject: |SUCCESS| pw140171-140172 [PATCH] [v1,2/2] app/testpmd: introduce VX
From: dpdklab@iol.unh.edu
To: Test Report <test-report@dpdk.org>
Cc: dpdk-test-reports@iol.unh.edu
In-Reply-To: <20240517080735.1787616-3-gavinl@nvidia.com>
References: <20240517080735.1787616-3-gavinl@nvidia.com>
Content-Type: text/plain
X-BeenThere: test-report@dpdk.org
X-Mailman-Version: 2.1.29
Precedence: list
List-Id: automatic DPDK test reports <test-report.dpdk.org>
List-Unsubscribe: <https://mails.dpdk.org/options/test-report>,
 <mailto:test-report-request@dpdk.org?subject=unsubscribe>
List-Archive: <http://mails.dpdk.org/archives/test-report/>
List-Post: <mailto:test-report@dpdk.org>
List-Help: <mailto:test-report-request@dpdk.org?subject=help>
List-Subscribe: <https://mails.dpdk.org/listinfo/test-report>,
 <mailto:test-report-request@dpdk.org?subject=subscribe>
Errors-To: test-report-bounces@dpdk.org

Test-Label: iol-compile-amd64-testing
Test-Status: SUCCESS
http://dpdk.org/patch/140172

_Testing PASS_

Submitter: Gavin Li <gavinl@nvidia.com>
Date: Friday, May 17 2024 08:07:35 
DPDK git baseline: Repo:dpdk
  Branch: master
  CommitID:baa8e2c6b4d7ce289e891b9c96fb3193311c0f01

140171-140172 --> testing pass

Test environment and result as below:

+---------------------+--------------------+----------------------+
|     Environment     | dpdk_meson_compile | dpdk_mingw64_compile |
+=====================+====================+======================+
| FreeBSD 13.3        | PASS               | SKIPPED              |
+---------------------+--------------------+----------------------+
| Windows Server 2019 | PASS               | SKIPPED              |
+---------------------+--------------------+----------------------+
| FreeBSD 14.0        | PASS               | SKIPPED              |
+---------------------+--------------------+----------------------+
| Windows Server 2022 | SKIPPED            | PASS                 |
+---------------------+--------------------+----------------------+


FreeBSD 13.3
	Kernel: 13.3-RELEASE-p1
	Compiler: clang 17.0.6

Windows Server 2019
	Kernel: 10.0.17763
	Compiler: clang 14.0 and gcc 8.1.0 (MinGW)

FreeBSD 14.0
	Kernel: 14.0
	Compiler: clang 16.0.6

Windows Server 2022
	Kernel: 10.0.20348.2031
	Compiler: clang 15.0.7, gcc 8.1.0 (MinGW), and MSVC VS 17.9

To view detailed results, visit:
https://lab.dpdk.org/results/dashboard/patchsets/29975/

UNH-IOL DPDK Community Lab

To manage your email subscriptions, visit: 
https://lab.dpdk.org/results/dashboard/preferences/subscriptions/