From mboxrd@z Thu Jan  1 00:00:00 1970
Return-Path: <test-report-bounces@dpdk.org>
Received: from mails.dpdk.org (mails.dpdk.org [217.70.189.124])
	by inbox.dpdk.org (Postfix) with ESMTP id 3A17C44055
	for <public@inbox.dpdk.org>; Fri, 17 May 2024 20:52:55 +0200 (CEST)
Received: from mails.dpdk.org (localhost [127.0.0.1])
	by mails.dpdk.org (Postfix) with ESMTP id 31AE040278;
	Fri, 17 May 2024 20:52:55 +0200 (CEST)
Received: from mail-yw1-f226.google.com (mail-yw1-f226.google.com
 [209.85.128.226])
 by mails.dpdk.org (Postfix) with ESMTP id C01F540268
 for <test-report@dpdk.org>; Fri, 17 May 2024 20:52:53 +0200 (CEST)
Received: by mail-yw1-f226.google.com with SMTP id
 00721157ae682-61be74097cbso5064267b3.1
 for <test-report@dpdk.org>; Fri, 17 May 2024 11:52:53 -0700 (PDT)
DKIM-Signature: v=1; a=rsa-sha256; c=relaxed/relaxed;
 d=iol.unh.edu; s=unh-iol; t=1715971973; x=1716576773; darn=dpdk.org;
 h=references:in-reply-to:cc:to:from:subject:message-id:date:from:to
 :cc:subject:date:message-id:reply-to;
 bh=se6RADL/kJ0uO3udqT6/e5SAJxXkMv/lXwElx0MMGz4=;
 b=Zf+nPGvwMNBp5G+Dg+V6j9e7hrnuOPZQ2x3EtbO4n9k5z4u1BsIlbUdv9lDxdsNwAf
 vJ0eVgEjDniEVKim2pLpD0PAEzl7Wh8m/+0qQ7Faa/ecbTVdIVxwOwX0zEGI7cisCkLu
 JGVqnZE9rkYOQ/qVnkc1FApQcZOTrUrpTmQGA=
X-Google-DKIM-Signature: v=1; a=rsa-sha256; c=relaxed/relaxed;
 d=1e100.net; s=20230601; t=1715971973; x=1716576773;
 h=references:in-reply-to:cc:to:from:subject:message-id:date
 :x-gm-message-state:from:to:cc:subject:date:message-id:reply-to;
 bh=se6RADL/kJ0uO3udqT6/e5SAJxXkMv/lXwElx0MMGz4=;
 b=Pwka1gD8igcIHoko7SNqqnxTi6MydDYORBwRHF0QlY1WLWtyGrIvtHQWMVtovsGCiI
 hQkf9SuKUsQVThGpiENydfmb/kQ78XCU5YbkXWZDra/lJTn3huINXLuPYO+m0MKrS0XV
 v6QjQrb1wZFd+ECO4WXKQYm/oiBrDmaAKeuaKV4CwUmrQAMuubUh70IyKtI5407Rxld9
 vcjiCUhjyCERR7vVTDduhs7iqBHU0Tv85OUILSoO1tkDcQHeL8UX89ETUeSMdrit17mn
 Cgv498HC4ttxIN1xmvsWbR3BnWVMtoUSixsOCGivo+XZYbIMdPclP/+Cm32E8RfkMkQ2
 DCuw==
X-Gm-Message-State: AOJu0Yw7rSmSwm9AIM5Ow0t44r2MO5DoawkIL9nZD1CGop2byWjoyHxt
 4VI15Y+UH8m7eK2nqeH+DuNkpb5JqfHGfX/E2+i6vzgy9NgU7a76euY5Zfp+exci7hQqnyy3I0o
 7tq8IJi+QFINIfooLXMYrQ+rTTudVgnNGHx1c4Nkx
X-Google-Smtp-Source: AGHT+IH/RjqNe+uC7r63F54Ahy4ckAnEEe1v+Wv+A8fFp49EJMalk+Mb/qO/H6lLpuyatfXfLiDCWs4ysVq4
X-Received: by 2002:a05:690c:6a13:b0:61d:fd33:7e25 with SMTP id
 00721157ae682-622b0138631mr247515687b3.51.1715971973092; 
 Fri, 17 May 2024 11:52:53 -0700 (PDT)
Received: from postal.iol.unh.edu (postal.iol.unh.edu. [132.177.123.84])
 by smtp-relay.gmail.com with ESMTPS id
 00721157ae682-622f64afc64sm7941717b3.19.2024.05.17.11.52.53
 (version=TLS1_2 cipher=ECDHE-ECDSA-AES128-GCM-SHA256 bits=128/128);
 Fri, 17 May 2024 11:52:53 -0700 (PDT)
X-Relaying-Domain: iol.unh.edu
Date: Fri, 17 May 2024 11:52:53 -0700 (PDT)
Message-ID: <6647a785.0d0a0220.31dde.c175SMTPIN_ADDED_MISSING@mx.google.com>
Received: from [172.21.0.6] (unknown [172.18.0.240])
 by postal.iol.unh.edu (Postfix) with ESMTP id C6836605C373;
 Fri, 17 May 2024 14:52:52 -0400 (EDT)
Subject: |SUCCESS| pw140173-140181 [PATCH] [v7,9/9] net/null: use generic SW 
From: dpdklab@iol.unh.edu
To: Test Report <test-report@dpdk.org>
Cc: dpdk-test-reports@iol.unh.edu
In-Reply-To: <20240517174044.90952-10-stephen@networkplumber.org>
References: <20240517174044.90952-10-stephen@networkplumber.org>
Content-Type: text/plain
X-BeenThere: test-report@dpdk.org
X-Mailman-Version: 2.1.29
Precedence: list
List-Id: automatic DPDK test reports <test-report.dpdk.org>
List-Unsubscribe: <https://mails.dpdk.org/options/test-report>,
 <mailto:test-report-request@dpdk.org?subject=unsubscribe>
List-Archive: <http://mails.dpdk.org/archives/test-report/>
List-Post: <mailto:test-report@dpdk.org>
List-Help: <mailto:test-report-request@dpdk.org?subject=help>
List-Subscribe: <https://mails.dpdk.org/listinfo/test-report>,
 <mailto:test-report-request@dpdk.org?subject=subscribe>
Errors-To: test-report-bounces@dpdk.org

Test-Label: iol-compile-amd64-testing
Test-Status: SUCCESS
http://dpdk.org/patch/140181

_Testing PASS_

Submitter: Stephen Hemminger <stephen@networkplumber.org>
Date: Friday, May 17 2024 17:35:16 
DPDK git baseline: Repo:dpdk
  Branch: master
  CommitID:6f80df8cb0f889203d7cd27766abcc6ebc720e33

140173-140181 --> testing pass

Test environment and result as below:

+---------------------+--------------------+----------------------+-------------------+------------------+
|     Environment     | dpdk_meson_compile | dpdk_mingw64_compile | dpdk_msvc_compile | dpdk_compile_ovs |
+=====================+====================+======================+===================+==================+
| FreeBSD 13.3        | PASS               | SKIPPED              | SKIPPED           | SKIPPED          |
+---------------------+--------------------+----------------------+-------------------+------------------+
| FreeBSD 14.0        | PASS               | SKIPPED              | SKIPPED           | SKIPPED          |
+---------------------+--------------------+----------------------+-------------------+------------------+
| Windows Server 2019 | PASS               | PASS                 | SKIPPED           | SKIPPED          |
+---------------------+--------------------+----------------------+-------------------+------------------+
| Windows Server 2022 | PASS               | PASS                 | PASS              | SKIPPED          |
+---------------------+--------------------+----------------------+-------------------+------------------+
| CentOS Stream 8     | PASS               | SKIPPED              | SKIPPED           | PASS             |
+---------------------+--------------------+----------------------+-------------------+------------------+
| Debian 12           | PASS               | SKIPPED              | SKIPPED           | PASS             |
+---------------------+--------------------+----------------------+-------------------+------------------+
| Debian Bullseye     | PASS               | SKIPPED              | SKIPPED           | PASS             |
+---------------------+--------------------+----------------------+-------------------+------------------+
| Fedora 38           | PASS               | SKIPPED              | SKIPPED           | PASS             |
+---------------------+--------------------+----------------------+-------------------+------------------+
| CentOS Stream 9     | PASS               | SKIPPED              | SKIPPED           | PASS             |
+---------------------+--------------------+----------------------+-------------------+------------------+


FreeBSD 13.3
	Kernel: 13.3-RELEASE-p1
	Compiler: clang 17.0.6

FreeBSD 14.0
	Kernel: 14.0
	Compiler: clang 16.0.6

Windows Server 2019
	Kernel: 10.0.17763
	Compiler: clang 14.0 and gcc 8.1.0 (MinGW)

Windows Server 2022
	Kernel: 10.0.20348.2031
	Compiler: clang 15.0.7, gcc 8.1.0 (MinGW), and MSVC VS 17.9

CentOS Stream 8
	Kernel: 5.4.0-167-generic
	Compiler: gcc 8.5.0 20210514

Debian 12
	Kernel: Container Host Kernel
	Compiler: gcc 10.2.1

Debian Bullseye
	Kernel: 5.4.0-167-generic
	Compiler: gcc 10.2.1-6

Fedora 38
	Kernel: Depends on container host
	Compiler: clang 16.0.6

CentOS Stream 9
	Kernel: 5.4.0-167-generic
	Compiler: gcc 11.4.1 20230605

To view detailed results, visit:
https://lab.dpdk.org/results/dashboard/patchsets/29976/

UNH-IOL DPDK Community Lab

To manage your email subscriptions, visit: 
https://lab.dpdk.org/results/dashboard/preferences/subscriptions/