From mboxrd@z Thu Jan  1 00:00:00 1970
Return-Path: <test-report-bounces@dpdk.org>
Received: from mails.dpdk.org (mails.dpdk.org [217.70.189.124])
	by inbox.dpdk.org (Postfix) with ESMTP id 1ABA044055
	for <public@inbox.dpdk.org>; Fri, 17 May 2024 21:25:16 +0200 (CEST)
Received: from mails.dpdk.org (localhost [127.0.0.1])
	by mails.dpdk.org (Postfix) with ESMTP id 157CA40278;
	Fri, 17 May 2024 21:25:16 +0200 (CEST)
Received: from mail-oo1-f98.google.com (mail-oo1-f98.google.com
 [209.85.161.98]) by mails.dpdk.org (Postfix) with ESMTP id B1F0F40268
 for <test-report@dpdk.org>; Fri, 17 May 2024 21:25:14 +0200 (CEST)
Received: by mail-oo1-f98.google.com with SMTP id
 006d021491bc7-5b27ad74c40so292239eaf.3
 for <test-report@dpdk.org>; Fri, 17 May 2024 12:25:14 -0700 (PDT)
DKIM-Signature: v=1; a=rsa-sha256; c=relaxed/relaxed;
 d=iol.unh.edu; s=unh-iol; t=1715973914; x=1716578714; darn=dpdk.org;
 h=references:in-reply-to:cc:to:from:subject:message-id:date:from:to
 :cc:subject:date:message-id:reply-to;
 bh=4AAj675dYQdpxrDBU+JYeCgyDcKZ1HymTjHun5J0E9s=;
 b=RPtJJldKOrYtY6WC1Ebfbw4OwLycXE3vkInCHYiB66YPnC2txrVJ70M6/KDQmEjF22
 i9hZ7c20ujo2xw3rxdGAeuR6qfjl/BGT1U7G6L6eZht9Al16kmKY1gcUrFSRn0+LyzWd
 Yj3NRwGatLXN/98u/5YZ2nibx0nq7gK62TIgA=
X-Google-DKIM-Signature: v=1; a=rsa-sha256; c=relaxed/relaxed;
 d=1e100.net; s=20230601; t=1715973914; x=1716578714;
 h=references:in-reply-to:cc:to:from:subject:message-id:date
 :x-gm-message-state:from:to:cc:subject:date:message-id:reply-to;
 bh=4AAj675dYQdpxrDBU+JYeCgyDcKZ1HymTjHun5J0E9s=;
 b=Znt3aRBRtFQ68SlkWutJ6/WIizU6Oq1197C8/hBlG0akJbniw/Di643xnx5YVODMNe
 wlOPz/DsH4xGea8VEOvLjJYeUs0y6WsZEWb+bGZUf3ap61z8IrCZcrT9nQDXRZe70ENC
 s/wqT8//W28cIPhttm9lKpKdX8xucaKFwlI/iXLAC7rVhCN+mDn7gjXtFc4GFj3NA5uv
 vdjkOVlL02YKnQkodxFzbI1xUVINCj2drEdV9s00g8CWGI3o9eYGfQ5C37p+jviK9dgX
 kUPv6AO13KzFjSJqppQT20lTCxGL1P18CJEPBg+Jv91p2SJYra5+2Cu0CpwSdEILKP3l
 17AA==
X-Gm-Message-State: AOJu0Yy3jdwbiegb/Ic2nsKliZ4yeRzblsMQt9hO50k4V4QZTKcw61Fp
 u+IfQfoc0HicxHyhmOlnc0PfcHv0W1/JvNIfH/d+fHqwGk+6+XMYDFQzL/5Q4LEJrg0mjOGp3k0
 Ty5QfWOWdjxe54DFqUMx3vjqUVcL1DFHSCkK/zS43jaeaRHN9iK/oFKcM
X-Google-Smtp-Source: AGHT+IGVydO1exX1ZYYEHyJ3DMxqvQkzFVGqKIbR6GlnimfCw+xUHVR0NDQfZL7FjTR/AIzuMV2ubE3x4tZX
X-Received: by 2002:a4a:ae0d:0:b0:5b2:7aa0:a299 with SMTP id
 006d021491bc7-5b281a1fdcdmr21910781eaf.8.1715973914033; 
 Fri, 17 May 2024 12:25:14 -0700 (PDT)
Received: from postal.iol.unh.edu (postal.iol.unh.edu.
 [2606:4100:3880:1234::84]) by smtp-relay.gmail.com with ESMTPS id
 006d021491bc7-5b26dd85026sm929891eaf.8.2024.05.17.12.25.13
 (version=TLS1_2 cipher=ECDHE-ECDSA-AES128-GCM-SHA256 bits=128/128);
 Fri, 17 May 2024 12:25:14 -0700 (PDT)
X-Relaying-Domain: iol.unh.edu
Date: Fri, 17 May 2024 12:25:14 -0700 (PDT)
Message-ID: <6647af1a.4a0a0220.ebc9.ca98SMTPIN_ADDED_MISSING@mx.google.com>
Received: from [172.21.0.6] (unknown [172.18.0.240])
 by postal.iol.unh.edu (Postfix) with ESMTP id 95918605C373;
 Fri, 17 May 2024 15:25:13 -0400 (EDT)
Subject: |SUCCESS| pw140173-140181 [PATCH] [v7,9/9] net/null: use generic SW 
From: dpdklab@iol.unh.edu
To: Test Report <test-report@dpdk.org>
Cc: dpdk-test-reports@iol.unh.edu
In-Reply-To: <20240517174044.90952-10-stephen@networkplumber.org>
References: <20240517174044.90952-10-stephen@networkplumber.org>
Content-Type: text/plain
X-BeenThere: test-report@dpdk.org
X-Mailman-Version: 2.1.29
Precedence: list
List-Id: automatic DPDK test reports <test-report.dpdk.org>
List-Unsubscribe: <https://mails.dpdk.org/options/test-report>,
 <mailto:test-report-request@dpdk.org?subject=unsubscribe>
List-Archive: <http://mails.dpdk.org/archives/test-report/>
List-Post: <mailto:test-report@dpdk.org>
List-Help: <mailto:test-report-request@dpdk.org?subject=help>
List-Subscribe: <https://mails.dpdk.org/listinfo/test-report>,
 <mailto:test-report-request@dpdk.org?subject=subscribe>
Errors-To: test-report-bounces@dpdk.org

Test-Label: iol-unit-amd64-testing
Test-Status: SUCCESS
http://dpdk.org/patch/140181

_Testing PASS_

Submitter: Stephen Hemminger <stephen@networkplumber.org>
Date: Friday, May 17 2024 17:35:16 
DPDK git baseline: Repo:dpdk
  Branch: master
  CommitID:6f80df8cb0f889203d7cd27766abcc6ebc720e33

140173-140181 --> testing pass

Test environment and result as below:

+---------------------+----------------+
|     Environment     | dpdk_unit_test |
+=====================+================+
| Windows Server 2019 | PASS           |
+---------------------+----------------+
| CentOS Stream 8     | PASS           |
+---------------------+----------------+
| CentOS Stream 9     | PASS           |
+---------------------+----------------+
| Debian Bullseye     | PASS           |
+---------------------+----------------+
| Debian 12           | PASS           |
+---------------------+----------------+
| Windows Server 2022 | PASS           |
+---------------------+----------------+
| Fedora 38           | PASS           |
+---------------------+----------------+
| Fedora 39           | PASS           |
+---------------------+----------------+
| RHEL8               | PASS           |
+---------------------+----------------+


Windows Server 2019
	Kernel: 10.0.17763
	Compiler: clang 14.0 and gcc 8.1.0 (MinGW)

CentOS Stream 8
	Kernel: 5.4.0-167-generic
	Compiler: gcc 8.5.0 20210514

CentOS Stream 9
	Kernel: 5.4.0-167-generic
	Compiler: gcc 11.4.1 20230605

Debian Bullseye
	Kernel: 5.4.0-167-generic
	Compiler: gcc 10.2.1-6

Debian 12
	Kernel: Container Host Kernel
	Compiler: gcc 10.2.1

Windows Server 2022
	Kernel: 10.0.20348.2031
	Compiler: clang 15.0.7, gcc 8.1.0 (MinGW), and MSVC VS 17.9

Fedora 38
	Kernel: Depends on container host
	Compiler: gcc 13.2.1

Fedora 39
	Kernel: Depends on container host
	Compiler: gcc 13.2.1

RHEL8
	Kernel: 5.4.0-167-generic
	Compiler: gcc 8.5.0 20210514 (Red Hat 8.5.0-20)

To view detailed results, visit:
https://lab.dpdk.org/results/dashboard/patchsets/29976/

UNH-IOL DPDK Community Lab

To manage your email subscriptions, visit: 
https://lab.dpdk.org/results/dashboard/preferences/subscriptions/