From mboxrd@z Thu Jan  1 00:00:00 1970
Return-Path: <test-report-bounces@dpdk.org>
Received: from mails.dpdk.org (mails.dpdk.org [217.70.189.124])
	by inbox.dpdk.org (Postfix) with ESMTP id 860BF44055
	for <public@inbox.dpdk.org>; Fri, 17 May 2024 21:54:43 +0200 (CEST)
Received: from mails.dpdk.org (localhost [127.0.0.1])
	by mails.dpdk.org (Postfix) with ESMTP id 667B340278;
	Fri, 17 May 2024 21:54:43 +0200 (CEST)
Received: from mail-pl1-f226.google.com (mail-pl1-f226.google.com
 [209.85.214.226])
 by mails.dpdk.org (Postfix) with ESMTP id 9822B40268
 for <test-report@dpdk.org>; Fri, 17 May 2024 21:54:42 +0200 (CEST)
Received: by mail-pl1-f226.google.com with SMTP id
 d9443c01a7336-1e651a9f3ffso19032085ad.1
 for <test-report@dpdk.org>; Fri, 17 May 2024 12:54:42 -0700 (PDT)
DKIM-Signature: v=1; a=rsa-sha256; c=relaxed/relaxed;
 d=iol.unh.edu; s=unh-iol; t=1715975682; x=1716580482; darn=dpdk.org;
 h=references:in-reply-to:cc:to:from:subject:message-id:date:from:to
 :cc:subject:date:message-id:reply-to;
 bh=t1+BgyJvdjKseXQOeWBf4ZElDCCZ7miJMdB808fklTY=;
 b=GX8c28y4VY7VZQaFaMm+vPTrpBX1jXLtCJqMqT5wHlOrHOQZy5Z7Xq8HM1ErLru1C8
 7dFB1qZ91zhkIYf3iRyDCWBJH2R7mHemCVZXpF2xFad2jrn3gxhFDfyiWjdCThDC84zb
 cGoKDap4UdwDb4yq3i1O3ZfYGGAJ4eqghsl6k=
X-Google-DKIM-Signature: v=1; a=rsa-sha256; c=relaxed/relaxed;
 d=1e100.net; s=20230601; t=1715975682; x=1716580482;
 h=references:in-reply-to:cc:to:from:subject:message-id:date
 :x-gm-message-state:from:to:cc:subject:date:message-id:reply-to;
 bh=t1+BgyJvdjKseXQOeWBf4ZElDCCZ7miJMdB808fklTY=;
 b=XQhSKZuW3bgMBMrdw/oSWiDutb2M1XVYpJU/m0oAQTW+YRPitEkcbXEJPSBdMMdHgG
 dbXtvjK/22vkUAag3OoDfiwBA38NVjq9goSZSpKuam+ADJAbecunokULgkx68o90GhAH
 J4Y+z3r05xuaYjit1dBspPg+/uALykk/UT++XBMHvELp1eyXRQF7VIKNqibWcoxhekGz
 RRDQGPUfFWjJNdMkiXOcNwRnPNylFZNBJ3iXuFjXsP3iltNiEJyhYJam6ONko1NxYjpe
 R6HXOJ6FltnRVXTkQigWf1b/bQAJULNk4GDMCRENrh0Ea/XD2w4hxdFOsPMKtqU20Xj+
 ApAw==
X-Gm-Message-State: AOJu0Yy6+WKnGxUoWhT9r5nDh0BS10ddt5l9yrU1N7N18Rd5eQbUxyxu
 dgdjVDkPfaGkWgr66FPF4/YZlANpQULkP8Hd4KlsE0FqqEQzzc6sHvQGQa9Zj6Lr1o7SuvFRDgQ
 USe7BY55GXZFm44OibVOtJrKWMCrC0k/E61vr665N+9PxsQEJ4e40CU7x
X-Google-Smtp-Source: AGHT+IH4HRlNrPinEYQPsyDvvSOed6QKiyq4p62btqtyHWLDZ0h9Acmcj1+V0O+/DpY/T8aBa1ANLL5AzyKC
X-Received: by 2002:a17:90a:6786:b0:2b3:79ad:8572 with SMTP id
 98e67ed59e1d1-2b6ccfef109mr18096148a91.49.1715975681731; 
 Fri, 17 May 2024 12:54:41 -0700 (PDT)
Received: from postal.iol.unh.edu (postal.iol.unh.edu.
 [2606:4100:3880:1234::84]) by smtp-relay.gmail.com with ESMTPS id
 98e67ed59e1d1-2b628ea18ffsm1216864a91.16.2024.05.17.12.54.41
 (version=TLS1_2 cipher=ECDHE-ECDSA-AES128-GCM-SHA256 bits=128/128);
 Fri, 17 May 2024 12:54:41 -0700 (PDT)
X-Relaying-Domain: iol.unh.edu
Date: Fri, 17 May 2024 12:54:41 -0700 (PDT)
Message-ID: <6647b601.170a0220.8896f.fb3bSMTPIN_ADDED_MISSING@mx.google.com>
Received: from [172.21.0.7] (unknown [172.18.0.240])
 by postal.iol.unh.edu (Postfix) with ESMTP id E173E605C373;
 Fri, 17 May 2024 15:54:40 -0400 (EDT)
Subject: |SUCCESS| pw140171-140172 [PATCH] [v1,2/2] app/testpmd: introduce VX
From: dpdklab@iol.unh.edu
To: Test Report <test-report@dpdk.org>
Cc: dpdk-test-reports@iol.unh.edu
In-Reply-To: <20240517080735.1787616-3-gavinl@nvidia.com>
References: <20240517080735.1787616-3-gavinl@nvidia.com>
Content-Type: text/plain
X-BeenThere: test-report@dpdk.org
X-Mailman-Version: 2.1.29
Precedence: list
List-Id: automatic DPDK test reports <test-report.dpdk.org>
List-Unsubscribe: <https://mails.dpdk.org/options/test-report>,
 <mailto:test-report-request@dpdk.org?subject=unsubscribe>
List-Archive: <http://mails.dpdk.org/archives/test-report/>
List-Post: <mailto:test-report@dpdk.org>
List-Help: <mailto:test-report-request@dpdk.org?subject=help>
List-Subscribe: <https://mails.dpdk.org/listinfo/test-report>,
 <mailto:test-report-request@dpdk.org?subject=subscribe>
Errors-To: test-report-bounces@dpdk.org

Test-Label: iol-compile-arm64-testing
Test-Status: SUCCESS
http://dpdk.org/patch/140172

_Testing PASS_

Submitter: Gavin Li <gavinl@nvidia.com>
Date: Friday, May 17 2024 08:07:35 
DPDK git baseline: Repo:dpdk
  Branch: master
  CommitID:baa8e2c6b4d7ce289e891b9c96fb3193311c0f01

140171-140172 --> testing pass

Test environment and result as below:

+----------------------+--------------------+
|     Environment      | dpdk_meson_compile |
+======================+====================+
| Ubuntu 20.04 ARM SVE | PASS               |
+----------------------+--------------------+
| Debian 12 with MUSDK | PASS               |
+----------------------+--------------------+
| Fedora 38 (ARM)      | PASS               |
+----------------------+--------------------+


Ubuntu 20.04 ARM SVE
	Kernel: 5.4.0-167-generic
	Compiler: gcc (Ubuntu 10.5.0-1ubuntu1~20.04) 10.5.0

Debian 12 with MUSDK
	Kernel: Container Host Kernel
	Compiler: gcc 12.2.0

Fedora 38 (ARM)
	Kernel: Depends on container host
	Compiler: gcc 13.2.1

To view detailed results, visit:
https://lab.dpdk.org/results/dashboard/patchsets/29975/

UNH-IOL DPDK Community Lab

To manage your email subscriptions, visit: 
https://lab.dpdk.org/results/dashboard/preferences/subscriptions/