From mboxrd@z Thu Jan  1 00:00:00 1970
Return-Path: <test-report-bounces@dpdk.org>
Received: from mails.dpdk.org (mails.dpdk.org [217.70.189.124])
	by inbox.dpdk.org (Postfix) with ESMTP id 272B743C49
	for <public@inbox.dpdk.org>; Fri, 17 May 2024 23:12:00 +0200 (CEST)
Received: from mails.dpdk.org (localhost [127.0.0.1])
	by mails.dpdk.org (Postfix) with ESMTP id 02BBA40278;
	Fri, 17 May 2024 23:12:00 +0200 (CEST)
Received: from mail-il1-f227.google.com (mail-il1-f227.google.com
 [209.85.166.227])
 by mails.dpdk.org (Postfix) with ESMTP id DABC240268
 for <test-report@dpdk.org>; Fri, 17 May 2024 23:11:58 +0200 (CEST)
Received: by mail-il1-f227.google.com with SMTP id
 e9e14a558f8ab-36c67760b1aso10290555ab.1
 for <test-report@dpdk.org>; Fri, 17 May 2024 14:11:58 -0700 (PDT)
DKIM-Signature: v=1; a=rsa-sha256; c=relaxed/relaxed;
 d=iol.unh.edu; s=unh-iol; t=1715980318; x=1716585118; darn=dpdk.org;
 h=references:in-reply-to:cc:to:from:subject:message-id:date:from:to
 :cc:subject:date:message-id:reply-to;
 bh=N405oEjsrAV4TuG0ap+UEmIY7cMLuHAMqaD7kP/Ygdc=;
 b=c3KAZwrNlKvx0W9u8GWEGQZdiX9J9QCmcRPlDFNxl2ntdkkDltXkNPT4g/3ZTfw3iq
 o6wFvWASIACe4Hfj5Oy7oyE9yBmmpp9dhVDVuvm9xn2i3kodrAXEbufAmrWD6TdToBOF
 VZKiHlfWFz5np8R5CteeoM6ZsInW/CqxlsI54=
X-Google-DKIM-Signature: v=1; a=rsa-sha256; c=relaxed/relaxed;
 d=1e100.net; s=20230601; t=1715980318; x=1716585118;
 h=references:in-reply-to:cc:to:from:subject:message-id:date
 :x-gm-message-state:from:to:cc:subject:date:message-id:reply-to;
 bh=N405oEjsrAV4TuG0ap+UEmIY7cMLuHAMqaD7kP/Ygdc=;
 b=TH+k7CsoMkQwCJDxIjtT5c90ZDLyzf9OTZHVO2B+JUCKofdDigNuM3qpVyuPXCdMO5
 tcwzaHKdMN+Q5HazqmxgH0EKU8VfvAV4iLlP9kicqO4wEjhispbfcouTDahfAvsAc6tO
 rNp0+R42wAx2nmp9mvw3drz7sf9BA38hB46OKbixU40PA9yZvIkt2LU8vmvdMLVzWnDx
 9tqJWPYRyxUjMbLAWD0IZe8e/Dl9+NlE1GO1r3jRJgSZk/GfORSYF/rg9ygJX4cezx4i
 eA2LG5YPkS4laT4KwFkWCgJMDx/8SQl+zlpOcDG7a7fL9kqVljLMwhjYHYILNWybRMHK
 zhpQ==
X-Gm-Message-State: AOJu0YxXUv9CUaHV8RIWL0Kd9SAQo3tgnboNP/TDwnOApU2/jgZ3lr3a
 piCJH2XxLS79nynsk0kGmBgaILePsInzTbtM5owuWJ77sFK7X/1Z61dJ7GUy274MigFz6vwQqHV
 7S1bQ0sAEh1WPgz/MgU3fv7NQljKg3fBRCiAY1OBf
X-Google-Smtp-Source: AGHT+IHpQ92hiAjbAaGsYu4tkYwWCgBu3fEU/kJFXBvS2p6hHwIhs2w6YcP4RzFNhOamLUpMPgQ+4vgPX+3O
X-Received: by 2002:a05:6e02:1c29:b0:36b:bec:18ce with SMTP id
 e9e14a558f8ab-36cc16eea25mr246068155ab.31.1715980318221; 
 Fri, 17 May 2024 14:11:58 -0700 (PDT)
Received: from postal.iol.unh.edu (postal.iol.unh.edu. [132.177.123.84])
 by smtp-relay.gmail.com with ESMTPS id
 e9e14a558f8ab-36da9fa25b6sm5279585ab.27.2024.05.17.14.11.58
 (version=TLS1_2 cipher=ECDHE-ECDSA-AES128-GCM-SHA256 bits=128/128);
 Fri, 17 May 2024 14:11:58 -0700 (PDT)
X-Relaying-Domain: iol.unh.edu
Date: Fri, 17 May 2024 14:11:58 -0700 (PDT)
Message-ID: <6647c81e.920a0220.a9c01.c1faSMTPIN_ADDED_MISSING@mx.google.com>
Received: from [172.17.0.2] (unknown [172.18.0.217])
 by postal.iol.unh.edu (Postfix) with ESMTP id C9084605C380;
 Fri, 17 May 2024 17:11:57 -0400 (EDT)
Subject: |SUCCESS| pw140161-140170 [PATCH] [10/10] net/cnxk: define CPT HW re
From: dpdklab@iol.unh.edu
To: Test Report <test-report@dpdk.org>
Cc: Nithin Dabilpuram <ndabilpuram@marvell.com>
In-Reply-To: <20240517074448.3146611-10-ndabilpuram@marvell.com>
References: <20240517074448.3146611-10-ndabilpuram@marvell.com>
Content-Type: text/plain
X-BeenThere: test-report@dpdk.org
X-Mailman-Version: 2.1.29
Precedence: list
List-Id: automatic DPDK test reports <test-report.dpdk.org>
List-Unsubscribe: <https://mails.dpdk.org/options/test-report>,
 <mailto:test-report-request@dpdk.org?subject=unsubscribe>
List-Archive: <http://mails.dpdk.org/archives/test-report/>
List-Post: <mailto:test-report@dpdk.org>
List-Help: <mailto:test-report-request@dpdk.org?subject=help>
List-Subscribe: <https://mails.dpdk.org/listinfo/test-report>,
 <mailto:test-report-request@dpdk.org?subject=subscribe>
Errors-To: test-report-bounces@dpdk.org

Test-Label: iol-unit-amd64-testing
Test-Status: SUCCESS
http://dpdk.org/patch/140170

_Testing PASS_

Submitter: Nithin Dabilpuram <ndabilpuram@marvell.com>
Date: Friday, May 17 2024 07:44:48 
DPDK git baseline: Repo:dpdk
  Branch: master
  CommitID:7e06c0de1952d3109a5b0c4779d7e7d8059c9d78

140161-140170 --> testing pass

Test environment and result as below:

+---------------------+----------------+
|     Environment     | dpdk_unit_test |
+=====================+================+
| Windows Server 2019 | PASS           |
+---------------------+----------------+
| Windows Server 2022 | PASS           |
+---------------------+----------------+
| Debian 12           | PASS           |
+---------------------+----------------+
| CentOS Stream 8     | PASS           |
+---------------------+----------------+
| CentOS Stream 9     | PASS           |
+---------------------+----------------+
| Fedora 39           | PASS           |
+---------------------+----------------+
| Fedora 38           | PASS           |
+---------------------+----------------+
| Fedora 37           | PASS           |
+---------------------+----------------+
| RHEL8               | PASS           |
+---------------------+----------------+
| Ubuntu 22.04        | PASS           |
+---------------------+----------------+
| Debian Bullseye     | PASS           |
+---------------------+----------------+


Windows Server 2019
	Kernel: 10.0.17763
	Compiler: clang 14.0 and gcc 8.1.0 (MinGW)

Windows Server 2022
	Kernel: 10.0.20348.2031
	Compiler: clang 15.0.7, gcc 8.1.0 (MinGW), and MSVC VS 17.9

Debian 12
	Kernel: Container Host Kernel
	Compiler: gcc 10.2.1

CentOS Stream 8
	Kernel: 5.4.0-167-generic
	Compiler: gcc 8.5.0 20210514

CentOS Stream 9
	Kernel: 5.4.0-167-generic
	Compiler: gcc 11.4.1 20230605

Fedora 39
	Kernel: Depends on container host
	Compiler: gcc 13.2.1

Fedora 38
	Kernel: Depends on container host
	Compiler: clang 16.0.6

Fedora 37
	Kernel: Depends on container host system
	Compiler: gcc 12.3.1

RHEL8
	Kernel: 5.4.0-167-generic
	Compiler: gcc 8.5.0 20210514 (Red Hat 8.5.0-20)

Ubuntu 22.04
	Kernel: 5.4.0-167-generic
	Compiler: gcc 11.4.0

Debian Bullseye
	Kernel: 5.4.0-167-generic
	Compiler: gcc 10.2.1-6

To view detailed results, visit:
https://lab.dpdk.org/results/dashboard/patchsets/29974/

UNH-IOL DPDK Community Lab

To manage your email subscriptions, visit: 
https://lab.dpdk.org/results/dashboard/preferences/subscriptions/