From mboxrd@z Thu Jan  1 00:00:00 1970
Return-Path: <test-report-bounces@dpdk.org>
Received: from mails.dpdk.org (mails.dpdk.org [217.70.189.124])
	by inbox.dpdk.org (Postfix) with ESMTP id 85D4C44053
	for <public@inbox.dpdk.org>; Fri, 17 May 2024 23:46:56 +0200 (CEST)
Received: from mails.dpdk.org (localhost [127.0.0.1])
	by mails.dpdk.org (Postfix) with ESMTP id 80F5540278;
	Fri, 17 May 2024 23:46:56 +0200 (CEST)
Received: from mail-qv1-f99.google.com (mail-qv1-f99.google.com
 [209.85.219.99]) by mails.dpdk.org (Postfix) with ESMTP id 2A74A40268
 for <test-report@dpdk.org>; Fri, 17 May 2024 23:46:56 +0200 (CEST)
Received: by mail-qv1-f99.google.com with SMTP id
 6a1803df08f44-6a3652a732fso7020356d6.3
 for <test-report@dpdk.org>; Fri, 17 May 2024 14:46:56 -0700 (PDT)
DKIM-Signature: v=1; a=rsa-sha256; c=relaxed/relaxed;
 d=iol.unh.edu; s=unh-iol; t=1715982415; x=1716587215; darn=dpdk.org;
 h=references:in-reply-to:cc:to:from:subject:message-id:date:from:to
 :cc:subject:date:message-id:reply-to;
 bh=FrSVAZxh9OEx3Y6H6U4xaLQOA2GAmYKF2gAMDY61TVI=;
 b=U0V0wM7A/dJXhzx/krg+buV2XGxoVoqEqNg8ChwdZvgAIdNreDwXXmtsYSNcE26p4o
 4ScfzH8CwdDW4juE/UtxDKSbrGXf2xX0uab6mA5imT7J/DhIwJ2QLTwvjLE6dMXzpBCV
 yRjgzKC6OKaZ5EgS/y3zUmiKJtZjqKK1DW4xY=
X-Google-DKIM-Signature: v=1; a=rsa-sha256; c=relaxed/relaxed;
 d=1e100.net; s=20230601; t=1715982415; x=1716587215;
 h=references:in-reply-to:cc:to:from:subject:message-id:date
 :x-gm-message-state:from:to:cc:subject:date:message-id:reply-to;
 bh=FrSVAZxh9OEx3Y6H6U4xaLQOA2GAmYKF2gAMDY61TVI=;
 b=lJvj//bF3ddYTiC34DmQoGKLiiYlgAcAee8bVA1/L4m8simIkq4UAaf/+fgfBfOcqN
 ie3crUqiG/y7MEly48PE5MmpSM68+SEaJyiTmrQNfsYfqWvqbPeEFe/O+lFZdJrTGXsb
 B1Ko5qLi7le91rWTJ47xy9+8wqDWLdZumax8WnYpAEFQpALkTEocs7srP6mJYDdkBnkM
 1y9jttBkRJP6+E4WSNsjUAiAP9wZ1sJuqWtXKpkbllRWXiP8yd9uVOTj7vSIiuT6ZEJx
 c525X4z5OE147ZST/0wIU2naLlQDIF/YKumWQlQnbvduVIOpq+O64Nvw0NChMor1WTzY
 xevA==
X-Gm-Message-State: AOJu0Yzm56ZOWsxIfMOU2Gr365xSKGC2wVzE82KqichRZCbjIJ366SEF
 o6BMsEzfdnCkZj7CHxi7XN1l6nhtjLLG+lNFOkAPb9X7UP76IK6wUO/fOFkYwLJq1FUB+ZTdKdF
 OY2p6Iq7V0BrnHwdd1LeRjH7awvODsOjVpBuLMPuV
X-Google-Smtp-Source: AGHT+IHAn9xl5RQ9kq8KDKRlBjQQw2EUgg/edOabWgLqfi+i9e6KbUtBgWsz4ZjYzS5bjkvWK+FWPcqem1yW
X-Received: by 2002:a05:6214:43c4:b0:6a0:caef:3be2 with SMTP id
 6a1803df08f44-6a1681f8115mr264598586d6.46.1715982415591; 
 Fri, 17 May 2024 14:46:55 -0700 (PDT)
Received: from postal.iol.unh.edu (postal.iol.unh.edu. [132.177.123.84])
 by smtp-relay.gmail.com with ESMTPS id
 6a1803df08f44-6a15f23d4bbsm12669716d6.54.2024.05.17.14.46.55
 (version=TLS1_2 cipher=ECDHE-ECDSA-AES128-GCM-SHA256 bits=128/128);
 Fri, 17 May 2024 14:46:55 -0700 (PDT)
X-Relaying-Domain: iol.unh.edu
Date: Fri, 17 May 2024 14:46:55 -0700 (PDT)
Message-ID: <6647d04f.050a0220.09fb.6de3SMTPIN_ADDED_MISSING@mx.google.com>
Received: from [172.17.0.2] (unknown [172.18.0.217])
 by postal.iol.unh.edu (Postfix) with ESMTP id 470B1605C380;
 Fri, 17 May 2024 17:46:55 -0400 (EDT)
Subject: |SUCCESS| pw140161-140170 [PATCH] [10/10] net/cnxk: define CPT HW re
From: dpdklab@iol.unh.edu
To: Test Report <test-report@dpdk.org>
Cc: dpdk-test-reports@iol.unh.edu
In-Reply-To: <20240517074448.3146611-10-ndabilpuram@marvell.com>
References: <20240517074448.3146611-10-ndabilpuram@marvell.com>
Content-Type: text/plain
X-BeenThere: test-report@dpdk.org
X-Mailman-Version: 2.1.29
Precedence: list
List-Id: automatic DPDK test reports <test-report.dpdk.org>
List-Unsubscribe: <https://mails.dpdk.org/options/test-report>,
 <mailto:test-report-request@dpdk.org?subject=unsubscribe>
List-Archive: <http://mails.dpdk.org/archives/test-report/>
List-Post: <mailto:test-report@dpdk.org>
List-Help: <mailto:test-report-request@dpdk.org?subject=help>
List-Subscribe: <https://mails.dpdk.org/listinfo/test-report>,
 <mailto:test-report-request@dpdk.org?subject=subscribe>
Errors-To: test-report-bounces@dpdk.org

Test-Label: iol-compile-arm64-testing
Test-Status: SUCCESS
http://dpdk.org/patch/140170

_Testing PASS_

Submitter: Nithin Dabilpuram <ndabilpuram@marvell.com>
Date: Friday, May 17 2024 07:44:48 
DPDK git baseline: Repo:dpdk
  Branch: master
  CommitID:7e06c0de1952d3109a5b0c4779d7e7d8059c9d78

140161-140170 --> testing pass

Test environment and result as below:

+--------------------------+--------------------+
|       Environment        | dpdk_meson_compile |
+==========================+====================+
| Ubuntu 20.04 ARM SVE     | PASS               |
+--------------------------+--------------------+
| Debian 12 with MUSDK     | PASS               |
+--------------------------+--------------------+
| Fedora 37 (ARM)          | PASS               |
+--------------------------+--------------------+
| Debian 11 (Buster) (ARM) | PASS               |
+--------------------------+--------------------+
| CentOS Stream 9 (ARM)    | PASS               |
+--------------------------+--------------------+


Ubuntu 20.04 ARM SVE
	Kernel: 5.4.0-167-generic
	Compiler: gcc (Ubuntu 10.5.0-1ubuntu1~20.04) 10.5.0

Debian 12 with MUSDK
	Kernel: Container Host Kernel
	Compiler: gcc 12.2.0

Fedora 37 (ARM)
	Kernel: Depends on container host
	Compiler: gcc 12.3.1

Debian 11 (Buster) (ARM)
	Kernel: Container Host Kernel
	Compiler: gcc 10.2.1

CentOS Stream 9 (ARM)
	Kernel: Container Host Kernel
	Compiler: gcc 11.4.1

To view detailed results, visit:
https://lab.dpdk.org/results/dashboard/patchsets/29974/

UNH-IOL DPDK Community Lab

To manage your email subscriptions, visit: 
https://lab.dpdk.org/results/dashboard/preferences/subscriptions/