From mboxrd@z Thu Jan  1 00:00:00 1970
Return-Path: <test-report-bounces@dpdk.org>
Received: from mails.dpdk.org (mails.dpdk.org [217.70.189.124])
	by inbox.dpdk.org (Postfix) with ESMTP id 0BF5A4407E
	for <public@inbox.dpdk.org>; Tue, 21 May 2024 03:52:16 +0200 (CEST)
Received: from mails.dpdk.org (localhost [127.0.0.1])
	by mails.dpdk.org (Postfix) with ESMTP id 0761340265;
	Tue, 21 May 2024 03:52:16 +0200 (CEST)
Received: from mail-io1-f98.google.com (mail-io1-f98.google.com
 [209.85.166.98]) by mails.dpdk.org (Postfix) with ESMTP id 347E24021E
 for <test-report@dpdk.org>; Tue, 21 May 2024 03:52:14 +0200 (CEST)
Received: by mail-io1-f98.google.com with SMTP id
 ca18e2360f4ac-7e1e06c9a10so166073639f.3
 for <test-report@dpdk.org>; Mon, 20 May 2024 18:52:14 -0700 (PDT)
DKIM-Signature: v=1; a=rsa-sha256; c=relaxed/relaxed;
 d=iol.unh.edu; s=unh-iol; t=1716256333; x=1716861133; darn=dpdk.org;
 h=references:in-reply-to:cc:to:from:subject:message-id:date:from:to
 :cc:subject:date:message-id:reply-to;
 bh=xseJ+Geis4sOCMKNSmvZ+p43lbkETbXgJxg8ADMsf38=;
 b=JwhegNEJPAUVaGjp59T3rX5atgpoZuRYH71YB7rTX4h/dKKN0h5KYfef5kyTTxm/g9
 feenqV5+yvIATtAq3OM0D2FhO6eHcThjuNn03/WpsGvJ0EkJOYeGspskdii4LogX/BTa
 EaUvn6dC4JDLgImSlqM6lIgSHL2aUdboVJRec=
X-Google-DKIM-Signature: v=1; a=rsa-sha256; c=relaxed/relaxed;
 d=1e100.net; s=20230601; t=1716256333; x=1716861133;
 h=references:in-reply-to:cc:to:from:subject:message-id:date
 :x-gm-message-state:from:to:cc:subject:date:message-id:reply-to;
 bh=xseJ+Geis4sOCMKNSmvZ+p43lbkETbXgJxg8ADMsf38=;
 b=P2Rn4OdhUFYowMTvLOZvg625PFH2q3St896um/+RQQ/QsovuYArDxR/2CWR3nDaxQs
 iRDLhpyT9ugOFZbpY5ZSCfrUmAtoMybJjdSvqnknjzW2qoO2BK1lsbSGh8mnMx1XWcDN
 lVuWqhYd0uGntzXx1uJ3TCVS/BAmj2U7BEBgBoqn4ZiegTURj1tZmRdhSuXKSPLhceuY
 XY5Tfmvz2IvJzw0ShY8FrEXEuwPqZ9dcfDtH9ml+qepwatyV612fXW7VUz0itW2tk7LW
 99FkkqPnGee0HlpTgl3YFN6auWkgrBH4M/bEQYzJ/k5videwq5tjJn7YdAuAj+eOyNab
 f2Cg==
X-Gm-Message-State: AOJu0YwUUkib8kD9MVuNJBpmS54nI4O0NRpXW/yvw3EkEt+5L3oi5EjN
 pKVFgWdA65pMcy87Jb944vYU1T0FNmNjG8yTCUx+pcPnp82CYKtrxRCGTD0MqR+umU/h7nwOGJ5
 AJsybdwh0oCdpRxasPOgcDcT5meMXCPEqvNcZRg3hBzd4EMXv84WzMCQe
X-Google-Smtp-Source: AGHT+IEk+psJRDTIrG8EbKmjRiksHGcrXoo6z006Ay9yvrmv0XPeAqzpS4Pf7N5hhLNlhEXn0oITfI6ZGBD3
X-Received: by 2002:a6b:5007:0:b0:7e1:80d7:96e4 with SMTP id
 ca18e2360f4ac-7e1b520c48emr3453139839f.14.1716256333645; 
 Mon, 20 May 2024 18:52:13 -0700 (PDT)
Received: from postal.iol.unh.edu (postal.iol.unh.edu.
 [2606:4100:3880:1234::84]) by smtp-relay.gmail.com with ESMTPS id
 ca18e2360f4ac-7e1a8805247sm121061639f.8.2024.05.20.18.52.13
 (version=TLS1_2 cipher=ECDHE-ECDSA-AES128-GCM-SHA256 bits=128/128);
 Mon, 20 May 2024 18:52:13 -0700 (PDT)
X-Relaying-Domain: iol.unh.edu
Date: Mon, 20 May 2024 18:52:13 -0700 (PDT)
Message-ID: <664bfe4d.050a0220.8d58d.f75bSMTPIN_ADDED_MISSING@mx.google.com>
Received: from [172.21.0.6] (unknown [172.18.0.240])
 by postal.iol.unh.edu (Postfix) with ESMTP id 1FC78605C380;
 Mon, 20 May 2024 21:52:13 -0400 (EDT)
Subject: |SUCCESS| pw140186-140187 [PATCH] [2/2] net/virtio: fix fortify memc
From: dpdklab@iol.unh.edu
To: Test Report <test-report@dpdk.org>
Cc: dpdk-test-reports@iol.unh.edu
In-Reply-To: <20240521010105.81868-2-stephen@networkplumber.org>
References: <20240521010105.81868-2-stephen@networkplumber.org>
Content-Type: text/plain
X-BeenThere: test-report@dpdk.org
X-Mailman-Version: 2.1.29
Precedence: list
List-Id: automatic DPDK test reports <test-report.dpdk.org>
List-Unsubscribe: <https://mails.dpdk.org/options/test-report>,
 <mailto:test-report-request@dpdk.org?subject=unsubscribe>
List-Archive: <http://mails.dpdk.org/archives/test-report/>
List-Post: <mailto:test-report@dpdk.org>
List-Help: <mailto:test-report-request@dpdk.org?subject=help>
List-Subscribe: <https://mails.dpdk.org/listinfo/test-report>,
 <mailto:test-report-request@dpdk.org?subject=subscribe>
Errors-To: test-report-bounces@dpdk.org

Test-Label: iol-unit-arm64-testing
Test-Status: SUCCESS
http://dpdk.org/patch/140187

_Testing PASS_

Submitter: Stephen Hemminger <stephen@networkplumber.org>
Date: Tuesday, May 21 2024 01:01:04 
DPDK git baseline: Repo:dpdk
  Branch: master
  CommitID:7e06c0de1952d3109a5b0c4779d7e7d8059c9d78

140186-140187 --> testing pass

Test environment and result as below:

+-----------------------+------------------------------+---------------------------+----------------+
|      Environment      | cryptodev_sw_snow3g_autotest | cryptodev_sw_zuc_autotest | dpdk_unit_test |
+=======================+==============================+===========================+================+
| Debian 12 (arm)       | PASS                         | PASS                      | SKIPPED        |
+-----------------------+------------------------------+---------------------------+----------------+
| CentOS Stream 9 (ARM) | SKIPPED                      | SKIPPED                   | PASS           |
+-----------------------+------------------------------+---------------------------+----------------+


Debian 12 (arm)
	Kernel: Container Host Kernel
	Compiler: gcc 12.2.0

CentOS Stream 9 (ARM)
	Kernel: Container Host Kernel
	Compiler: gcc 11.4.1

To view detailed results, visit:
https://lab.dpdk.org/results/dashboard/patchsets/29980/

UNH-IOL DPDK Community Lab

To manage your email subscriptions, visit: 
https://lab.dpdk.org/results/dashboard/preferences/subscriptions/