From mboxrd@z Thu Jan  1 00:00:00 1970
Return-Path: <test-report-bounces@dpdk.org>
Received: from mails.dpdk.org (mails.dpdk.org [217.70.189.124])
	by inbox.dpdk.org (Postfix) with ESMTP id 67C3B4407E
	for <public@inbox.dpdk.org>; Tue, 21 May 2024 03:58:13 +0200 (CEST)
Received: from mails.dpdk.org (localhost [127.0.0.1])
	by mails.dpdk.org (Postfix) with ESMTP id 6178340265;
	Tue, 21 May 2024 03:58:13 +0200 (CEST)
Received: from mail-yw1-f228.google.com (mail-yw1-f228.google.com
 [209.85.128.228])
 by mails.dpdk.org (Postfix) with ESMTP id 237B34021E
 for <test-report@dpdk.org>; Tue, 21 May 2024 03:58:12 +0200 (CEST)
Received: by mail-yw1-f228.google.com with SMTP id
 00721157ae682-61d35d266e7so34630937b3.1
 for <test-report@dpdk.org>; Mon, 20 May 2024 18:58:12 -0700 (PDT)
DKIM-Signature: v=1; a=rsa-sha256; c=relaxed/relaxed;
 d=iol.unh.edu; s=unh-iol; t=1716256691; x=1716861491; darn=dpdk.org;
 h=references:in-reply-to:cc:to:from:subject:message-id:date:from:to
 :cc:subject:date:message-id:reply-to;
 bh=NVhHxUm5ktijVursmfuegNSVt/eB1l4sQjSHIEBM9Z4=;
 b=Er3kduMFYk32/+EBYsUyclxxqjUfSr/v3sptTz0Hn1vu5kTuocQxaxMDLt2IwrQBio
 Z+T4hCXMSb4w1jEnhI9fAfntjmgXtjVHa0IfX58vSWZLjmhsdp49AnaRyqsEPDqHKR4l
 A0FBKw8KvgCVAWfPm3tjAvY3mgDV6vZ1JI24w=
X-Google-DKIM-Signature: v=1; a=rsa-sha256; c=relaxed/relaxed;
 d=1e100.net; s=20230601; t=1716256691; x=1716861491;
 h=references:in-reply-to:cc:to:from:subject:message-id:date
 :x-gm-message-state:from:to:cc:subject:date:message-id:reply-to;
 bh=NVhHxUm5ktijVursmfuegNSVt/eB1l4sQjSHIEBM9Z4=;
 b=g2yAjas35iGUhpXrfYGCBqr34pfd2pww6VnHHlX5NxXLBkB98o3RFb90+fnXPf4TKW
 KyVCins1rr6CMbzFJYgTONOHqLb5XQAQjoCuuKHnlhT0kLSQpBpyoEXzvtXDRuFXlx1M
 XdhYiMB7tjdPUxd6DWxiY7d20q2EAF6fzQN4H/wP40xqjyStrejK9zfYjdBVpcsic634
 WO3arLQZ8wPhV5HIzlabUXNvDQQtW+bFhJjkqL13kIeQQWIs5RVXJ3SeMaZogOlyv4NF
 5u0dfeqKKwlBglCohmilpHX3RJCxnN5wEk61yVEoZRvIFZsI+7wYEgOJGEabKUkMcSPU
 qwHA==
X-Gm-Message-State: AOJu0YwQITLauh6CZva41+x75ZsdIsmLTayr72BOHxKd9GNomkgviDG6
 hOP644UXdaKCvvD44aSseSQoJOYJpCSLFFx3hrnInvw/jtUSa9iN7LyxT5Dh/2ulOhJXo59oSAf
 ET0QZ1xQKBUPkeS3w+XHrk4RLZNzuitis0ePPzw4H
X-Google-Smtp-Source: AGHT+IFdjrb51j4G1myqRiXMlNUkY8NdOMTuOTSaxUCTXAUGOWaMck3FQyrEH6FZ3jWs+yYFce5cSO1Wfy88
X-Received: by 2002:a25:fb11:0:b0:de5:8290:35b8 with SMTP id
 3f1490d57ef6-dee4f368072mr27155932276.32.1716256691571; 
 Mon, 20 May 2024 18:58:11 -0700 (PDT)
Received: from postal.iol.unh.edu (postal.iol.unh.edu. [132.177.123.84])
 by smtp-relay.gmail.com with ESMTPS id
 3f1490d57ef6-df474145109sm368239276.12.2024.05.20.18.58.11
 (version=TLS1_2 cipher=ECDHE-ECDSA-AES128-GCM-SHA256 bits=128/128);
 Mon, 20 May 2024 18:58:11 -0700 (PDT)
X-Relaying-Domain: iol.unh.edu
Date: Mon, 20 May 2024 18:58:11 -0700 (PDT)
Message-ID: <664bffb3.050a0220.1fc73a.0163SMTPIN_ADDED_MISSING@mx.google.com>
Received: from [172.21.0.6] (unknown [172.18.0.240])
 by postal.iol.unh.edu (Postfix) with ESMTP id BBCCA605C380;
 Mon, 20 May 2024 21:58:10 -0400 (EDT)
Subject: |SUCCESS| pw140186-140187 [PATCH] [2/2] net/virtio: fix fortify memc
From: dpdklab@iol.unh.edu
To: Test Report <test-report@dpdk.org>
Cc: dpdk-test-reports@iol.unh.edu
In-Reply-To: <20240521010105.81868-2-stephen@networkplumber.org>
References: <20240521010105.81868-2-stephen@networkplumber.org>
Content-Type: text/plain
X-BeenThere: test-report@dpdk.org
X-Mailman-Version: 2.1.29
Precedence: list
List-Id: automatic DPDK test reports <test-report.dpdk.org>
List-Unsubscribe: <https://mails.dpdk.org/options/test-report>,
 <mailto:test-report-request@dpdk.org?subject=unsubscribe>
List-Archive: <http://mails.dpdk.org/archives/test-report/>
List-Post: <mailto:test-report@dpdk.org>
List-Help: <mailto:test-report-request@dpdk.org?subject=help>
List-Subscribe: <https://mails.dpdk.org/listinfo/test-report>,
 <mailto:test-report-request@dpdk.org?subject=subscribe>
Errors-To: test-report-bounces@dpdk.org

Test-Label: iol-compile-arm64-testing
Test-Status: SUCCESS
http://dpdk.org/patch/140187

_Testing PASS_

Submitter: Stephen Hemminger <stephen@networkplumber.org>
Date: Tuesday, May 21 2024 01:01:04 
DPDK git baseline: Repo:dpdk
  Branch: master
  CommitID:7e06c0de1952d3109a5b0c4779d7e7d8059c9d78

140186-140187 --> testing pass

Test environment and result as below:

+--------------------------+--------------------+
|       Environment        | dpdk_meson_compile |
+==========================+====================+
| Ubuntu 20.04 ARM SVE     | PASS               |
+--------------------------+--------------------+
| Debian 12 with MUSDK     | PASS               |
+--------------------------+--------------------+
| Fedora 38 (ARM)          | PASS               |
+--------------------------+--------------------+
| Ubuntu 20.04 (ARM)       | PASS               |
+--------------------------+--------------------+
| Fedora 37 (ARM)          | PASS               |
+--------------------------+--------------------+
| Fedora 39 (ARM)          | PASS               |
+--------------------------+--------------------+
| Debian 11 (Buster) (ARM) | PASS               |
+--------------------------+--------------------+
| Debian 12 (arm)          | PASS               |
+--------------------------+--------------------+
| CentOS Stream 9 (ARM)    | PASS               |
+--------------------------+--------------------+


Ubuntu 20.04 ARM SVE
	Kernel: 5.4.0-167-generic
	Compiler: gcc (Ubuntu 10.5.0-1ubuntu1~20.04) 10.5.0

Debian 12 with MUSDK
	Kernel: Container Host Kernel
	Compiler: gcc 12.2.0

Fedora 38 (ARM)
	Kernel: Depends on container host
	Compiler: gcc 13.2.1

Ubuntu 20.04 (ARM)
	Kernel: Container Host Kernel
	Compiler: gcc 9.4.0

Fedora 37 (ARM)
	Kernel: Depends on container host
	Compiler: gcc 12.3.1

Fedora 39 (ARM)
	Kernel: Depends on container host
	Compiler: gcc 13.2.1

Debian 11 (Buster) (ARM)
	Kernel: Container Host Kernel
	Compiler: gcc 10.2.1

Debian 12 (arm)
	Kernel: Container Host Kernel
	Compiler: gcc 12.2.0

CentOS Stream 9 (ARM)
	Kernel: Container Host Kernel
	Compiler: gcc 11.4.1

To view detailed results, visit:
https://lab.dpdk.org/results/dashboard/patchsets/29980/

UNH-IOL DPDK Community Lab

To manage your email subscriptions, visit: 
https://lab.dpdk.org/results/dashboard/preferences/subscriptions/