From mboxrd@z Thu Jan  1 00:00:00 1970
Return-Path: <test-report-bounces@dpdk.org>
Received: from mails.dpdk.org (mails.dpdk.org [217.70.189.124])
	by inbox.dpdk.org (Postfix) with ESMTP id 458E24407F
	for <public@inbox.dpdk.org>; Tue, 21 May 2024 04:36:35 +0200 (CEST)
Received: from mails.dpdk.org (localhost [127.0.0.1])
	by mails.dpdk.org (Postfix) with ESMTP id 3E401402BA;
	Tue, 21 May 2024 04:36:35 +0200 (CEST)
Received: from mail-qt1-f228.google.com (mail-qt1-f228.google.com
 [209.85.160.228])
 by mails.dpdk.org (Postfix) with ESMTP id 756774021E
 for <test-report@dpdk.org>; Tue, 21 May 2024 04:36:34 +0200 (CEST)
Received: by mail-qt1-f228.google.com with SMTP id
 d75a77b69052e-43de92e234dso34281501cf.1
 for <test-report@dpdk.org>; Mon, 20 May 2024 19:36:34 -0700 (PDT)
DKIM-Signature: v=1; a=rsa-sha256; c=relaxed/relaxed;
 d=iol.unh.edu; s=unh-iol; t=1716258994; x=1716863794; darn=dpdk.org;
 h=references:in-reply-to:cc:to:from:subject:message-id:date:from:to
 :cc:subject:date:message-id:reply-to;
 bh=wdLr3gibhUKJTd0+S2i7VpGOZqLB9Pu9AnKfOoUhWGs=;
 b=IcG9w37si1fmSDsc5TWjY3jLaMxfBa3ZnknR3qBUJM3i9Ma9g7G9geRIgxT1SOEzmI
 u4d/OAduV+Ak/Mm1TZS/qyEsah0VUez9+bqf8IU/eXZtWCfLmxUAoB4eQp465oKbJE4P
 rFHZ+lJZuIRkvWH7SwyDmGLjGsaKfLBtZ3YRc=
X-Google-DKIM-Signature: v=1; a=rsa-sha256; c=relaxed/relaxed;
 d=1e100.net; s=20230601; t=1716258994; x=1716863794;
 h=references:in-reply-to:cc:to:from:subject:message-id:date
 :x-gm-message-state:from:to:cc:subject:date:message-id:reply-to;
 bh=wdLr3gibhUKJTd0+S2i7VpGOZqLB9Pu9AnKfOoUhWGs=;
 b=ID0Jtt8jV5igzysWPBtVWpd9UeOMgsVZ0RmXSuAcuVP4Ub48MQ92SzymCTuauLDUdE
 qaDzBRpeyILtRKcpcl9Q1uADMi5SVJrcveggZS+lz+flLFaP20LYjAqjSYEZ/BPakFAG
 PJ6Bi8fQlyGWmU2AkN0wPUyagZJ2la9ynRtdRNKCArKdOZjeLi4ZkM4/F+EgtH3hAtfd
 x/ZNMSlOHSXSvWSMuuzxk1mdXbJcoYhXw7GmfDvz2CcCG4ec5EsG2pIhuSd+yJIEV3Ye
 +j4XRvWSagj98jUbbcILoNzl4rZwwMUfjdAezGYF+ZIBgTi8s99LChKsCR0dMXIi+1an
 vM3A==
X-Gm-Message-State: AOJu0YwFO47Rzotm/z2cZhalJFmpCvVyQJl2ufImbGxhu4dymQX4M8k6
 k6f3ru4RACl8gPW2lWtCOo+qtoh+WGRl0j105dFeNZMfmxTQjYPGAD720M1sT5jU0HQhtWPzqSW
 oq1uzVU4sGs3mLwM2NO1vfWNulC/zO3nxpaZtq0Nz
X-Google-Smtp-Source: AGHT+IFi48gyRJ4upl7Snpi+cl2juf5Nkdh/+KVAbdRxG2zrwSCMUhn5NxW+wChfZztjrz9F+bXGjNDXu6HT
X-Received: by 2002:a05:622a:58b:b0:43e:3864:948 with SMTP id
 d75a77b69052e-43f7a2909admr127945851cf.2.1716258993943; 
 Mon, 20 May 2024 19:36:33 -0700 (PDT)
Received: from postal.iol.unh.edu (postal.iol.unh.edu. [132.177.123.84])
 by smtp-relay.gmail.com with ESMTPS id
 d75a77b69052e-43df565f471sm11955431cf.20.2024.05.20.19.36.33
 (version=TLS1_2 cipher=ECDHE-ECDSA-AES128-GCM-SHA256 bits=128/128);
 Mon, 20 May 2024 19:36:33 -0700 (PDT)
X-Relaying-Domain: iol.unh.edu
Date: Mon, 20 May 2024 19:36:33 -0700 (PDT)
Message-ID: <664c08b1.c80a0220.2347a.a58bSMTPIN_ADDED_MISSING@mx.google.com>
Received: from [172.17.0.3] (unknown [172.18.0.217])
 by postal.iol.unh.edu (Postfix) with ESMTP id 88FF2605C380;
 Mon, 20 May 2024 22:36:33 -0400 (EDT)
Subject: |SUCCESS| pw140186-140187 [PATCH] [2/2] net/virtio: fix fortify memc
From: dpdklab@iol.unh.edu
To: Test Report <test-report@dpdk.org>
Cc: dpdk-test-reports@iol.unh.edu
In-Reply-To: <20240521010105.81868-2-stephen@networkplumber.org>
References: <20240521010105.81868-2-stephen@networkplumber.org>
Content-Type: text/plain
X-BeenThere: test-report@dpdk.org
X-Mailman-Version: 2.1.29
Precedence: list
List-Id: automatic DPDK test reports <test-report.dpdk.org>
List-Unsubscribe: <https://mails.dpdk.org/options/test-report>,
 <mailto:test-report-request@dpdk.org?subject=unsubscribe>
List-Archive: <http://mails.dpdk.org/archives/test-report/>
List-Post: <mailto:test-report@dpdk.org>
List-Help: <mailto:test-report-request@dpdk.org?subject=help>
List-Subscribe: <https://mails.dpdk.org/listinfo/test-report>,
 <mailto:test-report-request@dpdk.org?subject=subscribe>
Errors-To: test-report-bounces@dpdk.org

Test-Label: iol-unit-amd64-testing
Test-Status: SUCCESS
http://dpdk.org/patch/140187

_Testing PASS_

Submitter: Stephen Hemminger <stephen@networkplumber.org>
Date: Tuesday, May 21 2024 01:01:04 
DPDK git baseline: Repo:dpdk
  Branch: master
  CommitID:7e06c0de1952d3109a5b0c4779d7e7d8059c9d78

140186-140187 --> testing pass

Test environment and result as below:

+---------------------+----------------+
|     Environment     | dpdk_unit_test |
+=====================+================+
| Windows Server 2019 | PASS           |
+---------------------+----------------+
| Windows Server 2022 | PASS           |
+---------------------+----------------+
| Debian 12           | PASS           |
+---------------------+----------------+
| CentOS Stream 8     | PASS           |
+---------------------+----------------+
| CentOS Stream 9     | PASS           |
+---------------------+----------------+
| Debian Bullseye     | PASS           |
+---------------------+----------------+
| Fedora 37           | PASS           |
+---------------------+----------------+
| Fedora 39           | PASS           |
+---------------------+----------------+
| Fedora 38           | PASS           |
+---------------------+----------------+
| openSUSE Leap 15    | PASS           |
+---------------------+----------------+


Windows Server 2019
	Kernel: 10.0.17763
	Compiler: clang 14.0 and gcc 8.1.0 (MinGW)

Windows Server 2022
	Kernel: 10.0.20348.2031
	Compiler: clang 15.0.7, gcc 8.1.0 (MinGW), and MSVC VS 17.9

Debian 12
	Kernel: Container Host Kernel
	Compiler: gcc 10.2.1

CentOS Stream 8
	Kernel: 5.4.0-167-generic
	Compiler: gcc 8.5.0 20210514

CentOS Stream 9
	Kernel: 5.4.0-167-generic
	Compiler: gcc 11.4.1 20230605

Debian Bullseye
	Kernel: 5.4.0-167-generic
	Compiler: gcc 10.2.1-6

Fedora 37
	Kernel: Depends on container host system
	Compiler: gcc 12.3.1

Fedora 39
	Kernel: Depends on container host
	Compiler: gcc 13.2.1

Fedora 38
	Kernel: Depends on container host
	Compiler: clang 16.0.6

openSUSE Leap 15
	Kernel: 5.4.0-167-generic
	Compiler: gcc 7.5.0

To view detailed results, visit:
https://lab.dpdk.org/results/dashboard/patchsets/29980/

UNH-IOL DPDK Community Lab

To manage your email subscriptions, visit: 
https://lab.dpdk.org/results/dashboard/preferences/subscriptions/