From mboxrd@z Thu Jan  1 00:00:00 1970
Return-Path: <test-report-bounces@dpdk.org>
Received: from mails.dpdk.org (mails.dpdk.org [217.70.189.124])
	by inbox.dpdk.org (Postfix) with ESMTP id 167EF4408C
	for <public@inbox.dpdk.org>; Tue, 21 May 2024 21:12:34 +0200 (CEST)
Received: from mails.dpdk.org (localhost [127.0.0.1])
	by mails.dpdk.org (Postfix) with ESMTP id 11F714021F;
	Tue, 21 May 2024 21:12:34 +0200 (CEST)
Received: from mail-pf1-f227.google.com (mail-pf1-f227.google.com
 [209.85.210.227])
 by mails.dpdk.org (Postfix) with ESMTP id E132F400D7
 for <test-report@dpdk.org>; Tue, 21 May 2024 21:12:32 +0200 (CEST)
Received: by mail-pf1-f227.google.com with SMTP id
 d2e1a72fcca58-6f6b1ac1e90so99976b3a.1
 for <test-report@dpdk.org>; Tue, 21 May 2024 12:12:32 -0700 (PDT)
DKIM-Signature: v=1; a=rsa-sha256; c=relaxed/relaxed;
 d=iol.unh.edu; s=unh-iol; t=1716318750; x=1716923550; darn=dpdk.org;
 h=references:in-reply-to:cc:to:from:subject:message-id:date:from:to
 :cc:subject:date:message-id:reply-to;
 bh=5y2gPH+2IRYXW620ezaKG4V7rhojY575CilwD7uIKko=;
 b=SkAQ1Grj6adfEc6LCoqD4k+FGPlkSVVR74eF2Uge6EeVRkCvCpe7iqDAHL8d8slIh3
 vaMBWTW2HRkIirJK2PFu6rYGU9mhxKaCKBeQOMQDPLKvuanFAtgBvM2s7tLoQYdhV9Qt
 OJz/iwNLAUVhk6m6FMX90fdAmbRAaP/GxEHNA=
X-Google-DKIM-Signature: v=1; a=rsa-sha256; c=relaxed/relaxed;
 d=1e100.net; s=20230601; t=1716318750; x=1716923550;
 h=references:in-reply-to:cc:to:from:subject:message-id:date
 :x-gm-message-state:from:to:cc:subject:date:message-id:reply-to;
 bh=5y2gPH+2IRYXW620ezaKG4V7rhojY575CilwD7uIKko=;
 b=wu/CZI3+80cQ0cPcIBx8PnsieLgHGeqTBXdMyEzz3M+DVOAwkf00LGwvw9KT1uCUFI
 Z08z17kqdvDbI4zm+8CzHvyGbBi92PrPOjbA977bZ5wLxQNsTRo7S02XooAQ/OA9Mbx7
 aKtkiPrCsLz6axVn2tiuGp6J46YNn8LdLHuLCxpc4nf4SDzwlPm1zwJXM9zSeKbnKP1x
 gvvrTb0kD5/m0pGXdkYj0cUcIHMDr6K7H+Un+e7rHlGjudaA8ppwx2yLjuUqkizLiNFl
 a3hAeDtVbGauLhzSeTDJACBTh19vn3ktqWjF7T0wITtr+af04olXqjB4/tv1NKgFAYEo
 Vmzg==
X-Gm-Message-State: AOJu0YxNfMhtIE3JUME8HzEPT8Jyfnwhudpg47U2N9na9rXhAS5wnoZM
 1wAfsuX2b8VufJIF78rUFliHvDvVCqgb0mAVT5nnJpRmCqQxOCTOM1q2b5Gopiw/q5R5nFSqFNx
 qpgYr32dyWZhSK9TmKX0L6jBTbnOXBYPdddo5DSc5+eu6hIIbbsfSm+gD
X-Google-Smtp-Source: AGHT+IHIl32FS+aA1i77bTb3P8h6q9hna8PP2CuGu4XAsL4x7ukAEEJA3PWguOiw+mR2K07GuNiaQK+TTk2k
X-Received: by 2002:a05:6a20:9144:b0:1ac:3b81:2b5a with SMTP id
 adf61e73a8af0-1b1f8045e5dmr53280637.8.1716318748676; 
 Tue, 21 May 2024 12:12:28 -0700 (PDT)
Received: from postal.iol.unh.edu (postal.iol.unh.edu.
 [2606:4100:3880:1234::84]) by smtp-relay.gmail.com with ESMTPS id
 41be03b00d2f7-659504fc827sm902965a12.8.2024.05.21.12.12.28
 (version=TLS1_2 cipher=ECDHE-ECDSA-AES128-GCM-SHA256 bits=128/128);
 Tue, 21 May 2024 12:12:28 -0700 (PDT)
X-Relaying-Domain: iol.unh.edu
Date: Tue, 21 May 2024 12:12:28 -0700 (PDT)
Message-ID: <664cf21c.630a0220.4f28f.f386SMTPIN_ADDED_MISSING@mx.google.com>
Received: from [172.21.0.6] (unknown [172.18.0.240])
 by postal.iol.unh.edu (Postfix) with ESMTP id E1D59605C380;
 Tue, 21 May 2024 15:12:27 -0400 (EDT)
Subject: |SUCCESS| pw140199-140206 [PATCH] [v8,8/8] net/null: use generic SW 
From: dpdklab@iol.unh.edu
To: Test Report <test-report@dpdk.org>
Cc: dpdk-test-reports@iol.unh.edu
In-Reply-To: <20240521170453.119036-9-stephen@networkplumber.org>
References: <20240521170453.119036-9-stephen@networkplumber.org>
Content-Type: text/plain
X-BeenThere: test-report@dpdk.org
X-Mailman-Version: 2.1.29
Precedence: list
List-Id: automatic DPDK test reports <test-report.dpdk.org>
List-Unsubscribe: <https://mails.dpdk.org/options/test-report>,
 <mailto:test-report-request@dpdk.org?subject=unsubscribe>
List-Archive: <http://mails.dpdk.org/archives/test-report/>
List-Post: <mailto:test-report@dpdk.org>
List-Help: <mailto:test-report-request@dpdk.org?subject=help>
List-Subscribe: <https://mails.dpdk.org/listinfo/test-report>,
 <mailto:test-report-request@dpdk.org?subject=subscribe>
Errors-To: test-report-bounces@dpdk.org

Test-Label: iol-unit-amd64-testing
Test-Status: SUCCESS
http://dpdk.org/patch/140206

_Testing PASS_

Submitter: Stephen Hemminger <stephen@networkplumber.org>
Date: Tuesday, May 21 2024 17:00:55 
DPDK git baseline: Repo:dpdk
  Branch: master
  CommitID:6f80df8cb0f889203d7cd27766abcc6ebc720e33

140199-140206 --> testing pass

Test environment and result as below:

+---------------------+----------------+
|     Environment     | dpdk_unit_test |
+=====================+================+
| Windows Server 2019 | PASS           |
+---------------------+----------------+
| Debian Bullseye     | PASS           |
+---------------------+----------------+
| Fedora 37           | PASS           |
+---------------------+----------------+
| CentOS Stream 8     | PASS           |
+---------------------+----------------+
| CentOS Stream 9     | PASS           |
+---------------------+----------------+


Windows Server 2019
	Kernel: 10.0.17763
	Compiler: clang 14.0 and gcc 8.1.0 (MinGW)

Debian Bullseye
	Kernel: 5.4.0-167-generic
	Compiler: gcc 10.2.1-6

Fedora 37
	Kernel: Depends on container host system
	Compiler: gcc 12.3.1

CentOS Stream 8
	Kernel: 5.4.0-167-generic
	Compiler: gcc 8.5.0 20210514

CentOS Stream 9
	Kernel: 5.4.0-167-generic
	Compiler: gcc 11.4.1 20230605

To view detailed results, visit:
https://lab.dpdk.org/results/dashboard/patchsets/29982/

UNH-IOL DPDK Community Lab

To manage your email subscriptions, visit: 
https://lab.dpdk.org/results/dashboard/preferences/subscriptions/