From mboxrd@z Thu Jan  1 00:00:00 1970
Return-Path: <test-report-bounces@dpdk.org>
Received: from mails.dpdk.org (mails.dpdk.org [217.70.189.124])
	by inbox.dpdk.org (Postfix) with ESMTP id 0E9344408C
	for <public@inbox.dpdk.org>; Tue, 21 May 2024 21:39:39 +0200 (CEST)
Received: from mails.dpdk.org (localhost [127.0.0.1])
	by mails.dpdk.org (Postfix) with ESMTP id 0AEB34021F;
	Tue, 21 May 2024 21:39:39 +0200 (CEST)
Received: from mail-pf1-f225.google.com (mail-pf1-f225.google.com
 [209.85.210.225])
 by mails.dpdk.org (Postfix) with ESMTP id A6A9C400D7
 for <test-report@dpdk.org>; Tue, 21 May 2024 21:39:37 +0200 (CEST)
Received: by mail-pf1-f225.google.com with SMTP id
 d2e1a72fcca58-6f43ee95078so1920909b3a.1
 for <test-report@dpdk.org>; Tue, 21 May 2024 12:39:37 -0700 (PDT)
DKIM-Signature: v=1; a=rsa-sha256; c=relaxed/relaxed;
 d=iol.unh.edu; s=unh-iol; t=1716320377; x=1716925177; darn=dpdk.org;
 h=references:in-reply-to:cc:to:from:subject:message-id:date:from:to
 :cc:subject:date:message-id:reply-to;
 bh=4oNf1N9dPnEQnhsH3QeKXDWfbqK2xujnHv4NAUwgJ2k=;
 b=bL7Dy4M9n1K0eb4CuP0HCYrtUTxwizjAeNSOaNXHKrQIVl9o1Z8PaADkcLQpfgLKu9
 aHA16UGKl0Vj/07/h36+TmcRK89TMorXTdCK1YdBRbcog/Nnk0ncOyHauRgK94UfGmK0
 +3NJkAe47FHhvwRMskSCaN1hOva7/wI9xHrPs=
X-Google-DKIM-Signature: v=1; a=rsa-sha256; c=relaxed/relaxed;
 d=1e100.net; s=20230601; t=1716320377; x=1716925177;
 h=references:in-reply-to:cc:to:from:subject:message-id:date
 :x-gm-message-state:from:to:cc:subject:date:message-id:reply-to;
 bh=4oNf1N9dPnEQnhsH3QeKXDWfbqK2xujnHv4NAUwgJ2k=;
 b=aFKqoQCsToAt8OuhUkMcy+od8aonFveJL6ZAOc8Hx0GenB+jquTKKjstOTObjGdSiG
 TrY2dKQp0JUuCnoJic9zdePnheiJ7bFDYZThtiUeKc9hwNwVWmB5B755I7poMyXPLvhg
 Y0W30SKJA9nSL1FEqVqYEdHEvoVnUYV3Im2WhjIlvoDftqF/L+CALXjru7M0N06UHkQp
 q+J3IpXgIMLpeHxrYQ4U5e0Y/YUFdMdC1cL8y74Z6xZrvINrv3vlgt88pVdFwmKQLmWF
 XL9aPKYq5oAVs6iJxsasxGLYehp4keWM1wLTvhdLjhuSoqe7g0pn/ooYwYDqQ8DfLL2r
 52Zg==
X-Gm-Message-State: AOJu0Yzg4927ytpQBfDAucXKM1/rWfV9iey37u3/Ad7AXzyU1pqH8kMk
 kUIu5rue2opZHN/eSEbDjQ80CP4tRwEBj5uUspFz59psn+9uzJ5clA2mv2cOXa3t7IEAXb8KBCW
 hCy1pMW7TUnQN32Fx4aJ4GD5JRF+Fi6xPbDMZil+VHSZMAn0m2q0CUTNm
X-Google-Smtp-Source: AGHT+IE3x49m2YtPlw9QcPHeJCyhgnhFPcX53DbGWnb4RtnbpLIc5Uo6QLT2jemkPOAyY504mG1zm7L78c8Q
X-Received: by 2002:a05:6a20:2d23:b0:1b0:3698:3d4 with SMTP id
 adf61e73a8af0-1b1f88a70cbmr177637.28.1716320376850; 
 Tue, 21 May 2024 12:39:36 -0700 (PDT)
Received: from postal.iol.unh.edu (postal.iol.unh.edu.
 [2606:4100:3880:1234::84]) by smtp-relay.gmail.com with ESMTPS id
 41be03b00d2f7-6340fe3a2a1sm1779074a12.27.2024.05.21.12.39.36
 (version=TLS1_2 cipher=ECDHE-ECDSA-AES128-GCM-SHA256 bits=128/128);
 Tue, 21 May 2024 12:39:36 -0700 (PDT)
X-Relaying-Domain: iol.unh.edu
Date: Tue, 21 May 2024 12:39:36 -0700 (PDT)
Message-ID: <664cf878.630a0220.73458.f69dSMTPIN_ADDED_MISSING@mx.google.com>
Received: from [172.17.0.2] (unknown [172.18.0.217])
 by postal.iol.unh.edu (Postfix) with ESMTP id 4D774605C380;
 Tue, 21 May 2024 15:39:36 -0400 (EDT)
Subject: |SUCCESS| pw140199-140206 [PATCH] [v8,8/8] net/null: use generic SW 
From: dpdklab@iol.unh.edu
To: Test Report <test-report@dpdk.org>
Cc: dpdk-test-reports@iol.unh.edu
In-Reply-To: <20240521170453.119036-9-stephen@networkplumber.org>
References: <20240521170453.119036-9-stephen@networkplumber.org>
Content-Type: text/plain
X-BeenThere: test-report@dpdk.org
X-Mailman-Version: 2.1.29
Precedence: list
List-Id: automatic DPDK test reports <test-report.dpdk.org>
List-Unsubscribe: <https://mails.dpdk.org/options/test-report>,
 <mailto:test-report-request@dpdk.org?subject=unsubscribe>
List-Archive: <http://mails.dpdk.org/archives/test-report/>
List-Post: <mailto:test-report@dpdk.org>
List-Help: <mailto:test-report-request@dpdk.org?subject=help>
List-Subscribe: <https://mails.dpdk.org/listinfo/test-report>,
 <mailto:test-report-request@dpdk.org?subject=subscribe>
Errors-To: test-report-bounces@dpdk.org

Test-Label: iol-compile-arm64-testing
Test-Status: SUCCESS
http://dpdk.org/patch/140206

_Testing PASS_

Submitter: Stephen Hemminger <stephen@networkplumber.org>
Date: Tuesday, May 21 2024 17:00:55 
DPDK git baseline: Repo:dpdk
  Branch: master
  CommitID:6f80df8cb0f889203d7cd27766abcc6ebc720e33

140199-140206 --> testing pass

Test environment and result as below:

+----------------------------------------+--------------------+
|              Environment               | dpdk_meson_compile |
+========================================+====================+
| Ubuntu 20.04 ARM SVE                   | PASS               |
+----------------------------------------+--------------------+
| Debian 12 with MUSDK                   | PASS               |
+----------------------------------------+--------------------+
| Fedora 38 (ARM)                        | PASS               |
+----------------------------------------+--------------------+
| Fedora 37 (ARM)                        | PASS               |
+----------------------------------------+--------------------+
| Ubuntu 20.04 (ARM)                     | PASS               |
+----------------------------------------+--------------------+
| Debian 11 (Buster) (ARM)               | PASS               |
+----------------------------------------+--------------------+
| Fedora 39 (ARM)                        | PASS               |
+----------------------------------------+--------------------+
| Debian 12 (arm)                        | PASS               |
+----------------------------------------+--------------------+
| CentOS Stream 9 (ARM)                  | PASS               |
+----------------------------------------+--------------------+
| Ubuntu 20.04 aarch32 GCC Cross Compile | PASS               |
+----------------------------------------+--------------------+


Ubuntu 20.04 ARM SVE
	Kernel: 5.4.0-167-generic
	Compiler: gcc (Ubuntu 10.5.0-1ubuntu1~20.04) 10.5.0

Debian 12 with MUSDK
	Kernel: Container Host Kernel
	Compiler: gcc 12.2.0

Fedora 38 (ARM)
	Kernel: Depends on container host
	Compiler: gcc 13.2.1

Fedora 37 (ARM)
	Kernel: Depends on container host
	Compiler: gcc 12.3.1

Ubuntu 20.04 (ARM)
	Kernel: Container Host Kernel
	Compiler: gcc 9.4.0

Debian 11 (Buster) (ARM)
	Kernel: Container Host Kernel
	Compiler: gcc 10.2.1

Fedora 39 (ARM)
	Kernel: Depends on container host
	Compiler: gcc 13.2.1

Debian 12 (arm)
	Kernel: Container Host Kernel
	Compiler: gcc 12.2.0

CentOS Stream 9 (ARM)
	Kernel: Container Host Kernel
	Compiler: gcc 11.4.1

Ubuntu 20.04 aarch32 GCC Cross Compile
	Kernel: 5.4.0-167-generic
	Compiler: gcc 9.4.0

To view detailed results, visit:
https://lab.dpdk.org/results/dashboard/patchsets/29982/

UNH-IOL DPDK Community Lab

To manage your email subscriptions, visit: 
https://lab.dpdk.org/results/dashboard/preferences/subscriptions/