From mboxrd@z Thu Jan  1 00:00:00 1970
Return-Path: <test-report-bounces@dpdk.org>
Received: from mails.dpdk.org (mails.dpdk.org [217.70.189.124])
	by inbox.dpdk.org (Postfix) with ESMTP id E3EFA44098
	for <public@inbox.dpdk.org>; Wed, 22 May 2024 17:59:20 +0200 (CEST)
Received: from mails.dpdk.org (localhost [127.0.0.1])
	by mails.dpdk.org (Postfix) with ESMTP id C7B51400D7;
	Wed, 22 May 2024 17:59:20 +0200 (CEST)
Received: from mail-qk1-f226.google.com (mail-qk1-f226.google.com
 [209.85.222.226])
 by mails.dpdk.org (Postfix) with ESMTP id CCC7F400D6
 for <test-report@dpdk.org>; Wed, 22 May 2024 17:59:19 +0200 (CEST)
Received: by mail-qk1-f226.google.com with SMTP id
 af79cd13be357-7930531494aso103090385a.0
 for <test-report@dpdk.org>; Wed, 22 May 2024 08:59:19 -0700 (PDT)
DKIM-Signature: v=1; a=rsa-sha256; c=relaxed/relaxed;
 d=iol.unh.edu; s=unh-iol; t=1716393559; x=1716998359; darn=dpdk.org;
 h=references:in-reply-to:cc:to:from:subject:message-id:date:from:to
 :cc:subject:date:message-id:reply-to;
 bh=ETI1drz+RUF0MCpNomu4ybw8E+ejYssa5ibvZm8BhqU=;
 b=HuN4OQTOuCdpDFj5snyMOuDA2twtYxeWrC0GZNnBsCj4pr8gMcqSrIMVUqalhttZQF
 epwH0+4EUbcUU0Xm7p43DWzlpAtYnGV4o1+lOvej9pKXDNZBDQtdslEWOP9Ww6qf56H4
 XUO/u3/Oj8Jvt304cEZkI00JPjLdFutftuGCw=
X-Google-DKIM-Signature: v=1; a=rsa-sha256; c=relaxed/relaxed;
 d=1e100.net; s=20230601; t=1716393559; x=1716998359;
 h=references:in-reply-to:cc:to:from:subject:message-id:date
 :x-gm-message-state:from:to:cc:subject:date:message-id:reply-to;
 bh=ETI1drz+RUF0MCpNomu4ybw8E+ejYssa5ibvZm8BhqU=;
 b=nxuEErMEYsjx4RZyHz1CrOI/9C19lTVm2nbR35kL016y6wscEWMyjibi71dXe/rmGC
 0SFAMlK38XQ2pfYWrBkHrCf4r7txNbQjf1mCHXW1Plri4TPe+AuhItfSeil9Jyk6JAdJ
 rl5NeBM0V/UpkIvRr6DhYbfnl63Qd/6n8YciA1f+Bj7brgBX937mS96ezNm+yoJ/wl2l
 3bs2wHmRPuuqiPMQj+6ckAqrcA+lw7x5Z8p01566iLh2hSokwvr1y8nlF1gs6rxLmQ1z
 wVvGWlh0+74gLRNsfMHd9b3axRwbz6oOS7zTFqjso/WDoa4oukpHRsCBK34nDZl5GP2K
 Gmfg==
X-Gm-Message-State: AOJu0Yx/lebWSIR9OrAnf3aqre0uWZoqdiR69VdShVwYY9z1urpamoQu
 rX4YmZexaNmbgYdUONzsyir6hW2Lk+yf4cw33wBfsD7M3RJuTrf2ak4cDV41f5JJRC0xb+sjl+S
 IrVv/K6kNoDKVS5nXfeSjS5F7ptrz7ARCH+9qkbej2V1R81/PfXqxVOKq
X-Google-Smtp-Source: AGHT+IFU4Kd7XBuaSYpGawK4Jl21tKASfwtJGU1J5IoJBDl5zAmOxLbYjacxo8+Hb0uB7KZqx9loXLaWN1Xt
X-Received: by 2002:a05:6214:3986:b0:6ab:6ea1:e32b with SMTP id
 6a1803df08f44-6ab7f332cb5mr22328456d6.11.1716393559171; 
 Wed, 22 May 2024 08:59:19 -0700 (PDT)
Received: from postal.iol.unh.edu (postal.iol.unh.edu.
 [2606:4100:3880:1234::84]) by smtp-relay.gmail.com with ESMTPS id
 6a1803df08f44-6a15f23d559sm18157136d6.48.2024.05.22.08.59.19
 (version=TLS1_2 cipher=ECDHE-ECDSA-AES128-GCM-SHA256 bits=128/128);
 Wed, 22 May 2024 08:59:19 -0700 (PDT)
X-Relaying-Domain: iol.unh.edu
Date: Wed, 22 May 2024 08:59:19 -0700 (PDT)
Message-ID: <664e1657.d40a0220.be59d.d745SMTPIN_ADDED_MISSING@mx.google.com>
Received: from [172.17.0.2] (unknown [172.18.0.217])
 by postal.iol.unh.edu (Postfix) with ESMTP id D7D88605C380;
 Wed, 22 May 2024 11:59:18 -0400 (EDT)
Subject: |SUCCESS| pw140270 [PATCH] test/crypto: fix enqueue dequeue callback
From: dpdklab@iol.unh.edu
To: Test Report <test-report@dpdk.org>
Cc: dpdk-test-reports@iol.unh.edu
In-Reply-To: <20240522134835.3453044-1-gakhil@marvell.com>
References: <20240522134835.3453044-1-gakhil@marvell.com>
Content-Type: text/plain
X-BeenThere: test-report@dpdk.org
X-Mailman-Version: 2.1.29
Precedence: list
List-Id: automatic DPDK test reports <test-report.dpdk.org>
List-Unsubscribe: <https://mails.dpdk.org/options/test-report>,
 <mailto:test-report-request@dpdk.org?subject=unsubscribe>
List-Archive: <http://mails.dpdk.org/archives/test-report/>
List-Post: <mailto:test-report@dpdk.org>
List-Help: <mailto:test-report-request@dpdk.org?subject=help>
List-Subscribe: <https://mails.dpdk.org/listinfo/test-report>,
 <mailto:test-report-request@dpdk.org?subject=subscribe>
Errors-To: test-report-bounces@dpdk.org

Test-Label: iol-compile-arm64-testing
Test-Status: SUCCESS
http://dpdk.org/patch/140270

_Testing PASS_

Submitter: Akhil Goyal <gakhil@marvell.com>
Date: Wednesday, May 22 2024 13:48:35 
DPDK git baseline: Repo:dpdk
  Branch: master
  CommitID:6f80df8cb0f889203d7cd27766abcc6ebc720e33

140270 --> testing pass

Test environment and result as below:

+----------------------------------------+--------------------+
|              Environment               | dpdk_meson_compile |
+========================================+====================+
| Ubuntu 20.04 ARM SVE                   | PASS               |
+----------------------------------------+--------------------+
| Debian 12 with MUSDK                   | PASS               |
+----------------------------------------+--------------------+
| Fedora 37 (ARM)                        | PASS               |
+----------------------------------------+--------------------+
| Fedora 38 (ARM)                        | PASS               |
+----------------------------------------+--------------------+
| Debian 12 (arm)                        | PASS               |
+----------------------------------------+--------------------+
| CentOS Stream 9 (ARM)                  | PASS               |
+----------------------------------------+--------------------+
| Fedora 39 (ARM)                        | PASS               |
+----------------------------------------+--------------------+
| Ubuntu 20.04 (ARM)                     | PASS               |
+----------------------------------------+--------------------+
| Ubuntu 20.04 aarch32 GCC Cross Compile | PASS               |
+----------------------------------------+--------------------+
| Ubuntu 20.04 ARM GCC Cross Compile     | PASS               |
+----------------------------------------+--------------------+
| Debian 11 (Buster) (ARM)               | PASS               |
+----------------------------------------+--------------------+
| Ubuntu 20.04 ARM Clang Cross Compile   | PASS               |
+----------------------------------------+--------------------+
| Fedora 38 (ARM Clang)                  | PASS               |
+----------------------------------------+--------------------+


Ubuntu 20.04 ARM SVE
	Kernel: 5.4.0-167-generic
	Compiler: gcc (Ubuntu 10.5.0-1ubuntu1~20.04) 10.5.0

Debian 12 with MUSDK
	Kernel: Container Host Kernel
	Compiler: gcc 12.2.0

Fedora 37 (ARM)
	Kernel: Depends on container host
	Compiler: gcc 12.3.1

Fedora 38 (ARM)
	Kernel: Depends on container host
	Compiler: gcc 13.2.1

Debian 12 (arm)
	Kernel: Container Host Kernel
	Compiler: gcc 12.2.0

CentOS Stream 9 (ARM)
	Kernel: Container Host Kernel
	Compiler: gcc 11.4.1

Fedora 39 (ARM)
	Kernel: Depends on container host
	Compiler: gcc 13.2.1

Ubuntu 20.04 (ARM)
	Kernel: Container Host Kernel
	Compiler: gcc 9.4.0

Ubuntu 20.04 aarch32 GCC Cross Compile
	Kernel: 5.4.0-167-generic
	Compiler: gcc 9.4.0

Ubuntu 20.04 ARM GCC Cross Compile
	Kernel: 5.4.0-167-generic
	Compiler: aarch64-linux-gnu-gcc (Ubuntu 9.4.0-1ubuntu1~20.04.2) 9.4.0

Debian 11 (Buster) (ARM)
	Kernel: Container Host Kernel
	Compiler: gcc 10.2.1

Ubuntu 20.04 ARM Clang Cross Compile
	Kernel: 5.4.0-72-generic
	Compiler: clang 10.0.0-4ubuntu1

Fedora 38 (ARM Clang)
	Kernel: Depends on container host
	Compiler: clang 16.0.6

To view detailed results, visit:
https://lab.dpdk.org/results/dashboard/patchsets/29988/

UNH-IOL DPDK Community Lab

To manage your email subscriptions, visit: 
https://lab.dpdk.org/results/dashboard/preferences/subscriptions/