From mboxrd@z Thu Jan  1 00:00:00 1970
Return-Path: <test-report-bounces@dpdk.org>
Received: from mails.dpdk.org (mails.dpdk.org [217.70.189.124])
	by inbox.dpdk.org (Postfix) with ESMTP id 3E5074409C
	for <public@inbox.dpdk.org>; Wed, 22 May 2024 19:42:50 +0200 (CEST)
Received: from mails.dpdk.org (localhost [127.0.0.1])
	by mails.dpdk.org (Postfix) with ESMTP id 3ACE94026B;
	Wed, 22 May 2024 19:42:50 +0200 (CEST)
Received: from mail-pl1-f225.google.com (mail-pl1-f225.google.com
 [209.85.214.225])
 by mails.dpdk.org (Postfix) with ESMTP id EE58E400D6
 for <test-report@dpdk.org>; Wed, 22 May 2024 19:42:48 +0200 (CEST)
Received: by mail-pl1-f225.google.com with SMTP id
 d9443c01a7336-1ecc23e6c9dso114078385ad.2
 for <test-report@dpdk.org>; Wed, 22 May 2024 10:42:48 -0700 (PDT)
DKIM-Signature: v=1; a=rsa-sha256; c=relaxed/relaxed;
 d=iol.unh.edu; s=unh-iol; t=1716399768; x=1717004568; darn=dpdk.org;
 h=references:in-reply-to:cc:to:from:subject:message-id:date:from:to
 :cc:subject:date:message-id:reply-to;
 bh=hhOe2bROisd+n3aTeJViWSnnLCDmRz70fFex6ErhkhQ=;
 b=NZGq3kXSdXbQcMOrbLa661xc1cIZMMTQTcnDmfVjbbWbLrgC9BDu7VkRaXovoeebuJ
 YdMfLbJL8sn8/+USUJ4RiwouCXILDKLLnUSQOyPPSVtt9wOq9gwJ1RPzd64kpwb7ElXN
 z///8xmS6+o5N/PXsX7yJP+6Ks1VS8vZvCVas=
X-Google-DKIM-Signature: v=1; a=rsa-sha256; c=relaxed/relaxed;
 d=1e100.net; s=20230601; t=1716399768; x=1717004568;
 h=references:in-reply-to:cc:to:from:subject:message-id:date
 :x-gm-message-state:from:to:cc:subject:date:message-id:reply-to;
 bh=hhOe2bROisd+n3aTeJViWSnnLCDmRz70fFex6ErhkhQ=;
 b=AgRsA3orraubNe8BUvbore5Ne6HSyE7rTIKQ/nmfrI3qq/AecKB62v5VV+cSLUApjt
 xNUg+wOt4hx4N4WEFANktN4VCkTDZqns5XF3axcZDyIL8NQaMZ2qtrvJ/qK2P5lOCNp+
 mr+55zEz9Gs0dwcfe9+q6zP5ZYKU74UiHsCVWvxdh0vTMEGQIR8L9/17UMaGgE7JZy5o
 Oq9cLMxQBmfvweuT2we99JeWwiDS22TZfLJHYDZUnf1MzRzhej8C/13HSt69nRJ3r4xt
 IRBsvja9wl7YdOKBrUx+f1wrr/wflO1a3tgYh3UUNxmuRdF/mwvLjnK3JCgzlg3CIoqZ
 aVwg==
X-Gm-Message-State: AOJu0Yw95vWt/ciur5uYDrxeTdo5/BlOREgIwce5VDpMyWD7TlGaQs/M
 XwVttBsjTtJTksRwIMdH39JEVmfdn5Mhd3J1TfOGjcc2JKrjJqe7NAr1+u3NGkhCOxYGRrvJ156
 93M5659Uhx2prFDCxJ2bTfy386RTLaRDneNogJde3W1Q3Xh8suq1NTZA9
X-Google-Smtp-Source: AGHT+IGibbKbaGcAyF+CfwNLWJniUfBNWT/ECbnRyPeApl/7F6Xu2aIcGnPO8uRMXqcFQXNd6gKkkrv8iuTV
X-Received: by 2002:a17:902:d4c3:b0:1f2:fab6:294 with SMTP id
 d9443c01a7336-1f31c9ea3e1mr28719015ad.56.1716399768165; 
 Wed, 22 May 2024 10:42:48 -0700 (PDT)
Received: from postal.iol.unh.edu (postal.iol.unh.edu.
 [2606:4100:3880:1234::84]) by smtp-relay.gmail.com with ESMTPS id
 d9443c01a7336-1f33569a1b7sm699945ad.112.2024.05.22.10.42.48
 (version=TLS1_2 cipher=ECDHE-ECDSA-AES128-GCM-SHA256 bits=128/128);
 Wed, 22 May 2024 10:42:48 -0700 (PDT)
X-Relaying-Domain: iol.unh.edu
Date: Wed, 22 May 2024 10:42:48 -0700 (PDT)
Message-ID: <664e2e98.170a0220.73845.140aSMTPIN_ADDED_MISSING@mx.google.com>
Received: from [172.17.0.3] (unknown [172.18.0.217])
 by postal.iol.unh.edu (Postfix) with ESMTP id 902BC605C380;
 Wed, 22 May 2024 13:42:47 -0400 (EDT)
Subject: |SUCCESS| pw140272-140279 [PATCH] [v10,8/8] net/null: use generic SW
From: dpdklab@iol.unh.edu
To: Test Report <test-report@dpdk.org>
Cc: dpdk-test-reports@iol.unh.edu
In-Reply-To: <20240522161427.64568-9-stephen@networkplumber.org>
References: <20240522161427.64568-9-stephen@networkplumber.org>
Content-Type: text/plain
X-BeenThere: test-report@dpdk.org
X-Mailman-Version: 2.1.29
Precedence: list
List-Id: automatic DPDK test reports <test-report.dpdk.org>
List-Unsubscribe: <https://mails.dpdk.org/options/test-report>,
 <mailto:test-report-request@dpdk.org?subject=unsubscribe>
List-Archive: <http://mails.dpdk.org/archives/test-report/>
List-Post: <mailto:test-report@dpdk.org>
List-Help: <mailto:test-report-request@dpdk.org?subject=help>
List-Subscribe: <https://mails.dpdk.org/listinfo/test-report>,
 <mailto:test-report-request@dpdk.org?subject=subscribe>
Errors-To: test-report-bounces@dpdk.org

Test-Label: iol-abi-testing
Test-Status: SUCCESS
http://dpdk.org/patch/140279

_Testing PASS_

Submitter: Stephen Hemminger <stephen@networkplumber.org>
Date: Wednesday, May 22 2024 16:12:32 
DPDK git baseline: Repo:dpdk
  Branch: master
  CommitID:6f80df8cb0f889203d7cd27766abcc6ebc720e33

140272-140279 --> testing pass

Test environment and result as below:

+------------------+----------+
|   Environment    | abi_test |
+==================+==========+
| RHEL8            | PASS     |
+------------------+----------+
| Ubuntu 22.04     | PASS     |
+------------------+----------+
| openSUSE Leap 15 | PASS     |
+------------------+----------+
| CentOS Stream 8  | PASS     |
+------------------+----------+
| CentOS Stream 9  | PASS     |
+------------------+----------+
| Debian Bullseye  | PASS     |
+------------------+----------+
| Debian 12        | PASS     |
+------------------+----------+
| Fedora 38        | PASS     |
+------------------+----------+
| Fedora 39        | PASS     |
+------------------+----------+
| Fedora 37        | PASS     |
+------------------+----------+


RHEL8
	Kernel: 5.4.0-167-generic
	Compiler: gcc 8.5.0 20210514 (Red Hat 8.5.0-20)

Ubuntu 22.04
	Kernel: 5.4.0-167-generic
	Compiler: gcc 11.4.0

openSUSE Leap 15
	Kernel: 5.4.0-167-generic
	Compiler: gcc 7.5.0

CentOS Stream 8
	Kernel: 5.4.0-167-generic
	Compiler: gcc 8.5.0 20210514

CentOS Stream 9
	Kernel: 5.4.0-167-generic
	Compiler: gcc 11.4.1 20230605

Debian Bullseye
	Kernel: 5.4.0-167-generic
	Compiler: gcc 10.2.1-6

Debian 12
	Kernel: Container Host Kernel
	Compiler: gcc 10.2.1

Fedora 38
	Kernel: Depends on container host
	Compiler: clang 16.0.6

Fedora 39
	Kernel: Depends on container host
	Compiler: clang 17.0.6

Fedora 37
	Kernel: Depends on container host system
	Compiler: gcc 12.3.1

To view detailed results, visit:
https://lab.dpdk.org/results/dashboard/patchsets/29990/

UNH-IOL DPDK Community Lab

To manage your email subscriptions, visit: 
https://lab.dpdk.org/results/dashboard/preferences/subscriptions/