From mboxrd@z Thu Jan  1 00:00:00 1970
Return-Path: <test-report-bounces@dpdk.org>
Received: from mails.dpdk.org (mails.dpdk.org [217.70.189.124])
	by inbox.dpdk.org (Postfix) with ESMTP id 7B5E24409D
	for <public@inbox.dpdk.org>; Wed, 22 May 2024 20:04:49 +0200 (CEST)
Received: from mails.dpdk.org (localhost [127.0.0.1])
	by mails.dpdk.org (Postfix) with ESMTP id 7667E4026B;
	Wed, 22 May 2024 20:04:49 +0200 (CEST)
Received: from mail-qv1-f97.google.com (mail-qv1-f97.google.com
 [209.85.219.97]) by mails.dpdk.org (Postfix) with ESMTP id 3928C400D6
 for <test-report@dpdk.org>; Wed, 22 May 2024 20:04:48 +0200 (CEST)
Received: by mail-qv1-f97.google.com with SMTP id
 6a1803df08f44-69b514d3cf4so11949526d6.0
 for <test-report@dpdk.org>; Wed, 22 May 2024 11:04:48 -0700 (PDT)
DKIM-Signature: v=1; a=rsa-sha256; c=relaxed/relaxed;
 d=iol.unh.edu; s=unh-iol; t=1716401087; x=1717005887; darn=dpdk.org;
 h=references:in-reply-to:cc:to:from:subject:message-id:date:from:to
 :cc:subject:date:message-id:reply-to;
 bh=s8NrQjZy4ZcVCWwUwvKwnexiJXcgEODyIEaWNq+gDnQ=;
 b=czBUqsI7h37v6o4tdYtbUogBEOU24jLTtfg0b4mvKH7FXS+qCe0+SeQ0KSpVdNUTKT
 Sq01t4feZDDqqBNhxSRBhYY1WY0MzNw+t3+RXFr0xlMI28nMaemks/YvovRgVg+XqMJP
 e8x8Qof4+2ciJ6NTCHzrhHLp+cNBq90q1abSQ=
X-Google-DKIM-Signature: v=1; a=rsa-sha256; c=relaxed/relaxed;
 d=1e100.net; s=20230601; t=1716401087; x=1717005887;
 h=references:in-reply-to:cc:to:from:subject:message-id:date
 :x-gm-message-state:from:to:cc:subject:date:message-id:reply-to;
 bh=s8NrQjZy4ZcVCWwUwvKwnexiJXcgEODyIEaWNq+gDnQ=;
 b=dB2cRBkytjHCHym3ZltnPGDO7jBkFgqnyUeL9Q9iWdMqT37sVmkd883exbXzjHM4+q
 RnLN5Tcvtku3SLW1Rtxd+rIlkujvV9XQMc2vvtDzuE65oKfzCwcCbBWyY9STsNl5m9pw
 GwOIrJkohEMf1XNJEuoS5LJbDS4mTikrrrDbfMi1r7jtIinbC3vR6rFQwYyFfR+mNWzU
 cxoWNlITw5aBIMNob0Tw4w00EqlEjh+p/pYVBfFWJdPhD6b8bMeHnFNLuMKEziplvWaX
 xh2JNTwyqVt4vR+3eMqZKQVsdhTyP1gAr15j6NBjPy4gKKNxsx7eVkrIhfXUtHbmLX9K
 OTBA==
X-Gm-Message-State: AOJu0YxOtcfgHZWgGpMNxzgqJ2Z/QovM8gEkBls2ZLeaSv4m6ZMNtYO/
 Jk8RL9KjIipb5yYzN5mbansBE6U76+ATv/POziMCjv/jPpiKmEcZlr8XEPVle2O3931zO66HfUR
 s3cMP7xoY47gnHVAT6uRf7mLziwM3DEQN1QY9QrLv
X-Google-Smtp-Source: AGHT+IGUihmSQ4DrkPQgPMcgx+yRsIJZQdnt6h2pyol9X14aMFWxT/Qlmw6ThtleYk8sBXBwAUAKWvTkF1tY
X-Received: by 2002:a05:6214:5bc7:b0:6ab:714c:6457 with SMTP id
 6a1803df08f44-6ab80907108mr32239396d6.59.1716401087575; 
 Wed, 22 May 2024 11:04:47 -0700 (PDT)
Received: from postal.iol.unh.edu (postal.iol.unh.edu. [132.177.123.84])
 by smtp-relay.gmail.com with ESMTPS id
 6a1803df08f44-6ab79c3ac53sm3154976d6.60.2024.05.22.11.04.47
 (version=TLS1_2 cipher=ECDHE-ECDSA-AES128-GCM-SHA256 bits=128/128);
 Wed, 22 May 2024 11:04:47 -0700 (PDT)
X-Relaying-Domain: iol.unh.edu
Date: Wed, 22 May 2024 11:04:47 -0700 (PDT)
Message-ID: <664e33bf.050a0220.1f1f6.bac5SMTPIN_ADDED_MISSING@mx.google.com>
Received: from [172.17.0.2] (unknown [172.18.0.217])
 by postal.iol.unh.edu (Postfix) with ESMTP id 4F33E605C380;
 Wed, 22 May 2024 14:04:47 -0400 (EDT)
Subject: |SUCCESS| pw140270 [PATCH] test/crypto: fix enqueue dequeue callback
From: dpdklab@iol.unh.edu
To: Test Report <test-report@dpdk.org>
Cc: dpdk-test-reports@iol.unh.edu
In-Reply-To: <20240522134835.3453044-1-gakhil@marvell.com>
References: <20240522134835.3453044-1-gakhil@marvell.com>
Content-Type: text/plain
X-BeenThere: test-report@dpdk.org
X-Mailman-Version: 2.1.29
Precedence: list
List-Id: automatic DPDK test reports <test-report.dpdk.org>
List-Unsubscribe: <https://mails.dpdk.org/options/test-report>,
 <mailto:test-report-request@dpdk.org?subject=unsubscribe>
List-Archive: <http://mails.dpdk.org/archives/test-report/>
List-Post: <mailto:test-report@dpdk.org>
List-Help: <mailto:test-report-request@dpdk.org?subject=help>
List-Subscribe: <https://mails.dpdk.org/listinfo/test-report>,
 <mailto:test-report-request@dpdk.org?subject=subscribe>
Errors-To: test-report-bounces@dpdk.org

Test-Label: iol-compile-arm64-testing
Test-Status: SUCCESS
http://dpdk.org/patch/140270

_Testing PASS_

Submitter: Akhil Goyal <gakhil@marvell.com>
Date: Wednesday, May 22 2024 13:48:35 
DPDK git baseline: Repo:dpdk
  Branch: master
  CommitID:6f80df8cb0f889203d7cd27766abcc6ebc720e33

140270 --> testing pass

Test environment and result as below:

+----------------------------------------+--------------------+
|              Environment               | dpdk_meson_compile |
+========================================+====================+
| Ubuntu 20.04 ARM SVE                   | PASS               |
+----------------------------------------+--------------------+
| Debian 12 with MUSDK                   | PASS               |
+----------------------------------------+--------------------+
| Fedora 37 (ARM)                        | PASS               |
+----------------------------------------+--------------------+
| Fedora 38 (ARM)                        | PASS               |
+----------------------------------------+--------------------+
| Debian 12 (arm)                        | PASS               |
+----------------------------------------+--------------------+
| CentOS Stream 9 (ARM)                  | PASS               |
+----------------------------------------+--------------------+
| Fedora 39 (ARM)                        | PASS               |
+----------------------------------------+--------------------+
| Ubuntu 20.04 (ARM)                     | PASS               |
+----------------------------------------+--------------------+
| Ubuntu 20.04 aarch32 GCC Cross Compile | PASS               |
+----------------------------------------+--------------------+
| Ubuntu 20.04 ARM GCC Cross Compile     | PASS               |
+----------------------------------------+--------------------+
| Debian 11 (Buster) (ARM)               | PASS               |
+----------------------------------------+--------------------+
| Ubuntu 20.04 ARM Clang Cross Compile   | PASS               |
+----------------------------------------+--------------------+
| Fedora 38 (ARM Clang)                  | PASS               |
+----------------------------------------+--------------------+
| Fedora 39 (ARM Clang)                  | PASS               |
+----------------------------------------+--------------------+


Ubuntu 20.04 ARM SVE
	Kernel: 5.4.0-167-generic
	Compiler: gcc (Ubuntu 10.5.0-1ubuntu1~20.04) 10.5.0

Debian 12 with MUSDK
	Kernel: Container Host Kernel
	Compiler: gcc 12.2.0

Fedora 37 (ARM)
	Kernel: Depends on container host
	Compiler: gcc 12.3.1

Fedora 38 (ARM)
	Kernel: Depends on container host
	Compiler: gcc 13.2.1

Debian 12 (arm)
	Kernel: Container Host Kernel
	Compiler: gcc 12.2.0

CentOS Stream 9 (ARM)
	Kernel: Container Host Kernel
	Compiler: gcc 11.4.1

Fedora 39 (ARM)
	Kernel: Depends on container host
	Compiler: gcc 13.2.1

Ubuntu 20.04 (ARM)
	Kernel: Container Host Kernel
	Compiler: gcc 9.4.0

Ubuntu 20.04 aarch32 GCC Cross Compile
	Kernel: 5.4.0-167-generic
	Compiler: gcc 9.4.0

Ubuntu 20.04 ARM GCC Cross Compile
	Kernel: 5.4.0-167-generic
	Compiler: aarch64-linux-gnu-gcc (Ubuntu 9.4.0-1ubuntu1~20.04.2) 9.4.0

Debian 11 (Buster) (ARM)
	Kernel: Container Host Kernel
	Compiler: gcc 10.2.1

Ubuntu 20.04 ARM Clang Cross Compile
	Kernel: 5.4.0-72-generic
	Compiler: clang 10.0.0-4ubuntu1

Fedora 38 (ARM Clang)
	Kernel: Depends on container host
	Compiler: clang 16.0.6

Fedora 39 (ARM Clang)
	Kernel: Depends on container host
	Compiler: clang 17.0.6

To view detailed results, visit:
https://lab.dpdk.org/results/dashboard/patchsets/29988/

UNH-IOL DPDK Community Lab

To manage your email subscriptions, visit: 
https://lab.dpdk.org/results/dashboard/preferences/subscriptions/