From mboxrd@z Thu Jan  1 00:00:00 1970
Return-Path: <test-report-bounces@dpdk.org>
Received: from mails.dpdk.org (mails.dpdk.org [217.70.189.124])
	by inbox.dpdk.org (Postfix) with ESMTP id 0F5E14409D
	for <public@inbox.dpdk.org>; Wed, 22 May 2024 20:06:08 +0200 (CEST)
Received: from mails.dpdk.org (localhost [127.0.0.1])
	by mails.dpdk.org (Postfix) with ESMTP id 0C33D4026B;
	Wed, 22 May 2024 20:06:08 +0200 (CEST)
Received: from mail-io1-f97.google.com (mail-io1-f97.google.com
 [209.85.166.97]) by mails.dpdk.org (Postfix) with ESMTP id 94934400D6
 for <test-report@dpdk.org>; Wed, 22 May 2024 20:06:06 +0200 (CEST)
Received: by mail-io1-f97.google.com with SMTP id
 ca18e2360f4ac-7e21742025aso313948939f.2
 for <test-report@dpdk.org>; Wed, 22 May 2024 11:06:06 -0700 (PDT)
DKIM-Signature: v=1; a=rsa-sha256; c=relaxed/relaxed;
 d=iol.unh.edu; s=unh-iol; t=1716401166; x=1717005966; darn=dpdk.org;
 h=references:in-reply-to:cc:to:from:subject:message-id:date:from:to
 :cc:subject:date:message-id:reply-to;
 bh=yTqu5xRXFJcKN7JbHIiloc+Unc6QYu3/zldiJF86kmo=;
 b=ejAPomfZBLNXyWwewUAySeSuew9aRCYdc8kPpg4+8apyALYBQS6/NqCGL4n5LayCbg
 M6EMj5Oyffp6v7tOz5TUl7Ph/jeUU568wx6jdvqzYfB5uydgDKJi3G0yz/cZOqhWOuTo
 CuFPhqNenQ4cSw47WaPqOWPy3lC+fJIqXGivU=
X-Google-DKIM-Signature: v=1; a=rsa-sha256; c=relaxed/relaxed;
 d=1e100.net; s=20230601; t=1716401166; x=1717005966;
 h=references:in-reply-to:cc:to:from:subject:message-id:date
 :x-gm-message-state:from:to:cc:subject:date:message-id:reply-to;
 bh=yTqu5xRXFJcKN7JbHIiloc+Unc6QYu3/zldiJF86kmo=;
 b=ochevJbsPALhuZGWPmxwnmOY/+kcgxUe4pIS2ykwtfjX14lqmTjk3A8HN6AkifiLUL
 UDmOitGuw2dNTfUkVl7Ck9Xr8p7A/f0s1FTXUo1fScM1akRGu6Bd5WxbDKNjGO1ahkf3
 6/m1UUBpf5xtwTVin4g7zclQQxZKj6W4bqoor99nVKwYZ7KCkuH/XSwyAOTU2dwe6yaH
 rF0gBcA67YU8pC2d+aiuZ2Uy5vnqa1KwJ8Ao+8+lQSVf9W9IjUxTYTO7eUE7yESdA7w5
 gF+zcstc0Nq6soYKK1n4B1mRBlijOdpLpQ6r6WVHkUIn+16MvSdEwN76kKZ5BHGg3z6U
 kHdA==
X-Gm-Message-State: AOJu0YxsUmvdfSnSAmG7JCNBLdviDEmHL39pQgpdIxG6pAqgdcn/hojv
 Y9Ex++NmrB6D1gI+uw2PERnKEUxz+Qbmz3XU9e511Iey+RFhOt0QTgo2/NErw+okmOQLCxElEhm
 JU01QBTyb26EwAwqlrvomdvbINbo5fHO6rA+CQfR8kH6bpT4J9ATFTlcA
X-Google-Smtp-Source: AGHT+IFf6Q6Ysf45GKHNwzfXSFUXDMmgDSaoYQxT/e90ZaYkJnLVoZrAztyPYP7tQlhQ2cHB9SHKKPADN5An
X-Received: by 2002:a05:6602:3304:b0:7e1:8df7:78d5 with SMTP id
 ca18e2360f4ac-7e39df9ec19mr266676339f.20.1716401165891; 
 Wed, 22 May 2024 11:06:05 -0700 (PDT)
Received: from postal.iol.unh.edu (postal.iol.unh.edu.
 [2606:4100:3880:1234::84]) by smtp-relay.gmail.com with ESMTPS id
 8926c6da1cb9f-48936efb939sm1442772173.30.2024.05.22.11.06.05
 (version=TLS1_2 cipher=ECDHE-ECDSA-AES128-GCM-SHA256 bits=128/128);
 Wed, 22 May 2024 11:06:05 -0700 (PDT)
X-Relaying-Domain: iol.unh.edu
Date: Wed, 22 May 2024 11:06:05 -0700 (PDT)
Message-ID: <664e340d.050a0220.a7e84.7f1eSMTPIN_ADDED_MISSING@mx.google.com>
Received: from [172.17.0.2] (unknown [172.18.0.217])
 by postal.iol.unh.edu (Postfix) with ESMTP id 7DB65605C380;
 Wed, 22 May 2024 14:06:05 -0400 (EDT)
Subject: |SUCCESS| pw140272-140279 [PATCH] [v10,8/8] net/null: use generic SW
From: dpdklab@iol.unh.edu
To: Test Report <test-report@dpdk.org>
Cc: dpdk-test-reports@iol.unh.edu
In-Reply-To: <20240522161427.64568-9-stephen@networkplumber.org>
References: <20240522161427.64568-9-stephen@networkplumber.org>
Content-Type: text/plain
X-BeenThere: test-report@dpdk.org
X-Mailman-Version: 2.1.29
Precedence: list
List-Id: automatic DPDK test reports <test-report.dpdk.org>
List-Unsubscribe: <https://mails.dpdk.org/options/test-report>,
 <mailto:test-report-request@dpdk.org?subject=unsubscribe>
List-Archive: <http://mails.dpdk.org/archives/test-report/>
List-Post: <mailto:test-report@dpdk.org>
List-Help: <mailto:test-report-request@dpdk.org?subject=help>
List-Subscribe: <https://mails.dpdk.org/listinfo/test-report>,
 <mailto:test-report-request@dpdk.org?subject=subscribe>
Errors-To: test-report-bounces@dpdk.org

Test-Label: iol-unit-amd64-testing
Test-Status: SUCCESS
http://dpdk.org/patch/140279

_Testing PASS_

Submitter: Stephen Hemminger <stephen@networkplumber.org>
Date: Wednesday, May 22 2024 16:12:32 
DPDK git baseline: Repo:dpdk
  Branch: master
  CommitID:6f80df8cb0f889203d7cd27766abcc6ebc720e33

140272-140279 --> testing pass

Test environment and result as below:

+------------------+----------------+
|   Environment    | dpdk_unit_test |
+==================+================+
| CentOS Stream 8  | PASS           |
+------------------+----------------+
| Debian Bullseye  | PASS           |
+------------------+----------------+
| Fedora 37        | PASS           |
+------------------+----------------+
| CentOS Stream 9  | PASS           |
+------------------+----------------+
| Debian 12        | PASS           |
+------------------+----------------+
| Fedora 39        | PASS           |
+------------------+----------------+
| Fedora 38        | PASS           |
+------------------+----------------+
| Ubuntu 20.04     | PASS           |
+------------------+----------------+
| Ubuntu 22.04     | PASS           |
+------------------+----------------+
| RHEL8            | PASS           |
+------------------+----------------+
| openSUSE Leap 15 | PASS           |
+------------------+----------------+


CentOS Stream 8
	Kernel: 5.4.0-167-generic
	Compiler: gcc 8.5.0 20210514

Debian Bullseye
	Kernel: 5.4.0-167-generic
	Compiler: gcc 10.2.1-6

Fedora 37
	Kernel: Depends on container host system
	Compiler: gcc 12.3.1

CentOS Stream 9
	Kernel: 5.4.0-167-generic
	Compiler: gcc 11.4.1 20230605

Debian 12
	Kernel: Container Host Kernel
	Compiler: gcc 10.2.1

Fedora 39
	Kernel: Depends on container host
	Compiler: gcc 13.2.1

Fedora 38
	Kernel: Depends on container host
	Compiler: gcc 13.2.1

Ubuntu 20.04
	Kernel: 5.4.0-167-generic
	Compiler: gcc 9.4.0-1ubuntu1~20.04.1

Ubuntu 22.04
	Kernel: 5.4.0-167-generic
	Compiler: gcc 11.4.0

RHEL8
	Kernel: 5.4.0-167-generic
	Compiler: gcc 8.5.0 20210514 (Red Hat 8.5.0-20)

openSUSE Leap 15
	Kernel: 5.4.0-167-generic
	Compiler: gcc 7.5.0

To view detailed results, visit:
https://lab.dpdk.org/results/dashboard/patchsets/29990/

UNH-IOL DPDK Community Lab

To manage your email subscriptions, visit: 
https://lab.dpdk.org/results/dashboard/preferences/subscriptions/