From mboxrd@z Thu Jan  1 00:00:00 1970
Return-Path: <test-report-bounces@dpdk.org>
Received: from mails.dpdk.org (mails.dpdk.org [217.70.189.124])
	by inbox.dpdk.org (Postfix) with ESMTP id 32B514409D
	for <public@inbox.dpdk.org>; Wed, 22 May 2024 20:21:49 +0200 (CEST)
Received: from mails.dpdk.org (localhost [127.0.0.1])
	by mails.dpdk.org (Postfix) with ESMTP id 2D9AA4028B;
	Wed, 22 May 2024 20:21:49 +0200 (CEST)
Received: from mail-yw1-f227.google.com (mail-yw1-f227.google.com
 [209.85.128.227])
 by mails.dpdk.org (Postfix) with ESMTP id 2B07B400D6
 for <test-report@dpdk.org>; Wed, 22 May 2024 20:21:47 +0200 (CEST)
Received: by mail-yw1-f227.google.com with SMTP id
 00721157ae682-627f3265898so4637687b3.3
 for <test-report@dpdk.org>; Wed, 22 May 2024 11:21:47 -0700 (PDT)
DKIM-Signature: v=1; a=rsa-sha256; c=relaxed/relaxed;
 d=iol.unh.edu; s=unh-iol; t=1716402106; x=1717006906; darn=dpdk.org;
 h=references:in-reply-to:cc:to:from:subject:message-id:date:from:to
 :cc:subject:date:message-id:reply-to;
 bh=Yj52dXtV60a829UpnP9e5wRjAxNIlqlVFfGlikg8WCo=;
 b=DV6vQkUbRc3MSdz8k8U+N5CuRe2WEldRY52uT9OnUcNHyi/jUSlPfUaYyQjSbHpdIM
 PkmE0j4AlJ4g4NOcMRY65wAPklhTMwPFj3D3xEJzOp8AaZGO6o8q+TIVlprKApZF+maN
 6axODoPO3w0i/Y4NXGXYMFp/N4peZk/avLRqU=
X-Google-DKIM-Signature: v=1; a=rsa-sha256; c=relaxed/relaxed;
 d=1e100.net; s=20230601; t=1716402106; x=1717006906;
 h=references:in-reply-to:cc:to:from:subject:message-id:date
 :x-gm-message-state:from:to:cc:subject:date:message-id:reply-to;
 bh=Yj52dXtV60a829UpnP9e5wRjAxNIlqlVFfGlikg8WCo=;
 b=bEeVCr/0QLx27nYYPlL+JJsswZz+SQogT9IhUlP2+Yw4TEKAEIKQw54lcB4z0v4wdw
 3jYwdO72Z64l6adjzH5Vg8ae5JbAjNyTGv9iwTqr89zFkcfDJaw1jIZFrmVehLr++OhK
 OxyzZihxfdysCD1DTVRcAlW6HARkx+Wl1X8mg0zv7uSC6KAo+tHhgK0se4L83j1blfTZ
 3eAr5q9ej3zwxTW6gshttrmHTqMbTSImKyDJiV8zB8FuOoTTfBFPxzMiGmEHaRWXCeRe
 SihCH05wSeNp4L3IfNEnIRYpA7VnzS2kFEve9lARM3c1wOjdDAx51Kgt6jWV55yUVtls
 g/0g==
X-Gm-Message-State: AOJu0YxWJCPITpHHckc4lTJISfGNLApyRKkZxyR0wvj0KWK5pxdr+BZG
 ktZaviJ3b2o5sGHd2jBu34PAtqahbdifI+A2RyTRAbxrXjMv07YQO7ByjJZmAvgVSvNPUNmq7k+
 6lj7C5E8G8foV4fBzmASDBCyCuDZGjrYvNdc6ZjHr
X-Google-Smtp-Source: AGHT+IFrNmdZKZ6fhrYS+ejT4xku3nzdDYt5l5hlQLFwEJW/XCOFv8Fz060goyEoNgkWwz8f1Isr6/QreJLw
X-Received: by 2002:a0d:e80a:0:b0:61a:bc15:8359 with SMTP id
 00721157ae682-627e46c9960mr28582117b3.9.1716402106567; 
 Wed, 22 May 2024 11:21:46 -0700 (PDT)
Received: from postal.iol.unh.edu (postal.iol.unh.edu. [132.177.123.84])
 by smtp-relay.gmail.com with ESMTPS id
 00721157ae682-6209e3648e4sm14644617b3.60.2024.05.22.11.21.46
 (version=TLS1_2 cipher=ECDHE-ECDSA-AES128-GCM-SHA256 bits=128/128);
 Wed, 22 May 2024 11:21:46 -0700 (PDT)
X-Relaying-Domain: iol.unh.edu
Date: Wed, 22 May 2024 11:21:46 -0700 (PDT)
Message-ID: <664e37ba.050a0220.eb1d2.26d4SMTPIN_ADDED_MISSING@mx.google.com>
Received: from [172.17.0.3] (unknown [172.18.0.217])
 by postal.iol.unh.edu (Postfix) with ESMTP id 3E2AC605C380;
 Wed, 22 May 2024 14:21:46 -0400 (EDT)
Subject: |SUCCESS| pw140272-140279 [PATCH] [v10,8/8] net/null: use generic SW
From: dpdklab@iol.unh.edu
To: Test Report <test-report@dpdk.org>
Cc: dpdk-test-reports@iol.unh.edu
In-Reply-To: <20240522161427.64568-9-stephen@networkplumber.org>
References: <20240522161427.64568-9-stephen@networkplumber.org>
Content-Type: text/plain
X-BeenThere: test-report@dpdk.org
X-Mailman-Version: 2.1.29
Precedence: list
List-Id: automatic DPDK test reports <test-report.dpdk.org>
List-Unsubscribe: <https://mails.dpdk.org/options/test-report>,
 <mailto:test-report-request@dpdk.org?subject=unsubscribe>
List-Archive: <http://mails.dpdk.org/archives/test-report/>
List-Post: <mailto:test-report@dpdk.org>
List-Help: <mailto:test-report-request@dpdk.org?subject=help>
List-Subscribe: <https://mails.dpdk.org/listinfo/test-report>,
 <mailto:test-report-request@dpdk.org?subject=subscribe>
Errors-To: test-report-bounces@dpdk.org

Test-Label: iol-compile-arm64-testing
Test-Status: SUCCESS
http://dpdk.org/patch/140279

_Testing PASS_

Submitter: Stephen Hemminger <stephen@networkplumber.org>
Date: Wednesday, May 22 2024 16:12:32 
DPDK git baseline: Repo:dpdk
  Branch: master
  CommitID:6f80df8cb0f889203d7cd27766abcc6ebc720e33

140272-140279 --> testing pass

Test environment and result as below:

+----------------------------------------+--------------------+
|              Environment               | dpdk_meson_compile |
+========================================+====================+
| Ubuntu 20.04 ARM SVE                   | PASS               |
+----------------------------------------+--------------------+
| Debian 12 with MUSDK                   | PASS               |
+----------------------------------------+--------------------+
| Ubuntu 20.04 aarch32 GCC Cross Compile | PASS               |
+----------------------------------------+--------------------+
| Fedora 37 (ARM)                        | PASS               |
+----------------------------------------+--------------------+
| Ubuntu 20.04 ARM Clang Cross Compile   | PASS               |
+----------------------------------------+--------------------+
| Ubuntu 20.04 (ARM)                     | PASS               |
+----------------------------------------+--------------------+
| Debian 11 (Buster) (ARM)               | PASS               |
+----------------------------------------+--------------------+
| CentOS Stream 9 (ARM)                  | PASS               |
+----------------------------------------+--------------------+
| Fedora 38 (ARM)                        | PASS               |
+----------------------------------------+--------------------+
| Debian 12 (arm)                        | PASS               |
+----------------------------------------+--------------------+
| Fedora 39 (ARM)                        | PASS               |
+----------------------------------------+--------------------+
| Ubuntu 20.04 ARM GCC Cross Compile     | PASS               |
+----------------------------------------+--------------------+


Ubuntu 20.04 ARM SVE
	Kernel: 5.4.0-167-generic
	Compiler: gcc (Ubuntu 10.5.0-1ubuntu1~20.04) 10.5.0

Debian 12 with MUSDK
	Kernel: Container Host Kernel
	Compiler: gcc 12.2.0

Ubuntu 20.04 aarch32 GCC Cross Compile
	Kernel: 5.4.0-167-generic
	Compiler: gcc 9.4.0

Fedora 37 (ARM)
	Kernel: Depends on container host
	Compiler: gcc 12.3.1

Ubuntu 20.04 ARM Clang Cross Compile
	Kernel: 5.4.0-72-generic
	Compiler: clang 10.0.0-4ubuntu1

Ubuntu 20.04 (ARM)
	Kernel: Container Host Kernel
	Compiler: gcc 9.4.0

Debian 11 (Buster) (ARM)
	Kernel: Container Host Kernel
	Compiler: gcc 10.2.1

CentOS Stream 9 (ARM)
	Kernel: Container Host Kernel
	Compiler: gcc 11.4.1

Fedora 38 (ARM)
	Kernel: Depends on container host
	Compiler: gcc 13.2.1

Debian 12 (arm)
	Kernel: Container Host Kernel
	Compiler: gcc 12.2.0

Fedora 39 (ARM)
	Kernel: Depends on container host
	Compiler: gcc 13.2.1

Ubuntu 20.04 ARM GCC Cross Compile
	Kernel: 5.4.0-167-generic
	Compiler: aarch64-linux-gnu-gcc (Ubuntu 9.4.0-1ubuntu1~20.04.2) 9.4.0

To view detailed results, visit:
https://lab.dpdk.org/results/dashboard/patchsets/29990/

UNH-IOL DPDK Community Lab

To manage your email subscriptions, visit: 
https://lab.dpdk.org/results/dashboard/preferences/subscriptions/