From mboxrd@z Thu Jan  1 00:00:00 1970
Return-Path: <test-report-bounces@dpdk.org>
Received: from mails.dpdk.org (mails.dpdk.org [217.70.189.124])
	by inbox.dpdk.org (Postfix) with ESMTP id 948DE4409D
	for <public@inbox.dpdk.org>; Wed, 22 May 2024 20:22:49 +0200 (CEST)
Received: from mails.dpdk.org (localhost [127.0.0.1])
	by mails.dpdk.org (Postfix) with ESMTP id 8EFCF4028B;
	Wed, 22 May 2024 20:22:49 +0200 (CEST)
Received: from mail-oi1-f225.google.com (mail-oi1-f225.google.com
 [209.85.167.225])
 by mails.dpdk.org (Postfix) with ESMTP id 540FF400D6
 for <test-report@dpdk.org>; Wed, 22 May 2024 20:22:48 +0200 (CEST)
Received: by mail-oi1-f225.google.com with SMTP id
 5614622812f47-3d036c7545dso40401b6e.0
 for <test-report@dpdk.org>; Wed, 22 May 2024 11:22:48 -0700 (PDT)
DKIM-Signature: v=1; a=rsa-sha256; c=relaxed/relaxed;
 d=iol.unh.edu; s=unh-iol; t=1716402167; x=1717006967; darn=dpdk.org;
 h=references:in-reply-to:cc:to:from:subject:message-id:date:from:to
 :cc:subject:date:message-id:reply-to;
 bh=DS8Ph4OK3k1JLSwYZ7IGK7t2xuhc1kZPMrT4UgRJwsE=;
 b=UUK93H/jPwOli+f91NzVFPo7y1kiLBc8LrgEI016k1r9K/f9NRoL1BqqkNgaNFH4m1
 heQCLnH0ham7yEw+pyb4mF0R6s59qQEVTRZJryae8foeLyggbTaWwCfdxoCjdaHx1e/Y
 mfJSJ4Q4glMadd/UpVmUSYF2OYXEbPGhZq/Qg=
X-Google-DKIM-Signature: v=1; a=rsa-sha256; c=relaxed/relaxed;
 d=1e100.net; s=20230601; t=1716402167; x=1717006967;
 h=references:in-reply-to:cc:to:from:subject:message-id:date
 :x-gm-message-state:from:to:cc:subject:date:message-id:reply-to;
 bh=DS8Ph4OK3k1JLSwYZ7IGK7t2xuhc1kZPMrT4UgRJwsE=;
 b=uZ7yFypuUTEUpSpOWK7nU1n3c0In0VbJ2s9Tf1H+n0rUc4to+FhvC6UD2h2tTDW28+
 f7qy38ht0mhZJg9a4MN34F6mza8gOdsFx2LL+XmGH0x3R7yHm5jqIFHcDH0qIhQT48J+
 A6EHfq/UMwU8QFG7rfzSE7IqS4wMcw0KrdWV6yDoS4knCPf64bCz74tIu2m4U/4b+zhR
 slOR+PHszgPyzZJC3TKmncpBdE9qbmKt+GbfcvC3SyO+ZmIgwd7HVrNcr78alqkFu9Ye
 f5f4ryWvhrKR921pNb0A2law85Ai6GpOscVdZjXsDvkodkmO4vN1vyolokyv23466d83
 LB0A==
X-Gm-Message-State: AOJu0YyDa5hEMj1NgqpJLFFIF7+2GOqFd78vnF9n0dMDt94Z7BesrPAv
 bon5f9LKcCmnxP0NFwyDlq4+lLtzoh1jeA5DbUHDBjUG/ef7acqS3ZDV0OUkCo658Sq69LwJdAG
 4+Nq0erqtMpcljMec852HbW5YXy/N7tho02j5sfsQ/ANBAuOoS/tKOtX+
X-Google-Smtp-Source: AGHT+IERctogERT3So+IN55Qi4HLoF3X/RlEzWk50Z3l0VqQO6CeFIbS5WVr30H1NOEB7N9NmK52xAYBpK31
X-Received: by 2002:a05:6808:2391:b0:3c9:a2f7:4973 with SMTP id
 5614622812f47-3d04527187cmr29331b6e.9.1716402166712; 
 Wed, 22 May 2024 11:22:46 -0700 (PDT)
Received: from postal.iol.unh.edu (postal.iol.unh.edu.
 [2606:4100:3880:1234::84]) by smtp-relay.gmail.com with ESMTPS id
 006d021491bc7-5b26ddc6696sm1467162eaf.15.2024.05.22.11.22.46
 (version=TLS1_2 cipher=ECDHE-ECDSA-AES128-GCM-SHA256 bits=128/128);
 Wed, 22 May 2024 11:22:46 -0700 (PDT)
X-Relaying-Domain: iol.unh.edu
Date: Wed, 22 May 2024 11:22:46 -0700 (PDT)
Message-ID: <664e37f6.4a0a0220.77b16.08faSMTPIN_ADDED_MISSING@mx.google.com>
Received: from [172.17.0.4] (unknown [172.18.0.217])
 by postal.iol.unh.edu (Postfix) with ESMTP id 4E31F605C380;
 Wed, 22 May 2024 14:22:46 -0400 (EDT)
Subject: |SUCCESS| pw140272-140279 [PATCH] [v10,8/8] net/null: use generic SW
From: dpdklab@iol.unh.edu
To: Test Report <test-report@dpdk.org>
Cc: dpdk-test-reports@iol.unh.edu
In-Reply-To: <20240522161427.64568-9-stephen@networkplumber.org>
References: <20240522161427.64568-9-stephen@networkplumber.org>
Content-Type: text/plain
X-BeenThere: test-report@dpdk.org
X-Mailman-Version: 2.1.29
Precedence: list
List-Id: automatic DPDK test reports <test-report.dpdk.org>
List-Unsubscribe: <https://mails.dpdk.org/options/test-report>,
 <mailto:test-report-request@dpdk.org?subject=unsubscribe>
List-Archive: <http://mails.dpdk.org/archives/test-report/>
List-Post: <mailto:test-report@dpdk.org>
List-Help: <mailto:test-report-request@dpdk.org?subject=help>
List-Subscribe: <https://mails.dpdk.org/listinfo/test-report>,
 <mailto:test-report-request@dpdk.org?subject=subscribe>
Errors-To: test-report-bounces@dpdk.org

Test-Label: iol-compile-amd64-testing
Test-Status: SUCCESS
http://dpdk.org/patch/140279

_Testing PASS_

Submitter: Stephen Hemminger <stephen@networkplumber.org>
Date: Wednesday, May 22 2024 16:12:32 
DPDK git baseline: Repo:dpdk
  Branch: master
  CommitID:6f80df8cb0f889203d7cd27766abcc6ebc720e33

140272-140279 --> testing pass

Test environment and result as below:

+---------------------+--------------------+----------------------+------------------+-------------------+
|     Environment     | dpdk_meson_compile | dpdk_mingw64_compile | dpdk_compile_ovs | dpdk_msvc_compile |
+=====================+====================+======================+==================+===================+
| FreeBSD 13.3        | PASS               | SKIPPED              | SKIPPED          | SKIPPED           |
+---------------------+--------------------+----------------------+------------------+-------------------+
| Alpine              | PASS               | SKIPPED              | SKIPPED          | SKIPPED           |
+---------------------+--------------------+----------------------+------------------+-------------------+
| Debian 12           | PASS               | SKIPPED              | PASS             | SKIPPED           |
+---------------------+--------------------+----------------------+------------------+-------------------+
| CentOS Stream 9     | PASS               | SKIPPED              | PASS             | SKIPPED           |
+---------------------+--------------------+----------------------+------------------+-------------------+
| Windows Server 2019 | PASS               | PASS                 | SKIPPED          | SKIPPED           |
+---------------------+--------------------+----------------------+------------------+-------------------+
| Ubuntu 22.04        | PASS               | SKIPPED              | PASS             | SKIPPED           |
+---------------------+--------------------+----------------------+------------------+-------------------+
| FreeBSD 14.0        | PASS               | SKIPPED              | SKIPPED          | SKIPPED           |
+---------------------+--------------------+----------------------+------------------+-------------------+
| CentOS Stream 8     | PASS               | SKIPPED              | PASS             | SKIPPED           |
+---------------------+--------------------+----------------------+------------------+-------------------+
| Fedora 37           | PASS               | SKIPPED              | PASS             | SKIPPED           |
+---------------------+--------------------+----------------------+------------------+-------------------+
| Debian Bullseye     | PASS               | SKIPPED              | PASS             | SKIPPED           |
+---------------------+--------------------+----------------------+------------------+-------------------+
| Windows Server 2022 | PASS               | PASS                 | SKIPPED          | PASS              |
+---------------------+--------------------+----------------------+------------------+-------------------+
| Fedora 39           | PASS               | SKIPPED              | PASS             | SKIPPED           |
+---------------------+--------------------+----------------------+------------------+-------------------+
| RHEL8               | PASS               | SKIPPED              | PASS             | SKIPPED           |
+---------------------+--------------------+----------------------+------------------+-------------------+
| openSUSE Leap 15    | PASS               | SKIPPED              | PASS             | SKIPPED           |
+---------------------+--------------------+----------------------+------------------+-------------------+
| Ubuntu 20.04        | PASS               | SKIPPED              | PASS             | SKIPPED           |
+---------------------+--------------------+----------------------+------------------+-------------------+
| Fedora 38           | PASS               | SKIPPED              | PASS             | SKIPPED           |
+---------------------+--------------------+----------------------+------------------+-------------------+


FreeBSD 13.3
	Kernel: 13.3-RELEASE-p1
	Compiler: clang 17.0.6

Alpine
	Kernel: 5.4.0-167-generic
	Compiler: gcc (Alpine 13.2.1_git20231014) 13.2.1 20231014

Debian 12
	Kernel: Container Host Kernel
	Compiler: gcc 10.2.1

CentOS Stream 9
	Kernel: 5.4.0-167-generic
	Compiler: gcc 11.4.1 20230605

Windows Server 2019
	Kernel: 10.0.17763
	Compiler: clang 14.0 and gcc 8.1.0 (MinGW)

Ubuntu 22.04
	Kernel: 5.4.0-167-generic
	Compiler: gcc 11.4.0

FreeBSD 14.0
	Kernel: 14.0
	Compiler: clang 16.0.6

CentOS Stream 8
	Kernel: 5.4.0-167-generic
	Compiler: gcc 8.5.0 20210514

Fedora 37
	Kernel: Depends on container host system
	Compiler: gcc 12.3.1

Debian Bullseye
	Kernel: 5.4.0-167-generic
	Compiler: gcc 10.2.1-6

Windows Server 2022
	Kernel: 10.0.20348.2031
	Compiler: clang 15.0.7, gcc 8.1.0 (MinGW), and MSVC VS 17.9

Fedora 39
	Kernel: Depends on container host
	Compiler: gcc 13.2.1

RHEL8
	Kernel: 5.4.0-167-generic
	Compiler: gcc 8.5.0 20210514 (Red Hat 8.5.0-20)

openSUSE Leap 15
	Kernel: 5.4.0-167-generic
	Compiler: gcc 7.5.0

Ubuntu 20.04
	Kernel: 5.4.0-167-generic
	Compiler: gcc 9.4.0-1ubuntu1~20.04.1

Fedora 38
	Kernel: Depends on container host
	Compiler: gcc 13.2.1

To view detailed results, visit:
https://lab.dpdk.org/results/dashboard/patchsets/29990/

UNH-IOL DPDK Community Lab

To manage your email subscriptions, visit: 
https://lab.dpdk.org/results/dashboard/preferences/subscriptions/