From mboxrd@z Thu Jan  1 00:00:00 1970
Return-Path: <test-report-bounces@dpdk.org>
Received: from mails.dpdk.org (mails.dpdk.org [217.70.189.124])
	by inbox.dpdk.org (Postfix) with ESMTP id 972F3440A4
	for <public@inbox.dpdk.org>; Thu, 23 May 2024 10:04:10 +0200 (CEST)
Received: from mails.dpdk.org (localhost [127.0.0.1])
	by mails.dpdk.org (Postfix) with ESMTP id 77EE940273;
	Thu, 23 May 2024 10:04:10 +0200 (CEST)
Received: from mail-pf1-f227.google.com (mail-pf1-f227.google.com
 [209.85.210.227])
 by mails.dpdk.org (Postfix) with ESMTP id 1EF464025C
 for <test-report@dpdk.org>; Thu, 23 May 2024 10:04:09 +0200 (CEST)
Received: by mail-pf1-f227.google.com with SMTP id
 d2e1a72fcca58-6f44a2d1e3dso2199916b3a.3
 for <test-report@dpdk.org>; Thu, 23 May 2024 01:04:09 -0700 (PDT)
DKIM-Signature: v=1; a=rsa-sha256; c=relaxed/relaxed;
 d=iol.unh.edu; s=unh-iol; t=1716451448; x=1717056248; darn=dpdk.org;
 h=references:in-reply-to:cc:to:from:subject:message-id:date:from:to
 :cc:subject:date:message-id:reply-to;
 bh=rxdLC3ZUkfUVqvTrjlzlnfpH0dJBgdgc4meBt2ONXnQ=;
 b=DDAb4zUVCNxSaTxHkZYeCQcDMgrY4HZxNiYlP05YTNjVsOmIAk7A4A3LTQQ8PM5dx+
 BBKrKJqhblAWao0mOt8akJ2Xg1k5OP+mAptuOnVLiw8Jev7fnlK79ZNk7WpGEdRFgn4Y
 S/mxTAgceMalCTf632GpBEbeewtGpD68wpC8M=
X-Google-DKIM-Signature: v=1; a=rsa-sha256; c=relaxed/relaxed;
 d=1e100.net; s=20230601; t=1716451448; x=1717056248;
 h=references:in-reply-to:cc:to:from:subject:message-id:date
 :x-gm-message-state:from:to:cc:subject:date:message-id:reply-to;
 bh=rxdLC3ZUkfUVqvTrjlzlnfpH0dJBgdgc4meBt2ONXnQ=;
 b=IYSeLoHOuzaltHyYeQW13fJ6IIMjDW/pg9TrT9dFEQBJINRwFOi789XreXGeFriEWY
 JLFoM5NnXtFjPvIs54PD1vXFqxEKWksMJ6hzZHulj/hCTb7A/+VEb6ZNUUBcApsXo5H6
 tYRRVtXKQi6i/UFHOtAuwWmNG8bN8ovoxOIyA4thjxOHhsvR24Ic1YJvOdR1F4J3Hzwc
 NKy6VtJ02l+Hxzn05KVrbXOnLibsjGJYGTtoK8iAEdb79rhqr53s0WGOSIc2IsKRyXle
 yozXc9e+2T2YTPNUrCSaDvk+IzlnY3t+jWi5bFU5qcmbPOjWeRBg/ps8fVk7I8bcdvCz
 WYyQ==
X-Gm-Message-State: AOJu0YxtAlceIlqg8X3TqSaKfuMs2ZSQXQhBsnkwMK9At3jVkt7SnnNS
 t5c09oevfBAh1X/fUvdzN4E76V+FMNk7j822HXiduiHBgO8XFKXVc0+pUKc/I+onrSsRu1BqwDz
 ZUBmTWtjI53aNUw/jSFhtkjxPCJt+q7Bm3RkLZEDXtjFGknbN6j8Y9c45
X-Google-Smtp-Source: AGHT+IERUsd9OEzZLioyC8QtKjUkfrzxKukagwtnNznX2/0oYPc8gqYg624XhBUfVoM4/SZDTIeEs6eCyfwO
X-Received: by 2002:a05:6a00:1495:b0:6f4:7297:7bd with SMTP id
 d2e1a72fcca58-6f6d645ad38mr5102633b3a.28.1716451448203; 
 Thu, 23 May 2024 01:04:08 -0700 (PDT)
Received: from postal.iol.unh.edu (postal.iol.unh.edu.
 [2606:4100:3880:1234::84]) by smtp-relay.gmail.com with ESMTPS id
 d2e1a72fcca58-6f4d2b47fefsm1752239b3a.25.2024.05.23.01.04.08
 (version=TLS1_2 cipher=ECDHE-ECDSA-AES128-GCM-SHA256 bits=128/128);
 Thu, 23 May 2024 01:04:08 -0700 (PDT)
X-Relaying-Domain: iol.unh.edu
Date: Thu, 23 May 2024 01:04:08 -0700 (PDT)
Message-ID: <664ef878.050a0220.17239.dddbSMTPIN_ADDED_MISSING@mx.google.com>
Received: from [172.17.0.2] (unknown [172.18.0.217])
 by postal.iol.unh.edu (Postfix) with ESMTP id 98C246052538;
 Thu, 23 May 2024 04:04:07 -0400 (EDT)
Subject: |SUCCESS| pw140284 [PATCH] [v2] net/cpfl: get running host ID for CP
From: dpdklab@iol.unh.edu
To: Test Report <test-report@dpdk.org>
Cc: dpdk-test-reports@iol.unh.edu
In-Reply-To: <20240523061045.483159-1-shaiq.wani@intel.com>
References: <20240523061045.483159-1-shaiq.wani@intel.com>
Content-Type: text/plain
X-BeenThere: test-report@dpdk.org
X-Mailman-Version: 2.1.29
Precedence: list
List-Id: automatic DPDK test reports <test-report.dpdk.org>
List-Unsubscribe: <https://mails.dpdk.org/options/test-report>,
 <mailto:test-report-request@dpdk.org?subject=unsubscribe>
List-Archive: <http://mails.dpdk.org/archives/test-report/>
List-Post: <mailto:test-report@dpdk.org>
List-Help: <mailto:test-report-request@dpdk.org?subject=help>
List-Subscribe: <https://mails.dpdk.org/listinfo/test-report>,
 <mailto:test-report-request@dpdk.org?subject=subscribe>
Errors-To: test-report-bounces@dpdk.org

Test-Label: iol-unit-arm64-testing
Test-Status: SUCCESS
http://dpdk.org/patch/140284

_Testing PASS_

Submitter: Shaiq Wani <shaiq.wani@intel.com>
Date: Thursday, May 23 2024 06:10:45 
DPDK git baseline: Repo:dpdk
  Branch: master
  CommitID:19be1a0ba8af8a513adb011a3017d583d6312fc9

140284 --> testing pass

Test environment and result as below:

+-----------------------------+----------------+---------------------------+------------------------------+--------------+
|         Environment         | dpdk_unit_test | cryptodev_sw_zuc_autotest | cryptodev_sw_snow3g_autotest | lpm_autotest |
+=============================+================+===========================+==============================+==============+
| CentOS Stream 9 (ARM)       | PASS           | SKIPPED                   | SKIPPED                      | SKIPPED      |
+-----------------------------+----------------+---------------------------+------------------------------+--------------+
| Debian 11 (Buster) (ARM)    | PASS           | SKIPPED                   | SKIPPED                      | SKIPPED      |
+-----------------------------+----------------+---------------------------+------------------------------+--------------+
| Debian 12 (arm)             | PASS           | PASS                      | PASS                         | SKIPPED      |
+-----------------------------+----------------+---------------------------+------------------------------+--------------+
| Fedora 37 (ARM)             | PASS           | SKIPPED                   | SKIPPED                      | SKIPPED      |
+-----------------------------+----------------+---------------------------+------------------------------+--------------+
| Fedora 38 (ARM)             | PASS           | SKIPPED                   | SKIPPED                      | SKIPPED      |
+-----------------------------+----------------+---------------------------+------------------------------+--------------+
| Ubuntu 20.04 (ARM)          | PASS           | SKIPPED                   | SKIPPED                      | SKIPPED      |
+-----------------------------+----------------+---------------------------+------------------------------+--------------+
| Fedora 39 (ARM)             | PASS           | SKIPPED                   | SKIPPED                      | SKIPPED      |
+-----------------------------+----------------+---------------------------+------------------------------+--------------+
| 32-bit Ubuntu 20.04.4 (ARM) | PASS           | SKIPPED                   | SKIPPED                      | SKIPPED      |
+-----------------------------+----------------+---------------------------+------------------------------+--------------+
| Fedora 38 (ARM Clang)       | PASS           | SKIPPED                   | SKIPPED                      | SKIPPED      |
+-----------------------------+----------------+---------------------------+------------------------------+--------------+
| Fedora 39 (ARM Clang)       | PASS           | SKIPPED                   | SKIPPED                      | SKIPPED      |
+-----------------------------+----------------+---------------------------+------------------------------+--------------+
| Ubuntu 20.04 ARM SVE        | SKIPPED        | SKIPPED                   | SKIPPED                      | PASS         |
+-----------------------------+----------------+---------------------------+------------------------------+--------------+


CentOS Stream 9 (ARM)
	Kernel: Container Host Kernel
	Compiler: gcc 11.4.1

Debian 11 (Buster) (ARM)
	Kernel: Container Host Kernel
	Compiler: gcc 10.2.1

Debian 12 (arm)
	Kernel: Container Host Kernel
	Compiler: gcc 12.2.0

Fedora 37 (ARM)
	Kernel: Depends on container host
	Compiler: gcc 12.3.1

Fedora 38 (ARM)
	Kernel: Depends on container host
	Compiler: gcc 13.2.1

Ubuntu 20.04 (ARM)
	Kernel: Container Host Kernel
	Compiler: gcc 9.4.0

Fedora 39 (ARM)
	Kernel: Depends on container host
	Compiler: gcc 13.2.1

32-bit Ubuntu 20.04.4 (ARM)
	Kernel: 5.4.0-155-generic aarch64
	Compiler: gcc 9.4

Fedora 38 (ARM Clang)
	Kernel: Depends on container host
	Compiler: clang 16.0.6

Fedora 39 (ARM Clang)
	Kernel: Depends on container host
	Compiler: clang 17.0.6

Ubuntu 20.04 ARM SVE
	Kernel: 5.4.0-167-generic
	Compiler: gcc (Ubuntu 10.5.0-1ubuntu1~20.04) 10.5.0

To view detailed results, visit:
https://lab.dpdk.org/results/dashboard/patchsets/29994/

UNH-IOL DPDK Community Lab

To manage your email subscriptions, visit: 
https://lab.dpdk.org/results/dashboard/preferences/subscriptions/