From mboxrd@z Thu Jan  1 00:00:00 1970
Return-Path: <test-report-bounces@dpdk.org>
Received: from mails.dpdk.org (mails.dpdk.org [217.70.189.124])
	by inbox.dpdk.org (Postfix) with ESMTP id 0204E440B5
	for <public@inbox.dpdk.org>; Fri, 24 May 2024 12:01:32 +0200 (CEST)
Received: from mails.dpdk.org (localhost [127.0.0.1])
	by mails.dpdk.org (Postfix) with ESMTP id EF73F40A8A;
	Fri, 24 May 2024 12:01:31 +0200 (CEST)
Received: from mail-qv1-f97.google.com (mail-qv1-f97.google.com
 [209.85.219.97]) by mails.dpdk.org (Postfix) with ESMTP id 23BA540A89
 for <test-report@dpdk.org>; Fri, 24 May 2024 12:01:30 +0200 (CEST)
Received: by mail-qv1-f97.google.com with SMTP id
 6a1803df08f44-6ab9d9f0ee2so2804826d6.3
 for <test-report@dpdk.org>; Fri, 24 May 2024 03:01:30 -0700 (PDT)
DKIM-Signature: v=1; a=rsa-sha256; c=relaxed/relaxed;
 d=iol.unh.edu; s=unh-iol; t=1716544889; x=1717149689; darn=dpdk.org;
 h=references:in-reply-to:cc:to:from:subject:message-id:date:from:to
 :cc:subject:date:message-id:reply-to;
 bh=HDViuR/Wz7MA0YwdaarE3Dux5E2FNpOlTFQSb2yoxxU=;
 b=Iiv/S+uq4lc2yjobmqKkmcMQ3pZ+VDqC3hVKzumFPgYJbk833e/YjJnzP4Vz2h8oFe
 gQbBpa/0g4vrBXoESTf+hzAHE/nvMY6Vl/YGpOJy0M027BWbzXsq6rm+ewCcYDtRUr8a
 PlE1ZGbrTijuN01fxBMhTYz/gLxuYwHlSErB0=
X-Google-DKIM-Signature: v=1; a=rsa-sha256; c=relaxed/relaxed;
 d=1e100.net; s=20230601; t=1716544889; x=1717149689;
 h=references:in-reply-to:cc:to:from:subject:message-id:date
 :x-gm-message-state:from:to:cc:subject:date:message-id:reply-to;
 bh=HDViuR/Wz7MA0YwdaarE3Dux5E2FNpOlTFQSb2yoxxU=;
 b=ZCrzSWuop+H22c5xh+mnUQRxuCmOrEibh4c7C4jntw+4bjcoNDm0f4V6PwjM09l4nS
 bFAyLbwtB7n+JqmBj9H1l3yin6WzF1B5NOKqB9GYY5blYQltOJXEIRlNIzK+eyJOdUtn
 6Z0WzTlaG/3VMXA9Ag+TfyKnws4FDfClKQ2HJtajEki/LIdRKW1v9TQuX12yuTuy6IXE
 0aQLAXi5scGZmyLNm7eAPUBNyZdSDgrcN/aHuT9JHahxdedE8/vh2PaQGkyM0OWQOv2X
 kSVK4QRzsoej/11w5uo6ISMMF/Pj1gEBCXsL8tLY7MREUrM8A7miTrCEvJYw+IfC8AAu
 939g==
X-Gm-Message-State: AOJu0Yx4mnIhpqWhC1q1YeP29Iw7D9D3pEFHoZ1UkDY3W5Q18JolUo8A
 UmgnUMHhJsT83jN4aEg3LWX/oW/sJAhEO7ZkODuc3J7RwhdAieH6lDi6RJP3YyjUmuiCrSRB2MY
 DRTQpP5i7VTlpj08h4XrCC9jdwnXquiT/pYZMACoah1nGtyu6FBJqSyt3
X-Google-Smtp-Source: AGHT+IEDMx88w+r7a/OuQV1EPLfKpztA6Q2utHQ9JA/kcqgOOPu4HdHea7ce21EniN2rjoc4nU3QS9B+y7Ky
X-Received: by 2002:a05:6214:2b9a:b0:6ab:7aae:5bca with SMTP id
 6a1803df08f44-6abbbc994c7mr17542386d6.25.1716544889525; 
 Fri, 24 May 2024 03:01:29 -0700 (PDT)
Received: from postal.iol.unh.edu (postal.iol.unh.edu.
 [2606:4100:3880:1234::84]) by smtp-relay.gmail.com with ESMTPS id
 6a1803df08f44-6ac070b53d4sm3083786d6.41.2024.05.24.03.01.29
 (version=TLS1_2 cipher=ECDHE-ECDSA-AES128-GCM-SHA256 bits=128/128);
 Fri, 24 May 2024 03:01:29 -0700 (PDT)
X-Relaying-Domain: iol.unh.edu
Date: Fri, 24 May 2024 03:01:29 -0700 (PDT)
Message-ID: <66506579.050a0220.e2d8e.4df6SMTPIN_ADDED_MISSING@mx.google.com>
Received: from [172.21.0.8] (unknown [172.18.0.240])
 by postal.iol.unh.edu (Postfix) with ESMTP id 4169E604A954;
 Fri, 24 May 2024 06:01:28 -0400 (EDT)
Subject: |SUCCESS| pw140293-140296 [PATCH] [RFC,4/4] net/ice: remove use of V
From: dpdklab@iol.unh.edu
To: Test Report <test-report@dpdk.org>
Cc: dpdk-test-reports@iol.unh.edu
In-Reply-To: <20240523162604.2600-5-konstantin.v.ananyev@yandex.ru>
References: <20240523162604.2600-5-konstantin.v.ananyev@yandex.ru>
Content-Type: text/plain
X-BeenThere: test-report@dpdk.org
X-Mailman-Version: 2.1.29
Precedence: list
List-Id: automatic DPDK test reports <test-report.dpdk.org>
List-Unsubscribe: <https://mails.dpdk.org/options/test-report>,
 <mailto:test-report-request@dpdk.org?subject=unsubscribe>
List-Archive: <http://mails.dpdk.org/archives/test-report/>
List-Post: <mailto:test-report@dpdk.org>
List-Help: <mailto:test-report-request@dpdk.org?subject=help>
List-Subscribe: <https://mails.dpdk.org/listinfo/test-report>,
 <mailto:test-report-request@dpdk.org?subject=subscribe>
Errors-To: test-report-bounces@dpdk.org

Test-Label: iol-compile-arm64-testing
Test-Status: SUCCESS
http://dpdk.org/patch/140296

_Testing PASS_

Submitter: Konstantin Ananyev <konstantin.v.ananyev@yandex.ru>
Date: Thursday, May 23 2024 16:26:04 
DPDK git baseline: Repo:dpdk
  Branch: master
  CommitID:19be1a0ba8af8a513adb011a3017d583d6312fc9

140293-140296 --> testing pass

Test environment and result as below:

+----------------------------------------+--------------------+
|              Environment               | dpdk_meson_compile |
+========================================+====================+
| Ubuntu 20.04 ARM SVE                   | PASS               |
+----------------------------------------+--------------------+
| Ubuntu 20.04 ARM GCC Cross Compile     | PASS               |
+----------------------------------------+--------------------+
| Debian 12 with MUSDK                   | PASS               |
+----------------------------------------+--------------------+
| Fedora 37 (ARM)                        | PASS               |
+----------------------------------------+--------------------+
| Fedora 38 (ARM)                        | PASS               |
+----------------------------------------+--------------------+
| Fedora 39 (ARM)                        | PASS               |
+----------------------------------------+--------------------+
| Debian 12 (arm)                        | PASS               |
+----------------------------------------+--------------------+
| Debian 11 (Buster) (ARM)               | PASS               |
+----------------------------------------+--------------------+
| Ubuntu 20.04 (ARM)                     | PASS               |
+----------------------------------------+--------------------+
| CentOS Stream 9 (ARM)                  | PASS               |
+----------------------------------------+--------------------+
| Ubuntu 20.04 aarch32 GCC Cross Compile | PASS               |
+----------------------------------------+--------------------+
| Ubuntu 20.04 ARM Clang Cross Compile   | PASS               |
+----------------------------------------+--------------------+


Ubuntu 20.04 ARM SVE
	Kernel: 5.4.0-167-generic
	Compiler: gcc (Ubuntu 10.5.0-1ubuntu1~20.04) 10.5.0

Ubuntu 20.04 ARM GCC Cross Compile
	Kernel: 5.4.0-167-generic
	Compiler: aarch64-linux-gnu-gcc (Ubuntu 9.4.0-1ubuntu1~20.04.2) 9.4.0

Debian 12 with MUSDK
	Kernel: Container Host Kernel
	Compiler: gcc 12.2.0

Fedora 37 (ARM)
	Kernel: Depends on container host
	Compiler: gcc 12.3.1

Fedora 38 (ARM)
	Kernel: Depends on container host
	Compiler: gcc 13.2.1

Fedora 39 (ARM)
	Kernel: Depends on container host
	Compiler: gcc 13.2.1

Debian 12 (arm)
	Kernel: Container Host Kernel
	Compiler: gcc 12.2.0

Debian 11 (Buster) (ARM)
	Kernel: Container Host Kernel
	Compiler: gcc 10.2.1

Ubuntu 20.04 (ARM)
	Kernel: Container Host Kernel
	Compiler: gcc 9.4.0

CentOS Stream 9 (ARM)
	Kernel: Container Host Kernel
	Compiler: gcc 11.4.1

Ubuntu 20.04 aarch32 GCC Cross Compile
	Kernel: 5.4.0-167-generic
	Compiler: gcc 9.4.0

Ubuntu 20.04 ARM Clang Cross Compile
	Kernel: 5.4.0-72-generic
	Compiler: clang 10.0.0-4ubuntu1

To view detailed results, visit:
https://lab.dpdk.org/results/dashboard/patchsets/30001/

UNH-IOL DPDK Community Lab

To manage your email subscriptions, visit: 
https://lab.dpdk.org/results/dashboard/preferences/subscriptions/