From mboxrd@z Thu Jan  1 00:00:00 1970
Return-Path: <test-report-bounces@dpdk.org>
Received: from mails.dpdk.org (mails.dpdk.org [217.70.189.124])
	by inbox.dpdk.org (Postfix) with ESMTP id 8F6C6440B5
	for <public@inbox.dpdk.org>; Fri, 24 May 2024 12:49:07 +0200 (CEST)
Received: from mails.dpdk.org (localhost [127.0.0.1])
	by mails.dpdk.org (Postfix) with ESMTP id 89DF3402BF;
	Fri, 24 May 2024 12:49:07 +0200 (CEST)
Received: from mail-io1-f97.google.com (mail-io1-f97.google.com
 [209.85.166.97]) by mails.dpdk.org (Postfix) with ESMTP id 1D76140271
 for <test-report@dpdk.org>; Fri, 24 May 2024 12:49:06 +0200 (CEST)
Received: by mail-io1-f97.google.com with SMTP id
 ca18e2360f4ac-7e1b4f96994so439431839f.2
 for <test-report@dpdk.org>; Fri, 24 May 2024 03:49:06 -0700 (PDT)
DKIM-Signature: v=1; a=rsa-sha256; c=relaxed/relaxed;
 d=iol.unh.edu; s=unh-iol; t=1716547745; x=1717152545; darn=dpdk.org;
 h=references:in-reply-to:cc:to:from:subject:message-id:date:from:to
 :cc:subject:date:message-id:reply-to;
 bh=9aMNszqyNzo4M65KivexwfbyW9Tvtup3NsXlrVBQGE4=;
 b=UZ9MYEIzxTWpZ+d5u9nloZyGloxz5mW39nn5iDFRJoKX+ihqM1vBDimIc4+Yftk2zD
 mJ2ueHI6OzPv5ktdYnco/y5QFgHpbO9w8ajvE2gwaIyQxGrYMOKUFneo2a+Nsd6HGs3p
 bEGO93t1uGNvKtkkXQOu0m5Gy/QB31aX5n7FA=
X-Google-DKIM-Signature: v=1; a=rsa-sha256; c=relaxed/relaxed;
 d=1e100.net; s=20230601; t=1716547745; x=1717152545;
 h=references:in-reply-to:cc:to:from:subject:message-id:date
 :x-gm-message-state:from:to:cc:subject:date:message-id:reply-to;
 bh=9aMNszqyNzo4M65KivexwfbyW9Tvtup3NsXlrVBQGE4=;
 b=cycUTWMaGsl7TypGrBEMWeCAjaAhLl5gJf5sVNydy2nUyKNtnkLnhDrXquum8BVd8e
 /OPY4UrGDcoOE1J9aKqJo+qF0WWj1feus0PP3q2AZ4+qB2Fsh3DEt0EgyVQuXrHvaMyc
 1LnzBfaF2pUq/YMbQ4J+WbDJgJukpr7Rid9Ii7bESp6UNWafPGrf4Gx1GRWr+XaQ/JIw
 wKDwwdZe+6pSFtdBFDgFod7SsCJBhgH29udjxJMQh9YCQfo2Kv+YPTzpcD8LK2Ue5opV
 2xx2qwdRL7b/vWPgCjPQ0HjLMOeR3WrPsqhZ5fFzc28jJwemGLofnqSJ3hoHVgpoZ8a+
 x/dA==
X-Gm-Message-State: AOJu0YwFVo7YOoygC/QNobtkaOhszq1svh6NqEkc3y9snens2d0nNKg6
 cKAclSXbt1EeG6ENvACVVTTBtAlpoUVDt3cQAuepTC4BCk3qej5vRMYkhK4nso1l7373npUFmRy
 5jkn93miL57pV78Okh5Zdf4yYy2GmWRfWAN5sewsuA2Dny6ILvLllX5NK
X-Google-Smtp-Source: AGHT+IH8wwa5OcT9yKcOgMHtS5CxspHF0DUcTdfDotTpE/tVUnQE3EeUIMneaHvrwe/bZIOyx+vyPQOd3cqf
X-Received: by 2002:a6b:4907:0:b0:7de:da47:5ea with SMTP id
 ca18e2360f4ac-7e8c480b2acmr247050439f.4.1716547745538; 
 Fri, 24 May 2024 03:49:05 -0700 (PDT)
Received: from postal.iol.unh.edu (postal.iol.unh.edu.
 [2606:4100:3880:1234::84]) by smtp-relay.gmail.com with ESMTPS id
 ca18e2360f4ac-7e9042dfec3sm16806439f.12.2024.05.24.03.49.05
 (version=TLS1_2 cipher=ECDHE-ECDSA-AES128-GCM-SHA256 bits=128/128);
 Fri, 24 May 2024 03:49:05 -0700 (PDT)
X-Relaying-Domain: iol.unh.edu
Date: Fri, 24 May 2024 03:49:05 -0700 (PDT)
Message-ID: <665070a1.5e0a0220.c1577.3ad4SMTPIN_ADDED_MISSING@mx.google.com>
Received: from [172.21.0.13] (unknown [172.18.0.240])
 by postal.iol.unh.edu (Postfix) with ESMTP id 0FF42605C373;
 Fri, 24 May 2024 06:49:05 -0400 (EDT)
Subject: |SUCCESS| pw140293-140296 [PATCH] [RFC,4/4] net/ice: remove use of V
From: dpdklab@iol.unh.edu
To: Test Report <test-report@dpdk.org>
Cc: dpdk-test-reports@iol.unh.edu
In-Reply-To: <20240523162604.2600-5-konstantin.v.ananyev@yandex.ru>
References: <20240523162604.2600-5-konstantin.v.ananyev@yandex.ru>
Content-Type: text/plain
X-BeenThere: test-report@dpdk.org
X-Mailman-Version: 2.1.29
Precedence: list
List-Id: automatic DPDK test reports <test-report.dpdk.org>
List-Unsubscribe: <https://mails.dpdk.org/options/test-report>,
 <mailto:test-report-request@dpdk.org?subject=unsubscribe>
List-Archive: <http://mails.dpdk.org/archives/test-report/>
List-Post: <mailto:test-report@dpdk.org>
List-Help: <mailto:test-report-request@dpdk.org?subject=help>
List-Subscribe: <https://mails.dpdk.org/listinfo/test-report>,
 <mailto:test-report-request@dpdk.org?subject=subscribe>
Errors-To: test-report-bounces@dpdk.org

Test-Label: iol-unit-arm64-testing
Test-Status: SUCCESS
http://dpdk.org/patch/140296

_Testing PASS_

Submitter: Konstantin Ananyev <konstantin.v.ananyev@yandex.ru>
Date: Thursday, May 23 2024 16:26:04 
DPDK git baseline: Repo:dpdk
  Branch: master
  CommitID:19be1a0ba8af8a513adb011a3017d583d6312fc9

140293-140296 --> testing pass

Test environment and result as below:

+-----------------------------+----------------+---------------------------+------------------------------+--------------+
|         Environment         | dpdk_unit_test | cryptodev_sw_zuc_autotest | cryptodev_sw_snow3g_autotest | lpm_autotest |
+=============================+================+===========================+==============================+==============+
| CentOS Stream 9 (ARM)       | PASS           | SKIPPED                   | SKIPPED                      | SKIPPED      |
+-----------------------------+----------------+---------------------------+------------------------------+--------------+
| Debian 12 (arm)             | PASS           | PASS                      | PASS                         | SKIPPED      |
+-----------------------------+----------------+---------------------------+------------------------------+--------------+
| Fedora 37 (ARM)             | PASS           | SKIPPED                   | SKIPPED                      | SKIPPED      |
+-----------------------------+----------------+---------------------------+------------------------------+--------------+
| Debian 11 (Buster) (ARM)    | PASS           | SKIPPED                   | SKIPPED                      | SKIPPED      |
+-----------------------------+----------------+---------------------------+------------------------------+--------------+
| Fedora 38 (ARM)             | PASS           | SKIPPED                   | SKIPPED                      | SKIPPED      |
+-----------------------------+----------------+---------------------------+------------------------------+--------------+
| Fedora 39 (ARM)             | PASS           | SKIPPED                   | SKIPPED                      | SKIPPED      |
+-----------------------------+----------------+---------------------------+------------------------------+--------------+
| 32-bit Ubuntu 20.04.4 (ARM) | PASS           | SKIPPED                   | SKIPPED                      | SKIPPED      |
+-----------------------------+----------------+---------------------------+------------------------------+--------------+
| Ubuntu 20.04 (ARM)          | PASS           | SKIPPED                   | SKIPPED                      | SKIPPED      |
+-----------------------------+----------------+---------------------------+------------------------------+--------------+
| Fedora 38 (ARM Clang)       | PASS           | SKIPPED                   | SKIPPED                      | SKIPPED      |
+-----------------------------+----------------+---------------------------+------------------------------+--------------+
| Ubuntu 20.04 ARM SVE        | SKIPPED        | SKIPPED                   | SKIPPED                      | PASS         |
+-----------------------------+----------------+---------------------------+------------------------------+--------------+


CentOS Stream 9 (ARM)
	Kernel: Container Host Kernel
	Compiler: gcc 11.4.1

Debian 12 (arm)
	Kernel: Container Host Kernel
	Compiler: gcc 12.2.0

Fedora 37 (ARM)
	Kernel: Depends on container host
	Compiler: gcc 12.3.1

Debian 11 (Buster) (ARM)
	Kernel: Container Host Kernel
	Compiler: gcc 10.2.1

Fedora 38 (ARM)
	Kernel: Depends on container host
	Compiler: gcc 13.2.1

Fedora 39 (ARM)
	Kernel: Depends on container host
	Compiler: gcc 13.2.1

32-bit Ubuntu 20.04.4 (ARM)
	Kernel: 5.4.0-155-generic aarch64
	Compiler: gcc 9.4

Ubuntu 20.04 (ARM)
	Kernel: Container Host Kernel
	Compiler: gcc 9.4.0

Fedora 38 (ARM Clang)
	Kernel: Depends on container host
	Compiler: clang 16.0.6

Ubuntu 20.04 ARM SVE
	Kernel: 5.4.0-167-generic
	Compiler: gcc (Ubuntu 10.5.0-1ubuntu1~20.04) 10.5.0

To view detailed results, visit:
https://lab.dpdk.org/results/dashboard/patchsets/30001/

UNH-IOL DPDK Community Lab

To manage your email subscriptions, visit: 
https://lab.dpdk.org/results/dashboard/preferences/subscriptions/