From mboxrd@z Thu Jan  1 00:00:00 1970
Return-Path: <test-report-bounces@dpdk.org>
Received: from mails.dpdk.org (mails.dpdk.org [217.70.189.124])
	by inbox.dpdk.org (Postfix) with ESMTP id CE0EE440B5
	for <public@inbox.dpdk.org>; Fri, 24 May 2024 13:43:29 +0200 (CEST)
Received: from mails.dpdk.org (localhost [127.0.0.1])
	by mails.dpdk.org (Postfix) with ESMTP id C9F07402BF;
	Fri, 24 May 2024 13:43:29 +0200 (CEST)
Received: from mail-vs1-f100.google.com (mail-vs1-f100.google.com
 [209.85.217.100])
 by mails.dpdk.org (Postfix) with ESMTP id 9878340271
 for <test-report@dpdk.org>; Fri, 24 May 2024 13:43:28 +0200 (CEST)
Received: by mail-vs1-f100.google.com with SMTP id
 ada2fe7eead31-481e9c27378so1059141137.3
 for <test-report@dpdk.org>; Fri, 24 May 2024 04:43:28 -0700 (PDT)
DKIM-Signature: v=1; a=rsa-sha256; c=relaxed/relaxed;
 d=iol.unh.edu; s=unh-iol; t=1716551008; x=1717155808; darn=dpdk.org;
 h=references:in-reply-to:cc:to:from:subject:message-id:date:from:to
 :cc:subject:date:message-id:reply-to;
 bh=4yojFAyjpVIeiUwuiH6Eo+6W1nSWhbC66FpphKcjkTE=;
 b=fdnRKo9w7uMu6VTy+2T+9reSkZ633OcSngTS4Gvf7TaZkjIlXufdyZGKcBvFd/2QpW
 e7cfZwPzAeIrmjkiDwtrSwAa/+IMYUNv4a0zA4Ja3OkB248hSK4539AL2BUMJfT2mEuZ
 c9PiCV+lmqWEvClfNxysw3OJ72rAkhweLw5GI=
X-Google-DKIM-Signature: v=1; a=rsa-sha256; c=relaxed/relaxed;
 d=1e100.net; s=20230601; t=1716551008; x=1717155808;
 h=references:in-reply-to:cc:to:from:subject:message-id:date
 :x-gm-message-state:from:to:cc:subject:date:message-id:reply-to;
 bh=4yojFAyjpVIeiUwuiH6Eo+6W1nSWhbC66FpphKcjkTE=;
 b=XXXNhJ3vsCCkE66bTaaJudds+8tyLstkM7sch3o5WhlFIfSRvQoF4Z5OUVWSEF4Bt9
 5DWAaCwvh6tU/6PvwAu7MPvfMsPRwsNm5Jd/gzZxttteOFylKdZWGho9NMDBuS+60mp4
 4euhrMVjWqmXujXgoNcE2afeD+6rI8Dj8N9QU6yWQGA2jL/gqZv+BhCLD+xw6EcdNpsx
 wjAhWF+FOTwbkbgQ8RwcQjlTE+lqBbhfXUDXOYnIcCmSNZhQSsmlApbkWG+0mNcoK1ml
 egUzSUd9bYlBHk/8gSTNSaykTOfS34mg3gBraSrs8kYlH2Ss/LzTR1k/U64jFgYNA6+J
 9XVg==
X-Gm-Message-State: AOJu0Yw5g4+d+GZVO9UMMeIUDtoldFUlWZwOn/TmRC3YRH5MFzN6PAQS
 fknN6UIr1ygn1Unw5NkMvf9SVzvB/bUkq1h9kV98n1UODvRZEG6/4HhSrhLr1Ivkbu6T6/mwdWV
 wqvZ005FF5cQIJ/1y2eJH/YZDCU1iAcPKCB69EFYVCDzzYwjTQSeZlWZx
X-Google-Smtp-Source: AGHT+IFB+7a5EYYgk4Ta5zUh4QDAbHX+4RzS/5BLkSNLdYHBJfa5ycsFRsNn/oC8ApGkveEiGG3RbeUJRxVw
X-Received: by 2002:a67:c986:0:b0:47b:cba4:42d2 with SMTP id
 ada2fe7eead31-48a384fbf37mr1988821137.6.1716551008003; 
 Fri, 24 May 2024 04:43:28 -0700 (PDT)
Received: from postal.iol.unh.edu (postal.iol.unh.edu.
 [2606:4100:3880:1234::84]) by smtp-relay.gmail.com with ESMTPS id
 a1e0cc1a2514c-804cbfb2a08sm175182241.11.2024.05.24.04.43.27
 (version=TLS1_2 cipher=ECDHE-ECDSA-AES128-GCM-SHA256 bits=128/128);
 Fri, 24 May 2024 04:43:27 -0700 (PDT)
X-Relaying-Domain: iol.unh.edu
Date: Fri, 24 May 2024 04:43:27 -0700 (PDT)
Message-ID: <66507d5f.b00a0220.e683b.281dSMTPIN_ADDED_MISSING@mx.google.com>
Received: from [172.21.0.6] (unknown [172.18.0.240])
 by postal.iol.unh.edu (Postfix) with ESMTP id A7253605C374;
 Fri, 24 May 2024 07:43:27 -0400 (EDT)
Subject: |SUCCESS| pw140293-140296 [PATCH] [RFC,4/4] net/ice: remove use of V
From: dpdklab@iol.unh.edu
To: Test Report <test-report@dpdk.org>
Cc: dpdk-test-reports@iol.unh.edu
In-Reply-To: <20240523162604.2600-5-konstantin.v.ananyev@yandex.ru>
References: <20240523162604.2600-5-konstantin.v.ananyev@yandex.ru>
Content-Type: text/plain
X-BeenThere: test-report@dpdk.org
X-Mailman-Version: 2.1.29
Precedence: list
List-Id: automatic DPDK test reports <test-report.dpdk.org>
List-Unsubscribe: <https://mails.dpdk.org/options/test-report>,
 <mailto:test-report-request@dpdk.org?subject=unsubscribe>
List-Archive: <http://mails.dpdk.org/archives/test-report/>
List-Post: <mailto:test-report@dpdk.org>
List-Help: <mailto:test-report-request@dpdk.org?subject=help>
List-Subscribe: <https://mails.dpdk.org/listinfo/test-report>,
 <mailto:test-report-request@dpdk.org?subject=subscribe>
Errors-To: test-report-bounces@dpdk.org

Test-Label: iol-unit-amd64-testing
Test-Status: SUCCESS
http://dpdk.org/patch/140296

_Testing PASS_

Submitter: Konstantin Ananyev <konstantin.v.ananyev@yandex.ru>
Date: Thursday, May 23 2024 16:26:04 
DPDK git baseline: Repo:dpdk
  Branch: master
  CommitID:19be1a0ba8af8a513adb011a3017d583d6312fc9

140293-140296 --> testing pass

Test environment and result as below:

+---------------------+----------------+
|     Environment     | dpdk_unit_test |
+=====================+================+
| Debian Bullseye     | PASS           |
+---------------------+----------------+
| CentOS Stream 8     | PASS           |
+---------------------+----------------+
| CentOS Stream 9     | PASS           |
+---------------------+----------------+
| Fedora 38           | PASS           |
+---------------------+----------------+
| Debian 12           | PASS           |
+---------------------+----------------+
| Fedora 37           | PASS           |
+---------------------+----------------+
| Fedora 39           | PASS           |
+---------------------+----------------+
| openSUSE Leap 15    | PASS           |
+---------------------+----------------+
| Ubuntu 22.04        | PASS           |
+---------------------+----------------+
| Ubuntu 20.04        | PASS           |
+---------------------+----------------+
| RHEL8               | PASS           |
+---------------------+----------------+
| Windows Server 2019 | PASS           |
+---------------------+----------------+


Debian Bullseye
	Kernel: 5.4.0-167-generic
	Compiler: gcc 10.2.1-6

CentOS Stream 8
	Kernel: 5.4.0-167-generic
	Compiler: gcc 8.5.0 20210514

CentOS Stream 9
	Kernel: 5.4.0-167-generic
	Compiler: gcc 11.4.1 20230605

Fedora 38
	Kernel: Depends on container host
	Compiler: gcc 13.2.1

Debian 12
	Kernel: Container Host Kernel
	Compiler: gcc 10.2.1

Fedora 37
	Kernel: Depends on container host system
	Compiler: gcc 12.3.1

Fedora 39
	Kernel: Depends on container host
	Compiler: gcc 13.2.1

openSUSE Leap 15
	Kernel: 5.4.0-167-generic
	Compiler: gcc 7.5.0

Ubuntu 22.04
	Kernel: 5.4.0-167-generic
	Compiler: gcc 11.4.0

Ubuntu 20.04
	Kernel: 5.4.0-167-generic
	Compiler: gcc 9.4.0-1ubuntu1~20.04.1

RHEL8
	Kernel: 5.4.0-167-generic
	Compiler: gcc 8.5.0 20210514 (Red Hat 8.5.0-20)

Windows Server 2019
	Kernel: 10.0.17763
	Compiler: clang 14.0 and gcc 8.1.0 (MinGW)

To view detailed results, visit:
https://lab.dpdk.org/results/dashboard/patchsets/30001/

UNH-IOL DPDK Community Lab

To manage your email subscriptions, visit: 
https://lab.dpdk.org/results/dashboard/preferences/subscriptions/