From mboxrd@z Thu Jan  1 00:00:00 1970
Return-Path: <test-report-bounces@dpdk.org>
Received: from mails.dpdk.org (mails.dpdk.org [217.70.189.124])
	by inbox.dpdk.org (Postfix) with ESMTP id AD8F8440B6
	for <public@inbox.dpdk.org>; Fri, 24 May 2024 16:46:48 +0200 (CEST)
Received: from mails.dpdk.org (localhost [127.0.0.1])
	by mails.dpdk.org (Postfix) with ESMTP id A810C402F0;
	Fri, 24 May 2024 16:46:48 +0200 (CEST)
Received: from mail-yw1-f226.google.com (mail-yw1-f226.google.com
 [209.85.128.226])
 by mails.dpdk.org (Postfix) with ESMTP id B0C2F40271
 for <test-report@dpdk.org>; Fri, 24 May 2024 16:46:39 +0200 (CEST)
Received: by mail-yw1-f226.google.com with SMTP id
 00721157ae682-62a0826c4f6so9893287b3.1
 for <test-report@dpdk.org>; Fri, 24 May 2024 07:46:39 -0700 (PDT)
DKIM-Signature: v=1; a=rsa-sha256; c=relaxed/relaxed;
 d=iol.unh.edu; s=unh-iol; t=1716561999; x=1717166799; darn=dpdk.org;
 h=references:in-reply-to:cc:to:from:subject:message-id:date:from:to
 :cc:subject:date:message-id:reply-to;
 bh=RYohCTkO6gQAajlF7/tXtAZOJWBji4tJZyfdBI7khGw=;
 b=cBBZCcQAl3gum0CfGuoU0Z8KMa3SAb1Rwh4iM3DjkhOgU5rtVAjPmEibBqD/x3ZNHz
 51/puB5TDQTKk4JaFUTo3685mjMhRTkkOZP/LwerLGjIYKyxC1ZmQJte0RbOWHih9dG7
 dwJjeenjrxH5yW+oIlQkEp6Z5YuKt7TX8W7/s=
X-Google-DKIM-Signature: v=1; a=rsa-sha256; c=relaxed/relaxed;
 d=1e100.net; s=20230601; t=1716561999; x=1717166799;
 h=references:in-reply-to:cc:to:from:subject:message-id:date
 :x-gm-message-state:from:to:cc:subject:date:message-id:reply-to;
 bh=RYohCTkO6gQAajlF7/tXtAZOJWBji4tJZyfdBI7khGw=;
 b=eLBdDNlQZP+vh7hB2diaZGswODYnphAGd8MPqo3Hq0tZc8CmikhaxCFFbaSm6PGpqt
 QOxREUjVzshD+gWceMFwhrMVd3fS8RVmHTbOsb+Whp4o4IieJoFW6hzepnqLYYUTrgNK
 ZBndyaCmeuiV/DlU6HDpgKi98/CCGCm9FX45gXYc6ZpnrnqC8xz0+CV5coLl2LJLgKa3
 PgGRugF9LY1e9rTnw4xNkSX0iFeDSKS8lffkWPOPXGZAR/xVzaAA+WpahXJbWSel3XZk
 JoFFEkiBlesKKYACgWgtkYpnGv/16YdsWkABlyHKr95Loa3V8yH5jngbat2tc0vAYPUS
 QAgg==
X-Gm-Message-State: AOJu0YxdAvaZGZ9sDTbtPtcEunyRB/ET8W+bX6cbQA3dNsxp5rrj0uzO
 YwOt7Cq1t9OP5Hoq74+nrTXs0twU/2MHX+vC81+CKQqYoSDRl61+3FQ97D4wE2Xp45LIXvd9ptM
 ZLdKC9Y/evbPlJ/aBEVkwa7L9R2gIuxdaZiVXXyFGcEq1zBGlskbilOy7
X-Google-Smtp-Source: AGHT+IEdT+h+MINLw8dIm3Yv4mQPfwYxgokk7Dabf9EbX/LFUrdC7dbfKpbfgIhwzooQXLjuxGVYDZEJFSTg
X-Received: by 2002:a0d:e606:0:b0:615:19db:8ed1 with SMTP id
 00721157ae682-62a08f1e5bfmr24512427b3.48.1716561999041; 
 Fri, 24 May 2024 07:46:39 -0700 (PDT)
Received: from postal.iol.unh.edu (postal.iol.unh.edu.
 [2606:4100:3880:1234::84]) by smtp-relay.gmail.com with ESMTPS id
 00721157ae682-62a0a40dcafsm2085037b3.31.2024.05.24.07.46.38
 (version=TLS1_2 cipher=ECDHE-ECDSA-AES128-GCM-SHA256 bits=128/128);
 Fri, 24 May 2024 07:46:39 -0700 (PDT)
X-Relaying-Domain: iol.unh.edu
Date: Fri, 24 May 2024 07:46:39 -0700 (PDT)
Message-ID: <6650a84f.050a0220.4dde7.3bc0SMTPIN_ADDED_MISSING@mx.google.com>
Received: from [172.17.0.4] (unknown [172.18.0.215])
 by postal.iol.unh.edu (Postfix) with ESMTP id A84ED605C373;
 Fri, 24 May 2024 10:46:37 -0400 (EDT)
Subject: |SUCCESS| pw140305 [PATCH] doc: remove empty section from testpmd gu
From: dpdklab@iol.unh.edu
To: Test Report <test-report@dpdk.org>
Cc: dpdk-test-reports@iol.unh.edu
In-Reply-To: <20240524133559.1496325-1-thomas@monjalon.net>
References: <20240524133559.1496325-1-thomas@monjalon.net>
Content-Type: text/plain
X-BeenThere: test-report@dpdk.org
X-Mailman-Version: 2.1.29
Precedence: list
List-Id: automatic DPDK test reports <test-report.dpdk.org>
List-Unsubscribe: <https://mails.dpdk.org/options/test-report>,
 <mailto:test-report-request@dpdk.org?subject=unsubscribe>
List-Archive: <http://mails.dpdk.org/archives/test-report/>
List-Post: <mailto:test-report@dpdk.org>
List-Help: <mailto:test-report-request@dpdk.org?subject=help>
List-Subscribe: <https://mails.dpdk.org/listinfo/test-report>,
 <mailto:test-report-request@dpdk.org?subject=subscribe>
Errors-To: test-report-bounces@dpdk.org

Test-Label: iol-unit-amd64-testing
Test-Status: SUCCESS
http://dpdk.org/patch/140305

_Testing PASS_

Submitter: Thomas Monjalon <thomas@monjalon.net>
Date: Friday, May 24 2024 13:35:59 
DPDK git baseline: Repo:dpdk
  Branch: master
  CommitID:2dbb63594a9a985e2c8639b57f9fcd1468b9de97

140305 --> testing pass

Test environment and result as below:

+---------------------+----------------+
|     Environment     | dpdk_unit_test |
+=====================+================+
| CentOS Stream 8     | PASS           |
+---------------------+----------------+
| CentOS Stream 9     | PASS           |
+---------------------+----------------+
| Debian 12           | PASS           |
+---------------------+----------------+
| Windows Server 2019 | PASS           |
+---------------------+----------------+
| Debian Bullseye     | PASS           |
+---------------------+----------------+
| Fedora 37           | PASS           |
+---------------------+----------------+
| Fedora 39           | PASS           |
+---------------------+----------------+
| Fedora 38           | PASS           |
+---------------------+----------------+
| openSUSE Leap 15    | PASS           |
+---------------------+----------------+
| RHEL8               | PASS           |
+---------------------+----------------+


CentOS Stream 8
	Kernel: 5.4.0-167-generic
	Compiler: gcc 8.5.0 20210514

CentOS Stream 9
	Kernel: 5.4.0-167-generic
	Compiler: gcc 11.4.1 20230605

Debian 12
	Kernel: Container Host Kernel
	Compiler: gcc 10.2.1

Windows Server 2019
	Kernel: 10.0.17763
	Compiler: clang 14.0 and gcc 8.1.0 (MinGW)

Debian Bullseye
	Kernel: 5.4.0-167-generic
	Compiler: gcc 10.2.1-6

Fedora 37
	Kernel: Depends on container host system
	Compiler: gcc 12.3.1

Fedora 39
	Kernel: Depends on container host
	Compiler: gcc 13.2.1

Fedora 38
	Kernel: Depends on container host
	Compiler: gcc 13.2.1

openSUSE Leap 15
	Kernel: 5.4.0-167-generic
	Compiler: gcc 7.5.0

RHEL8
	Kernel: 5.4.0-167-generic
	Compiler: gcc 8.5.0 20210514 (Red Hat 8.5.0-20)

To view detailed results, visit:
https://lab.dpdk.org/results/dashboard/patchsets/30004/

UNH-IOL DPDK Community Lab

To manage your email subscriptions, visit: 
https://lab.dpdk.org/results/dashboard/preferences/subscriptions/