From mboxrd@z Thu Jan  1 00:00:00 1970
Return-Path: <test-report-bounces@dpdk.org>
Received: from mails.dpdk.org (mails.dpdk.org [217.70.189.124])
	by inbox.dpdk.org (Postfix) with ESMTP id 26E3444136
	for <public@inbox.dpdk.org>; Tue,  4 Jun 2024 03:55:59 +0200 (CEST)
Received: from mails.dpdk.org (localhost [127.0.0.1])
	by mails.dpdk.org (Postfix) with ESMTP id 1F58243377;
	Tue,  4 Jun 2024 03:55:59 +0200 (CEST)
Received: from mail-ot1-f98.google.com (mail-ot1-f98.google.com
 [209.85.210.98]) by mails.dpdk.org (Postfix) with ESMTP id AE634402D2
 for <test-report@dpdk.org>; Tue,  4 Jun 2024 03:55:57 +0200 (CEST)
Received: by mail-ot1-f98.google.com with SMTP id
 46e09a7af769-6f12eda7c7fso2543070a34.2
 for <test-report@dpdk.org>; Mon, 03 Jun 2024 18:55:57 -0700 (PDT)
DKIM-Signature: v=1; a=rsa-sha256; c=relaxed/relaxed;
 d=iol.unh.edu; s=unh-iol; t=1717466157; x=1718070957; darn=dpdk.org;
 h=references:in-reply-to:cc:to:from:subject:message-id:date:from:to
 :cc:subject:date:message-id:reply-to;
 bh=JHknbmCiI3vka3uUOMqaX1X3Lw5zv3DyP6hfDWgYL6Q=;
 b=ZhTRpSnAqrk179rbR5rERjXCV9hTh5H1243yJ7tD4LW72kfhIsSfP6LIzdUW0fvRFh
 FJQ7TZMe0jz9Tchbr1e+PRUaV4ViLYvmgdbcN2cM+w5ik81a4+goiRuNZ9bHtp7n7kVO
 HyIg2t9QGVExp+eqnJ6+Ptda0psKyHpozpMgE=
X-Google-DKIM-Signature: v=1; a=rsa-sha256; c=relaxed/relaxed;
 d=1e100.net; s=20230601; t=1717466157; x=1718070957;
 h=references:in-reply-to:cc:to:from:subject:message-id:date
 :x-gm-message-state:from:to:cc:subject:date:message-id:reply-to;
 bh=JHknbmCiI3vka3uUOMqaX1X3Lw5zv3DyP6hfDWgYL6Q=;
 b=RgQuUzkEaCCES45UzQk3cKXUc3Y99m+4/7ipeuTjU4Kqo46XIj4gLU+AKtfTWO0xza
 GCD4qXWM++olcJCNhs2ReIQr5lfNI+nwdpXvTMZUfni/vFo0iGGq4hkrSgpRE7QDCqH3
 kDX8ghsd0vnXmRLZdsYagIkVf0gULUt8BCR/2nk0Mw26zU9ilrHYCYTIkvCzVp+LF4cq
 xtcwmAkNtr2j235Gz2rb6RD7abRuKsyop7xzv/3oZf4twffLpBBjuQnCGZkj+7auUVDl
 /JK78PB9TXj/ls40WMLgLcY+UulcWsp+OLJWXZLR6UAZgvXU4oBsLgby3HR+FaGJrSIx
 771g==
X-Gm-Message-State: AOJu0YwiPIqLH1jZKPoFf4anJPh1YqtSpqrowzxlL7E1r7jla9FHhdZ5
 QcSO5UUmtxVDADBUoXWLXZv3VJ6iWUZeKaVXEZfRoCJdgktlDI8idaQxfxDPPegATVLevDHb8w9
 iDcasLBO8k4RD6sfSIx7tB3NHS0UIu1tnQSC0yEB1TSkh82ChkS/Hc2bz
X-Google-Smtp-Source: AGHT+IHQI6LL/h7ebk7Ei41id+IAj1pwx4aaY/X7Lbm4b0RwB/w5pEli/wTgqXzRPigdpsaNKf8byo0/0KUb
X-Received: by 2002:a05:6871:806:b0:24c:ac96:ac78 with SMTP id
 586e51a60fabf-2508c1196ddmr12518062fac.44.1717466156999; 
 Mon, 03 Jun 2024 18:55:56 -0700 (PDT)
Received: from postal.iol.unh.edu (postal.iol.unh.edu.
 [2606:4100:3880:1234::84]) by smtp-relay.gmail.com with ESMTPS id
 586e51a60fabf-250990c5e4fsm277850fac.14.2024.06.03.18.55.56
 (version=TLS1_2 cipher=ECDHE-ECDSA-AES128-GCM-SHA256 bits=128/128);
 Mon, 03 Jun 2024 18:55:56 -0700 (PDT)
X-Relaying-Domain: iol.unh.edu
Date: Mon, 03 Jun 2024 18:55:56 -0700 (PDT)
Message-ID: <665e742c.050a0220.1b933.5ff3SMTPIN_ADDED_MISSING@mx.google.com>
Received: from [172.21.0.6] (unknown [172.18.0.240])
 by postal.iol.unh.edu (Postfix) with ESMTP id 66654605C380;
 Mon,  3 Jun 2024 21:55:56 -0400 (EDT)
Subject: |SUCCESS| pw140655-140668 [PATCH] [v21,14/14] log: colorize log outp
From: dpdklab@iol.unh.edu
To: Test Report <test-report@dpdk.org>
Cc: dpdk-test-reports@iol.unh.edu
In-Reply-To: <20240604004731.6654-15-stephen@networkplumber.org>
References: <20240604004731.6654-15-stephen@networkplumber.org>
Content-Type: text/plain
X-BeenThere: test-report@dpdk.org
X-Mailman-Version: 2.1.29
Precedence: list
List-Id: automatic DPDK test reports <test-report.dpdk.org>
List-Unsubscribe: <https://mails.dpdk.org/options/test-report>,
 <mailto:test-report-request@dpdk.org?subject=unsubscribe>
List-Archive: <http://mails.dpdk.org/archives/test-report/>
List-Post: <mailto:test-report@dpdk.org>
List-Help: <mailto:test-report-request@dpdk.org?subject=help>
List-Subscribe: <https://mails.dpdk.org/listinfo/test-report>,
 <mailto:test-report-request@dpdk.org?subject=subscribe>
Errors-To: test-report-bounces@dpdk.org

Test-Label: iol-abi-testing
Test-Status: SUCCESS
http://dpdk.org/patch/140668

_Testing PASS_

Submitter: Stephen Hemminger <stephen@networkplumber.org>
Date: Tuesday, June 04 2024 00:45:02 
DPDK git baseline: Repo:dpdk
  Branch: master
  CommitID:76cef1af8bdaeaf67a5c4ca5df3f221df994dc46

140655-140668 --> testing pass

Test environment and result as below:

+------------------+----------+
|   Environment    | abi_test |
+==================+==========+
| openSUSE Leap 15 | PASS     |
+------------------+----------+
| CentOS Stream 8  | PASS     |
+------------------+----------+
| CentOS Stream 9  | PASS     |
+------------------+----------+
| Fedora 39        | PASS     |
+------------------+----------+
| Fedora 38        | PASS     |
+------------------+----------+
| Ubuntu 24.04     | PASS     |
+------------------+----------+
| Ubuntu 22.04     | PASS     |
+------------------+----------+
| Debian Bullseye  | PASS     |
+------------------+----------+
| RHEL8            | PASS     |
+------------------+----------+


openSUSE Leap 15
	Kernel: 5.4.0-167-generic
	Compiler: gcc 7.5.0

CentOS Stream 8
	Kernel: 5.4.0-167-generic
	Compiler: gcc 8.5.0 20210514

CentOS Stream 9
	Kernel: 5.4.0-167-generic
	Compiler: gcc 11.4.1 20230605

Fedora 39
	Kernel: Depends on container host
	Compiler: clang 17.0.6

Fedora 38
	Kernel: Depends on container host
	Compiler: clang 16.0.6

Ubuntu 24.04
	Kernel: 5.4.0-167-generic
	Compiler: gcc 13.2.0

Ubuntu 22.04
	Kernel: 5.4.0-167-generic
	Compiler: gcc 11.4.0

Debian Bullseye
	Kernel: 5.4.0-167-generic
	Compiler: gcc 10.2.1-6

RHEL8
	Kernel: 5.4.0-167-generic
	Compiler: gcc 8.5.0 20210514 (Red Hat 8.5.0-20)

To view detailed results, visit:
https://lab.dpdk.org/results/dashboard/patchsets/30091/

UNH-IOL DPDK Community Lab

To manage your email subscriptions, visit: 
https://lab.dpdk.org/results/dashboard/preferences/subscriptions/