From mboxrd@z Thu Jan  1 00:00:00 1970
Return-Path: <test-report-bounces@dpdk.org>
Received: from mails.dpdk.org (mails.dpdk.org [217.70.189.124])
	by inbox.dpdk.org (Postfix) with ESMTP id CA01244144
	for <public@inbox.dpdk.org>; Tue,  4 Jun 2024 04:08:50 +0200 (CEST)
Received: from mails.dpdk.org (localhost [127.0.0.1])
	by mails.dpdk.org (Postfix) with ESMTP id C64D443377;
	Tue,  4 Jun 2024 04:08:50 +0200 (CEST)
Received: from mail-il1-f228.google.com (mail-il1-f228.google.com
 [209.85.166.228])
 by mails.dpdk.org (Postfix) with ESMTP id BDF85402D2
 for <test-report@dpdk.org>; Tue,  4 Jun 2024 04:08:49 +0200 (CEST)
Received: by mail-il1-f228.google.com with SMTP id
 e9e14a558f8ab-3748ebe7e53so15306275ab.1
 for <test-report@dpdk.org>; Mon, 03 Jun 2024 19:08:49 -0700 (PDT)
DKIM-Signature: v=1; a=rsa-sha256; c=relaxed/relaxed;
 d=iol.unh.edu; s=unh-iol; t=1717466929; x=1718071729; darn=dpdk.org;
 h=references:in-reply-to:cc:to:from:subject:message-id:date:from:to
 :cc:subject:date:message-id:reply-to;
 bh=vRwd3DfodB5dLmAs+P0TZejwmmFESl6Ps8xh+ylQBbc=;
 b=jBmTGJoLMt5ZGiBPcCDdbHjYZu2iPI4aaHIvmyfPJfma3oAXA/7sPaxE0ss7kgHBFo
 YxgWffuXYHzCcYVJOjUbQxUOWhJoHAqLIjNFhe67b671wiS+99hqSuw0fIqBz8EDEpHC
 9y3QBHa4ZfqQ62/L/jnnHSf7YHVwileR+3Tu0=
X-Google-DKIM-Signature: v=1; a=rsa-sha256; c=relaxed/relaxed;
 d=1e100.net; s=20230601; t=1717466929; x=1718071729;
 h=references:in-reply-to:cc:to:from:subject:message-id:date
 :x-gm-message-state:from:to:cc:subject:date:message-id:reply-to;
 bh=vRwd3DfodB5dLmAs+P0TZejwmmFESl6Ps8xh+ylQBbc=;
 b=jyizL9lPQSmtJvbEff/gJPm4DwJMLN6nqkrL6aMQroqGzj0uDi61dYKujpiIiTjGGV
 8vnbIgxq62bAX/XqF0O4jI0MH3AxyEMmGuRyY+CE9do/oVMk03qt/nu2ikIwckH1vt3F
 hhUkp+9QWpsk6Kcnx6v64Y8d/ruc01rCt8SZI9irhQfmt7QacL5qq2sh9i/0HOqp6V7E
 gZ60bfXPJh3+q6EmWBdTdyt/ANVCTdzmEeT9tkDe750PgTfh+Ys8sMHLIxAwagIVzQGm
 Uhu2xhqXehdFV7HykwPXKV5iOCnxACCfNApFbVhKB72rv3/zHpoFDy2XwTFsODGej2HH
 WOaQ==
X-Gm-Message-State: AOJu0YzTGoWQxBllhBNb1Meqgix5jHSJums/SJ70VXLVbbCv3p9QFj/+
 FSjGYN7Lx3uLC6yRcre7v1YA1vPJYsiJEfdJXFKSG7kuZBB9yJPZCSKkyQEkUiZkOro9usOGJ7k
 XBzIYj1a5prR5rh6kitVYqR0BuwMsCLIaZ/wXlS4O
X-Google-Smtp-Source: AGHT+IFgfEcubS2kle0iYsMQIYW5ZF154ElvGQAEiTIge45t1GGvZHngn+wHspH2OcA2t/4BG1hmF7H6tdbp
X-Received: by 2002:a05:6e02:1d1d:b0:374:aba7:741a with SMTP id
 e9e14a558f8ab-374aba77a66mr4605975ab.17.1717466929166; 
 Mon, 03 Jun 2024 19:08:49 -0700 (PDT)
Received: from postal.iol.unh.edu (postal.iol.unh.edu. [132.177.123.84])
 by smtp-relay.gmail.com with ESMTPS id
 e9e14a558f8ab-3748a1ee2eesm4492545ab.19.2024.06.03.19.08.49
 (version=TLS1_2 cipher=ECDHE-ECDSA-AES128-GCM-SHA256 bits=128/128);
 Mon, 03 Jun 2024 19:08:49 -0700 (PDT)
X-Relaying-Domain: iol.unh.edu
Date: Mon, 03 Jun 2024 19:08:49 -0700 (PDT)
Message-ID: <665e7731.050a0220.ae571.43daSMTPIN_ADDED_MISSING@mx.google.com>
Received: from [172.21.0.7] (unknown [172.18.0.240])
 by postal.iol.unh.edu (Postfix) with ESMTP id BEF52605C380;
 Mon,  3 Jun 2024 22:08:48 -0400 (EDT)
Subject: |SUCCESS| pw140655-140668 [PATCH] [v21,14/14] log: colorize log outp
From: dpdklab@iol.unh.edu
To: Test Report <test-report@dpdk.org>
Cc: dpdk-test-reports@iol.unh.edu
In-Reply-To: <20240604004731.6654-15-stephen@networkplumber.org>
References: <20240604004731.6654-15-stephen@networkplumber.org>
Content-Type: text/plain
X-BeenThere: test-report@dpdk.org
X-Mailman-Version: 2.1.29
Precedence: list
List-Id: automatic DPDK test reports <test-report.dpdk.org>
List-Unsubscribe: <https://mails.dpdk.org/options/test-report>,
 <mailto:test-report-request@dpdk.org?subject=unsubscribe>
List-Archive: <http://mails.dpdk.org/archives/test-report/>
List-Post: <mailto:test-report@dpdk.org>
List-Help: <mailto:test-report-request@dpdk.org?subject=help>
List-Subscribe: <https://mails.dpdk.org/listinfo/test-report>,
 <mailto:test-report-request@dpdk.org?subject=subscribe>
Errors-To: test-report-bounces@dpdk.org

Test-Label: iol-unit-arm64-testing
Test-Status: SUCCESS
http://dpdk.org/patch/140668

_Testing PASS_

Submitter: Stephen Hemminger <stephen@networkplumber.org>
Date: Tuesday, June 04 2024 00:45:02 
DPDK git baseline: Repo:dpdk
  Branch: master
  CommitID:76cef1af8bdaeaf67a5c4ca5df3f221df994dc46

140655-140668 --> testing pass

Test environment and result as below:

+-----------------------------+----------------+--------------+---------------------------+
|         Environment         | dpdk_unit_test | lpm_autotest | cryptodev_sw_zuc_autotest |
+=============================+================+==============+===========================+
| CentOS Stream 9 (ARM)       | PASS           | SKIPPED      | SKIPPED                   |
+-----------------------------+----------------+--------------+---------------------------+
| Debian 11 (Buster) (ARM)    | PASS           | SKIPPED      | SKIPPED                   |
+-----------------------------+----------------+--------------+---------------------------+
| 32-bit Ubuntu 20.04.4 (ARM) | PASS           | SKIPPED      | SKIPPED                   |
+-----------------------------+----------------+--------------+---------------------------+
| Debian 12 (arm)             | PASS           | SKIPPED      | PASS                      |
+-----------------------------+----------------+--------------+---------------------------+
| Fedora 37 (ARM)             | PASS           | SKIPPED      | SKIPPED                   |
+-----------------------------+----------------+--------------+---------------------------+
| Fedora 39 (ARM)             | PASS           | SKIPPED      | SKIPPED                   |
+-----------------------------+----------------+--------------+---------------------------+
| Ubuntu 20.04 ARM SVE        | SKIPPED        | PASS         | SKIPPED                   |
+-----------------------------+----------------+--------------+---------------------------+


CentOS Stream 9 (ARM)
	Kernel: Container Host Kernel
	Compiler: gcc 11.4.1

Debian 11 (Buster) (ARM)
	Kernel: Container Host Kernel
	Compiler: gcc 10.2.1

32-bit Ubuntu 20.04.4 (ARM)
	Kernel: 5.4.0-155-generic aarch64
	Compiler: gcc 9.4

Debian 12 (arm)
	Kernel: Container Host Kernel
	Compiler: gcc 12.2.0

Fedora 37 (ARM)
	Kernel: Depends on container host
	Compiler: gcc 12.3.1

Fedora 39 (ARM)
	Kernel: Depends on container host
	Compiler: gcc 13.2.1

Ubuntu 20.04 ARM SVE
	Kernel: 5.4.0-167-generic
	Compiler: gcc (Ubuntu 10.5.0-1ubuntu1~20.04) 10.5.0

To view detailed results, visit:
https://lab.dpdk.org/results/dashboard/patchsets/30091/

UNH-IOL DPDK Community Lab

To manage your email subscriptions, visit: 
https://lab.dpdk.org/results/dashboard/preferences/subscriptions/