From mboxrd@z Thu Jan  1 00:00:00 1970
Return-Path: <test-report-bounces@dpdk.org>
Received: from mails.dpdk.org (mails.dpdk.org [217.70.189.124])
	by inbox.dpdk.org (Postfix) with ESMTP id 6118644144
	for <public@inbox.dpdk.org>; Tue,  4 Jun 2024 04:37:07 +0200 (CEST)
Received: from mails.dpdk.org (localhost [127.0.0.1])
	by mails.dpdk.org (Postfix) with ESMTP id 5462743377;
	Tue,  4 Jun 2024 04:37:07 +0200 (CEST)
Received: from mail-pl1-f226.google.com (mail-pl1-f226.google.com
 [209.85.214.226])
 by mails.dpdk.org (Postfix) with ESMTP id 85B63402D2
 for <test-report@dpdk.org>; Tue,  4 Jun 2024 04:37:06 +0200 (CEST)
Received: by mail-pl1-f226.google.com with SMTP id
 d9443c01a7336-1f62a628b4cso32366085ad.1
 for <test-report@dpdk.org>; Mon, 03 Jun 2024 19:37:06 -0700 (PDT)
DKIM-Signature: v=1; a=rsa-sha256; c=relaxed/relaxed;
 d=iol.unh.edu; s=unh-iol; t=1717468626; x=1718073426; darn=dpdk.org;
 h=references:in-reply-to:cc:to:from:subject:message-id:date:from:to
 :cc:subject:date:message-id:reply-to;
 bh=KUhtiOsxdlp8VKMXOv9gZLkgf2/1P7gQkvbwFLizJI8=;
 b=XArMPfadCUdAMr+0KF+XCOZHsySG1xAPlw/WvykCafOumSZZcrWInjAEhcrj3QJnnG
 HiGElfKjxpcP2YkvjNtjLQSrBam0QBuKCdUDXmFmvSdpLFDtJGfGgbo8KzgpctNBgEiV
 MwehpgN07KX6hASmddsl/Vu6rkMQptIBnN9I0=
X-Google-DKIM-Signature: v=1; a=rsa-sha256; c=relaxed/relaxed;
 d=1e100.net; s=20230601; t=1717468626; x=1718073426;
 h=references:in-reply-to:cc:to:from:subject:message-id:date
 :x-gm-message-state:from:to:cc:subject:date:message-id:reply-to;
 bh=KUhtiOsxdlp8VKMXOv9gZLkgf2/1P7gQkvbwFLizJI8=;
 b=XGl8mpgvvqX9E34lQNS8ArPcD7B6gxibPjwi2uufHRkA3wzNh+1QufH4ODCbuVqntu
 YGcjjI4EU0Z60hGTddzrgiYaAxidJR61vyFr+5SIRr1DKdW9Tj4qFxrD5Jt9ywUoG1lj
 P5HyKKLPUD9c4UZiv1nT/B1C/qRcELEs0i2H3r8sGU1B3uKmL4Iwsc516fM/GNqEoFoy
 2mzQQlCTqJdaP0FSf8Zhfb6/v/zFzASaw6pqNLVzL6LCG8bHTBx0nyd88PuWYPhN7XuG
 jcwWr6B48rZKF5O1/Te/P+IzR5vTIVtR+jSvfSWf3EvO6je6wUKdxG4rRiFUBA2m6OSN
 uqYQ==
X-Gm-Message-State: AOJu0Yw35E7orI/EMTl3A+fH/Lrb9FFub9ex6gheNLGcN0oMGxLB46o3
 fWmWQGYwKmMiAKWSqOKwp2ABtKe5EaV/PutOA2kqNIeakDOgNH1Y31jwqmSvBSGyZBCz2zCs4Ro
 qw6wbGUHqSLFDU2L3xnBwAfEjiWkRgcbhC05SP+jj/1oTsUVNwyOtkcfV
X-Google-Smtp-Source: AGHT+IHvtV+SGzt2kvhUx6ZyJucU6l0pzPfSeRYWNb2JTNjjgICj9KcAgG1GLkpGP89YGjTRoElDPGxWXlrR
X-Received: by 2002:a17:902:c405:b0:1f6:80cd:ec92 with SMTP id
 d9443c01a7336-1f680cdf15dmr33173525ad.63.1717468625748; 
 Mon, 03 Jun 2024 19:37:05 -0700 (PDT)
Received: from postal.iol.unh.edu (postal.iol.unh.edu.
 [2606:4100:3880:1234::84]) by smtp-relay.gmail.com with ESMTPS id
 d9443c01a7336-1f6323edbe6sm1906255ad.134.2024.06.03.19.37.05
 (version=TLS1_2 cipher=ECDHE-ECDSA-AES128-GCM-SHA256 bits=128/128);
 Mon, 03 Jun 2024 19:37:05 -0700 (PDT)
X-Relaying-Domain: iol.unh.edu
Date: Mon, 03 Jun 2024 19:37:05 -0700 (PDT)
Message-ID: <665e7dd1.170a0220.1d8bea.ebd2SMTPIN_ADDED_MISSING@mx.google.com>
Received: from [172.17.0.2] (unknown [172.18.0.217])
 by postal.iol.unh.edu (Postfix) with ESMTP id D18C4605C380;
 Mon,  3 Jun 2024 22:37:04 -0400 (EDT)
Subject: |SUCCESS| pw140655-140668 [PATCH] [v21,14/14] log: colorize log outp
From: dpdklab@iol.unh.edu
To: Test Report <test-report@dpdk.org>
Cc: dpdk-test-reports@iol.unh.edu
In-Reply-To: <20240604004731.6654-15-stephen@networkplumber.org>
References: <20240604004731.6654-15-stephen@networkplumber.org>
Content-Type: text/plain
X-BeenThere: test-report@dpdk.org
X-Mailman-Version: 2.1.29
Precedence: list
List-Id: automatic DPDK test reports <test-report.dpdk.org>
List-Unsubscribe: <https://mails.dpdk.org/options/test-report>,
 <mailto:test-report-request@dpdk.org?subject=unsubscribe>
List-Archive: <http://mails.dpdk.org/archives/test-report/>
List-Post: <mailto:test-report@dpdk.org>
List-Help: <mailto:test-report-request@dpdk.org?subject=help>
List-Subscribe: <https://mails.dpdk.org/listinfo/test-report>,
 <mailto:test-report-request@dpdk.org?subject=subscribe>
Errors-To: test-report-bounces@dpdk.org

Test-Label: iol-compile-arm64-testing
Test-Status: SUCCESS
http://dpdk.org/patch/140668

_Testing PASS_

Submitter: Stephen Hemminger <stephen@networkplumber.org>
Date: Tuesday, June 04 2024 00:45:02 
DPDK git baseline: Repo:dpdk
  Branch: master
  CommitID:76cef1af8bdaeaf67a5c4ca5df3f221df994dc46

140655-140668 --> testing pass

Test environment and result as below:

+----------------------------------------+--------------------+
|              Environment               | dpdk_meson_compile |
+========================================+====================+
| Ubuntu 20.04 ARM SVE                   | PASS               |
+----------------------------------------+--------------------+
| Debian 12 with MUSDK                   | PASS               |
+----------------------------------------+--------------------+
| Ubuntu 20.04 (ARM)                     | PASS               |
+----------------------------------------+--------------------+
| Ubuntu 22.04 (ARM)                     | PASS               |
+----------------------------------------+--------------------+
| CentOS Stream 9 (ARM)                  | PASS               |
+----------------------------------------+--------------------+
| Fedora 38 (ARM)                        | PASS               |
+----------------------------------------+--------------------+
| Ubuntu 24.04 (ARM)                     | PASS               |
+----------------------------------------+--------------------+
| Debian 12 (arm)                        | PASS               |
+----------------------------------------+--------------------+
| Ubuntu 20.04 aarch32 GCC Cross Compile | PASS               |
+----------------------------------------+--------------------+
| Ubuntu 20.04 ARM GCC Cross Compile     | PASS               |
+----------------------------------------+--------------------+
| Ubuntu 20.04 ARM Clang Cross Compile   | PASS               |
+----------------------------------------+--------------------+


Ubuntu 20.04 ARM SVE
	Kernel: 5.4.0-167-generic
	Compiler: gcc (Ubuntu 10.5.0-1ubuntu1~20.04) 10.5.0

Debian 12 with MUSDK
	Kernel: Container Host Kernel
	Compiler: gcc 12.2.0

Ubuntu 20.04 (ARM)
	Kernel: Container Host Kernel
	Compiler: gcc 9.4.0

Ubuntu 22.04 (ARM)
	Kernel: Container Host Kernel
	Compiler: gcc 11.4.0

CentOS Stream 9 (ARM)
	Kernel: Container Host Kernel
	Compiler: gcc 11.4.1

Fedora 38 (ARM)
	Kernel: Depends on container host
	Compiler: gcc 13.2.1

Ubuntu 24.04 (ARM)
	Kernel: 5.4.0-167-generic
	Compiler: gcc 13.2.0

Debian 12 (arm)
	Kernel: Container Host Kernel
	Compiler: gcc 12.2.0

Ubuntu 20.04 aarch32 GCC Cross Compile
	Kernel: 5.4.0-167-generic
	Compiler: gcc 9.4.0

Ubuntu 20.04 ARM GCC Cross Compile
	Kernel: 5.4.0-167-generic
	Compiler: aarch64-linux-gnu-gcc (Ubuntu 9.4.0-1ubuntu1~20.04.2) 9.4.0

Ubuntu 20.04 ARM Clang Cross Compile
	Kernel: 5.4.0-72-generic
	Compiler: clang 10.0.0-4ubuntu1

To view detailed results, visit:
https://lab.dpdk.org/results/dashboard/patchsets/30091/

UNH-IOL DPDK Community Lab

To manage your email subscriptions, visit: 
https://lab.dpdk.org/results/dashboard/preferences/subscriptions/