From mboxrd@z Thu Jan  1 00:00:00 1970
Return-Path: <test-report-bounces@dpdk.org>
Received: from mails.dpdk.org (mails.dpdk.org [217.70.189.124])
	by inbox.dpdk.org (Postfix) with ESMTP id 23C964414A
	for <public@inbox.dpdk.org>; Tue,  4 Jun 2024 08:47:22 +0200 (CEST)
Received: from mails.dpdk.org (localhost [127.0.0.1])
	by mails.dpdk.org (Postfix) with ESMTP id 1FAF543428;
	Tue,  4 Jun 2024 08:47:22 +0200 (CEST)
Received: from mail-il1-f225.google.com (mail-il1-f225.google.com
 [209.85.166.225])
 by mails.dpdk.org (Postfix) with ESMTP id 3F83B4027B
 for <test-report@dpdk.org>; Tue,  4 Jun 2024 08:47:20 +0200 (CEST)
Received: by mail-il1-f225.google.com with SMTP id
 e9e14a558f8ab-37482449fd8so17820375ab.3
 for <test-report@dpdk.org>; Mon, 03 Jun 2024 23:47:20 -0700 (PDT)
DKIM-Signature: v=1; a=rsa-sha256; c=relaxed/relaxed;
 d=iol.unh.edu; s=unh-iol; t=1717483639; x=1718088439; darn=dpdk.org;
 h=references:in-reply-to:cc:to:from:subject:message-id:date:from:to
 :cc:subject:date:message-id:reply-to;
 bh=Y9m+Trb2XwEFC1rQ6Y2lk4vsMjdEG5XF3BziJBusXL0=;
 b=EjpWBCgw2JTKmAgTqfrPf4oxunEYCq8XGYMTkPjqymwNGtc9j/tvc1R+bNyQ3wrTDN
 HsRrCa/ppxXDlG9HdEnnJN//6lko8K4gqgX1aIB/25jo0thyqXax5oonFO0tSxnarzeh
 o/eJhlOI5KwInfZAnb4uDfKBFyAubRaEZLeig=
X-Google-DKIM-Signature: v=1; a=rsa-sha256; c=relaxed/relaxed;
 d=1e100.net; s=20230601; t=1717483639; x=1718088439;
 h=references:in-reply-to:cc:to:from:subject:message-id:date
 :x-gm-message-state:from:to:cc:subject:date:message-id:reply-to;
 bh=Y9m+Trb2XwEFC1rQ6Y2lk4vsMjdEG5XF3BziJBusXL0=;
 b=OAr0QBbmXt9yulb5Pu1rEk9xP4fzsI23WCDjhkmzMOUgJ4L/YAlwySuMBaDMDPdbr+
 sUx+dDc7+5LxZw0sLtGNy7EsPAeUQ/yggLPikj3oSrA+63Sxmv2CdWdBMGcuQ7JJVNXo
 cKMk1THbG2NeQAz68gLqUmy/aVv8jYHPr5oGg51EhXXtBXw4nZnC5bfZnUi6XJiNdzbQ
 VZBMoRNY5YmxcD+A3IHNK6MJ8wm3rp2iUhnjRFtJo46ZcjGOO7jz46j8gnAMiJsFAvDo
 JpQdDoBG/1Lllbpvau4uz9UOVSyrN106817goldnsVW7Z4mTha2Qb5DepieXogZfoUf8
 2vLw==
X-Gm-Message-State: AOJu0Yxn/CEidsllXsXHKkEcz9YF2nO1fy0bxaZMUxsHJVRMWCEzd7IP
 jAV9sZl6vmoGsa4UbPN2Vza3xTYiJ5nGPwsBmzTx0j+p/91U9MTuL8sjs6G2XO5vVfxxtTGGWPd
 wm9Su4+XdHgtOATay/fGUHQqCl5qNaoNR6RRMnHYN5WKHG+9GKysQ8jWa
X-Google-Smtp-Source: AGHT+IE6F8zcGF5La++IXyxhtrZAVpzg6HzYu9QZxZvEtXENGg3dsE5Xqo0mj9VebxTLh+VssukzL15a6A55
X-Received: by 2002:a05:6e02:194b:b0:374:ada1:2968 with SMTP id
 e9e14a558f8ab-374ada12b99mr2231005ab.28.1717483639621; 
 Mon, 03 Jun 2024 23:47:19 -0700 (PDT)
Received: from postal.iol.unh.edu (postal.iol.unh.edu.
 [2606:4100:3880:1234::84]) by smtp-relay.gmail.com with ESMTPS id
 8926c6da1cb9f-4b5aceb6c34sm77251173.49.2024.06.03.23.47.19
 (version=TLS1_2 cipher=ECDHE-ECDSA-AES128-GCM-SHA256 bits=128/128);
 Mon, 03 Jun 2024 23:47:19 -0700 (PDT)
X-Relaying-Domain: iol.unh.edu
Date: Mon, 03 Jun 2024 23:47:19 -0700 (PDT)
Message-ID: <665eb877.050a0220.1f8ec6.51cfSMTPIN_ADDED_MISSING@mx.google.com>
Received: from [172.21.0.10] (unknown [172.18.0.240])
 by postal.iol.unh.edu (Postfix) with ESMTP id 089D9605C380;
 Tue,  4 Jun 2024 02:47:19 -0400 (EDT)
Subject: |SUCCESS| pw140671-140672 [PATCH] [2/2] eal: add Arm WFET in power m
From: dpdklab@iol.unh.edu
To: Test Report <test-report@dpdk.org>
Cc: dpdk-test-reports@iol.unh.edu
In-Reply-To: <20240604044401.3577707-2-wathsala.vithanage@arm.com>
References: <20240604044401.3577707-2-wathsala.vithanage@arm.com>
Content-Type: text/plain
X-BeenThere: test-report@dpdk.org
X-Mailman-Version: 2.1.29
Precedence: list
List-Id: automatic DPDK test reports <test-report.dpdk.org>
List-Unsubscribe: <https://mails.dpdk.org/options/test-report>,
 <mailto:test-report-request@dpdk.org?subject=unsubscribe>
List-Archive: <http://mails.dpdk.org/archives/test-report/>
List-Post: <mailto:test-report@dpdk.org>
List-Help: <mailto:test-report-request@dpdk.org?subject=help>
List-Subscribe: <https://mails.dpdk.org/listinfo/test-report>,
 <mailto:test-report-request@dpdk.org?subject=subscribe>
Errors-To: test-report-bounces@dpdk.org

Test-Label: iol-abi-testing
Test-Status: SUCCESS
http://dpdk.org/patch/140672

_Testing PASS_

Submitter: Wathsala Vithanage <wathsala.vithanage@arm.com>
Date: Tuesday, June 04 2024 04:44:01 
DPDK git baseline: Repo:dpdk
  Branch: master
  CommitID:76cef1af8bdaeaf67a5c4ca5df3f221df994dc46

140671-140672 --> testing pass

Test environment and result as below:

+------------------+----------+
|   Environment    | abi_test |
+==================+==========+
| Debian Bullseye  | PASS     |
+------------------+----------+
| CentOS Stream 8  | PASS     |
+------------------+----------+
| Debian 12        | PASS     |
+------------------+----------+
| RHEL8            | PASS     |
+------------------+----------+
| CentOS Stream 9  | PASS     |
+------------------+----------+
| Ubuntu 24.04     | PASS     |
+------------------+----------+
| Fedora 39        | PASS     |
+------------------+----------+
| Fedora 38        | PASS     |
+------------------+----------+
| Ubuntu 22.04     | PASS     |
+------------------+----------+
| Fedora 37        | PASS     |
+------------------+----------+
| openSUSE Leap 15 | PASS     |
+------------------+----------+


Debian Bullseye
	Kernel: 5.4.0-167-generic
	Compiler: gcc 10.2.1-6

CentOS Stream 8
	Kernel: 5.4.0-167-generic
	Compiler: gcc 8.5.0 20210514

Debian 12
	Kernel: Container Host Kernel
	Compiler: gcc 10.2.1

RHEL8
	Kernel: 5.4.0-167-generic
	Compiler: gcc 8.5.0 20210514 (Red Hat 8.5.0-20)

CentOS Stream 9
	Kernel: 5.4.0-167-generic
	Compiler: gcc 11.4.1 20230605

Ubuntu 24.04
	Kernel: 5.4.0-167-generic
	Compiler: gcc 13.2.0

Fedora 39
	Kernel: Depends on container host
	Compiler: gcc 13.2.1

Fedora 38
	Kernel: Depends on container host
	Compiler: clang 16.0.6

Ubuntu 22.04
	Kernel: 5.4.0-167-generic
	Compiler: gcc 11.4.0

Fedora 37
	Kernel: Depends on container host system
	Compiler: gcc 12.3.1

openSUSE Leap 15
	Kernel: 5.4.0-167-generic
	Compiler: gcc 7.5.0

To view detailed results, visit:
https://lab.dpdk.org/results/dashboard/patchsets/30094/

UNH-IOL DPDK Community Lab

To manage your email subscriptions, visit: 
https://lab.dpdk.org/results/dashboard/preferences/subscriptions/