From mboxrd@z Thu Jan  1 00:00:00 1970
Return-Path: <test-report-bounces@dpdk.org>
Received: from mails.dpdk.org (mails.dpdk.org [217.70.189.124])
	by inbox.dpdk.org (Postfix) with ESMTP id 0831E44157
	for <public@inbox.dpdk.org>; Tue,  4 Jun 2024 21:48:16 +0200 (CEST)
Received: from mails.dpdk.org (localhost [127.0.0.1])
	by mails.dpdk.org (Postfix) with ESMTP id 049B94021D;
	Tue,  4 Jun 2024 21:48:16 +0200 (CEST)
Received: from mail-io1-f97.google.com (mail-io1-f97.google.com
 [209.85.166.97]) by mails.dpdk.org (Postfix) with ESMTP id DF48F40156
 for <test-report@dpdk.org>; Tue,  4 Jun 2024 21:48:14 +0200 (CEST)
Received: by mail-io1-f97.google.com with SMTP id
 ca18e2360f4ac-7eb321c6287so39480239f.0
 for <test-report@dpdk.org>; Tue, 04 Jun 2024 12:48:14 -0700 (PDT)
DKIM-Signature: v=1; a=rsa-sha256; c=relaxed/relaxed;
 d=iol.unh.edu; s=unh-iol; t=1717530494; x=1718135294; darn=dpdk.org;
 h=references:in-reply-to:cc:to:from:subject:message-id:date:from:to
 :cc:subject:date:message-id:reply-to;
 bh=Z+MFbjby+l08yc4VQZ4ZPbMUjyEQY1FQhwjaZ/4LXRY=;
 b=B3bNj3PHjfNmt/eNoCNYFw5c9eRf4CAYmjv1RumuTSj8CsILvfR+6otEUBxJmBX51q
 7GzbulVXbcz9astm8FsQqbgMI6csZY9Rmz2DkVgUVlLqRpYxXkLtcUAdAvsQmLSsS9hK
 87txyvX4Dw56/xrCXvMQOpUKzU1aIANtVOhF4=
X-Google-DKIM-Signature: v=1; a=rsa-sha256; c=relaxed/relaxed;
 d=1e100.net; s=20230601; t=1717530494; x=1718135294;
 h=references:in-reply-to:cc:to:from:subject:message-id:date
 :x-gm-message-state:from:to:cc:subject:date:message-id:reply-to;
 bh=Z+MFbjby+l08yc4VQZ4ZPbMUjyEQY1FQhwjaZ/4LXRY=;
 b=EBYeb6KZ1WK/b2ytAHX97AK8R1GZ360Dzd8lbpqC6EiqoR1ZRaWRI7zBoLf69tnM4o
 ENdg1arCHdBlnwQG4ZuT5bCLZmH9eaXjY9NPw7d3U7cPqFbvkMUOhqI0grD/TMhUEMj0
 intNfvy9TwYrmm9FkQCqA7W0kCt+CBl0iBs/a8dEaVKqN9/2W4To1RcGNZ0oBIXvSAA2
 mFvICq7bf5KVS8Q0GgJr1JbskktBirOI9LfouNxbuKpn7iqHU5rwlic2PYmgN6iI3C+V
 mM58zagznXgmH7YulFkRdzowv647IXN1HEe+b7lo4SQDTfQI+AwLn098aqiMr5OW/yfX
 UjAg==
X-Gm-Message-State: AOJu0YwKQnS0N2zFaxgTFiqCD/pYwJRjrWWR7yYCzVeYciLEeAc0Pdta
 58wJwj4ut7UcjsyOBVz1Bxxi5s1rGw8YI77w5k9xRKn0jT5CHy3K0YXOSC3zEZ0CG7cZZevfukq
 4FOOldVSJQEcV+aydjThcw53bZJWFwBGaLmBrnw8y
X-Google-Smtp-Source: AGHT+IEF9V9YF1iLaRIrRtj2ubrKqLZye6N1/7ZbWnyjxdcWcBW8m1arh6ngswEoqc/ooZezmoxmf1F0PuSl
X-Received: by 2002:a05:6602:6d08:b0:7ea:ff7c:d90b with SMTP id
 ca18e2360f4ac-7eb3c4b8fc4mr46410639f.8.1717530494318; 
 Tue, 04 Jun 2024 12:48:14 -0700 (PDT)
Received: from postal.iol.unh.edu (postal.iol.unh.edu. [132.177.123.84])
 by smtp-relay.gmail.com with ESMTPS id
 8926c6da1cb9f-4b5d3c7cc38sm109605173.76.2024.06.04.12.48.14
 (version=TLS1_2 cipher=ECDHE-ECDSA-AES128-GCM-SHA256 bits=128/128);
 Tue, 04 Jun 2024 12:48:14 -0700 (PDT)
X-Relaying-Domain: iol.unh.edu
Date: Tue, 04 Jun 2024 12:48:14 -0700 (PDT)
Message-ID: <665f6f7e.050a0220.1d5b08.8355SMTPIN_ADDED_MISSING@mx.google.com>
Received: from [172.21.0.6] (unknown [172.18.0.240])
 by postal.iol.unh.edu (Postfix) with ESMTP id C6F93605C380;
 Tue,  4 Jun 2024 15:48:13 -0400 (EDT)
Subject: |SUCCESS| pw140639-140640 [PATCH] [v3,17/17] net/ntnic: add NIM modu
From: dpdklab@iol.unh.edu
To: Test Report <test-report@dpdk.org>
Cc: dpdk-test-reports@iol.unh.edu
In-Reply-To: <20240603161822.59552-17-sil-plv@napatech.com>
References: <20240603161822.59552-17-sil-plv@napatech.com>
Content-Type: text/plain
X-BeenThere: test-report@dpdk.org
X-Mailman-Version: 2.1.29
Precedence: list
List-Id: automatic DPDK test reports <test-report.dpdk.org>
List-Unsubscribe: <https://mails.dpdk.org/options/test-report>,
 <mailto:test-report-request@dpdk.org?subject=unsubscribe>
List-Archive: <http://mails.dpdk.org/archives/test-report/>
List-Post: <mailto:test-report@dpdk.org>
List-Help: <mailto:test-report-request@dpdk.org?subject=help>
List-Subscribe: <https://mails.dpdk.org/listinfo/test-report>,
 <mailto:test-report-request@dpdk.org?subject=subscribe>
Errors-To: test-report-bounces@dpdk.org

Test-Label: iol-unit-amd64-testing
Test-Status: SUCCESS
http://dpdk.org/patch/140640

_Testing PASS_

Submitter: Serhii Iliushyk <sil-plv@napatech.com>
Date: Monday, June 03 2024 16:18:14 
DPDK git baseline: Repo:dpdk
  Branch: master
  CommitID:a6bbf008457a455fcf4cf7374c280bba697a353f

140639-140640 --> testing pass

Test environment and result as below:

+---------------------+----------------+
|     Environment     | dpdk_unit_test |
+=====================+================+
| Windows Server 2019 | PASS           |
+---------------------+----------------+
| CentOS Stream 8     | PASS           |
+---------------------+----------------+
| Fedora 37           | PASS           |
+---------------------+----------------+
| Windows Server 2022 | PASS           |
+---------------------+----------------+


Windows Server 2019
	Kernel: 10.0.17763
	Compiler: clang 14.0 and gcc 8.1.0 (MinGW)

CentOS Stream 8
	Kernel: 5.4.0-167-generic
	Compiler: gcc 8.5.0 20210514

Fedora 37
	Kernel: Depends on container host system
	Compiler: gcc 12.3.1

Windows Server 2022
	Kernel: 10.0.20348.2031
	Compiler: clang 15.0.7, gcc 8.1.0 (MinGW), and MSVC VS 17.9

To view detailed results, visit:
https://lab.dpdk.org/results/dashboard/patchsets/30088/

UNH-IOL DPDK Community Lab

To manage your email subscriptions, visit: 
https://lab.dpdk.org/results/dashboard/preferences/subscriptions/