From mboxrd@z Thu Jan  1 00:00:00 1970
Return-Path: <test-report-bounces@dpdk.org>
Received: from mails.dpdk.org (mails.dpdk.org [217.70.189.124])
	by inbox.dpdk.org (Postfix) with ESMTP id 372C044183
	for <public@inbox.dpdk.org>; Fri,  7 Jun 2024 16:04:00 +0200 (CEST)
Received: from mails.dpdk.org (localhost [127.0.0.1])
	by mails.dpdk.org (Postfix) with ESMTP id 32EB042830;
	Fri,  7 Jun 2024 16:04:00 +0200 (CEST)
Received: from mail-il1-f226.google.com (mail-il1-f226.google.com
 [209.85.166.226])
 by mails.dpdk.org (Postfix) with ESMTP id 2A06F40150
 for <test-report@dpdk.org>; Fri,  7 Jun 2024 16:03:58 +0200 (CEST)
Received: by mail-il1-f226.google.com with SMTP id
 e9e14a558f8ab-36da84df7adso5787565ab.1
 for <test-report@dpdk.org>; Fri, 07 Jun 2024 07:03:58 -0700 (PDT)
DKIM-Signature: v=1; a=rsa-sha256; c=relaxed/relaxed;
 d=iol.unh.edu; s=unh-iol; t=1717769037; x=1718373837; darn=dpdk.org;
 h=references:in-reply-to:cc:to:from:subject:message-id:date:from:to
 :cc:subject:date:message-id:reply-to;
 bh=jlHtoHMJLEyihvXBR+og3YRfjrqNxd508qGkvt7+eck=;
 b=REJdQaRm2mCKqhnOwx3Y0B2HlUFYJtw7oX5oDz85AgLhAQoPmqRdVAi8Y9Z7H28YPk
 MXErWRfuhfdKcGJOXxZf/s191sKurIMQteMGpMlfZFV/rxhKA5h6/zMzUh0AkC00yRfh
 gKCbBjsShtXb4CimdFV7kiWcQgBnB26mYAl18=
X-Google-DKIM-Signature: v=1; a=rsa-sha256; c=relaxed/relaxed;
 d=1e100.net; s=20230601; t=1717769037; x=1718373837;
 h=references:in-reply-to:cc:to:from:subject:message-id:date
 :x-gm-message-state:from:to:cc:subject:date:message-id:reply-to;
 bh=jlHtoHMJLEyihvXBR+og3YRfjrqNxd508qGkvt7+eck=;
 b=WxhwHV41UsGZymw0hQJ+gVaBDSRS5S4tybTHLA+DeZST4qL6mdtj/uvibXckaj6CEt
 BFnJYNDdY/UHLWEM+J5t7la1pANnugXAfKqY5Ni/i39fhJVPgYh5m9jFko8S2EGGGBc/
 wMDncTT2D/5pK6i49OWSSRBu4i+6xLl2wmoJOf/WLvjHxxlwpWNOrslPYfOZti7Jh8p3
 7/bhb0AWyF07JC4Ijb5FWhrcsvFUAXYwn2iUeiIFoIG8fMf5siBHDnAWDR161hZqEsQi
 eFvpeFBZNus67NEARiI4On2rRVM/k/Y64gPWQ+dkW/P1FLbGX42cLYvsVeLmKFgfHPKx
 9bgg==
X-Gm-Message-State: AOJu0YxhDd0UXHOeZ3i+RHETdaYDTz/iKUhr18kDPXX78EPNyu7I7PVw
 15NeX67om+qL+SQz3LVZMQg/iMGDKKt12cWK9KUhQEVoVqbMUg9AiyQqrf7mrMgu8Bm3ExCpjwq
 63trtxuZWnpSnXkBsTmwgutlMJ0Kh+pbVBBZuS3Yw
X-Google-Smtp-Source: AGHT+IHTrl1ZA/pDz0dJIR9wsQ1GJ96gn85niFpPN5xdgcGZN4kkwaWaSngrobWTo1779Vhie0bTQuWRDyrX
X-Received: by 2002:a05:6e02:1d8b:b0:374:c060:efe4 with SMTP id
 e9e14a558f8ab-37580388015mr14475435ab.11.1717769037634; 
 Fri, 07 Jun 2024 07:03:57 -0700 (PDT)
Received: from postal.iol.unh.edu (postal.iol.unh.edu. [132.177.123.84])
 by smtp-relay.gmail.com with ESMTPS id
 e9e14a558f8ab-374bc0a1367sm1435965ab.0.2024.06.07.07.03.57
 (version=TLS1_2 cipher=ECDHE-ECDSA-AES128-GCM-SHA256 bits=128/128);
 Fri, 07 Jun 2024 07:03:57 -0700 (PDT)
X-Relaying-Domain: iol.unh.edu
Date: Fri, 07 Jun 2024 07:03:57 -0700 (PDT)
Message-ID: <6663134d.050a0220.69c0c.caa0SMTPIN_ADDED_MISSING@mx.google.com>
Received: from [172.21.0.9] (unknown [172.18.0.240])
 by postal.iol.unh.edu (Postfix) with ESMTP id 057B3605C380;
 Fri,  7 Jun 2024 10:03:57 -0400 (EDT)
Subject: |SUCCESS| pw140851-140855 [PATCH] [v4,5/5] crypto/openssl: only set 
From: dpdklab@iol.unh.edu
To: Test Report <test-report@dpdk.org>
Cc: dpdk-test-reports@iol.unh.edu
In-Reply-To: <20240607124756.3968704-6-jack.bond-preston@foss.arm.com>
References: <20240607124756.3968704-6-jack.bond-preston@foss.arm.com>
Content-Type: text/plain
X-BeenThere: test-report@dpdk.org
X-Mailman-Version: 2.1.29
Precedence: list
List-Id: automatic DPDK test reports <test-report.dpdk.org>
List-Unsubscribe: <https://mails.dpdk.org/options/test-report>,
 <mailto:test-report-request@dpdk.org?subject=unsubscribe>
List-Archive: <http://mails.dpdk.org/archives/test-report/>
List-Post: <mailto:test-report@dpdk.org>
List-Help: <mailto:test-report-request@dpdk.org?subject=help>
List-Subscribe: <https://mails.dpdk.org/listinfo/test-report>,
 <mailto:test-report-request@dpdk.org?subject=subscribe>
Errors-To: test-report-bounces@dpdk.org

Test-Label: iol-unit-amd64-testing
Test-Status: SUCCESS
http://dpdk.org/patch/140855

_Testing PASS_

Submitter: Jack Bond-Preston <jack.bond-preston@foss.arm.com>
Date: Friday, June 07 2024 12:47:56 
DPDK git baseline: Repo:dpdk
  Branch: master
  CommitID:367b8db312517edb9f5340d280e77b1437d84dd3

140851-140855 --> testing pass

Test environment and result as below:

+---------------------+----------------+
|     Environment     | dpdk_unit_test |
+=====================+================+
| CentOS Stream 8     | PASS           |
+---------------------+----------------+
| Debian Bullseye     | PASS           |
+---------------------+----------------+
| Debian 12           | PASS           |
+---------------------+----------------+
| Windows Server 2019 | PASS           |
+---------------------+----------------+
| CentOS Stream 9     | PASS           |
+---------------------+----------------+
| Fedora 37           | PASS           |
+---------------------+----------------+
| Fedora 38           | PASS           |
+---------------------+----------------+
| Fedora 39           | PASS           |
+---------------------+----------------+
| Windows Server 2022 | PASS           |
+---------------------+----------------+


CentOS Stream 8
	Kernel: 5.4.0-167-generic
	Compiler: gcc 8.5.0 20210514

Debian Bullseye
	Kernel: 5.4.0-167-generic
	Compiler: gcc 10.2.1-6

Debian 12
	Kernel: Container Host Kernel
	Compiler: gcc 12.2.0

Windows Server 2019
	Kernel: 10.0.17763
	Compiler: clang 14.0 and gcc 8.1.0 (MinGW)

CentOS Stream 9
	Kernel: 5.4.0-167-generic
	Compiler: gcc 11.4.1 20230605

Fedora 37
	Kernel: Depends on container host system
	Compiler: gcc 12.3.1

Fedora 38
	Kernel: Depends on container host
	Compiler: gcc 13.2.1

Fedora 39
	Kernel: Depends on container host
	Compiler: gcc 13.2.1

Windows Server 2022
	Kernel: 10.0.20348.2031
	Compiler: clang 15.0.7, gcc 8.1.0 (MinGW), and MSVC VS 17.9

To view detailed results, visit:
https://lab.dpdk.org/results/dashboard/patchsets/30142/

UNH-IOL DPDK Community Lab

To manage your email subscriptions, visit: 
https://lab.dpdk.org/results/dashboard/preferences/subscriptions/