From mboxrd@z Thu Jan  1 00:00:00 1970
Return-Path: <test-report-bounces@dpdk.org>
Received: from mails.dpdk.org (mails.dpdk.org [217.70.189.124])
	by inbox.dpdk.org (Postfix) with ESMTP id AF7C144184
	for <public@inbox.dpdk.org>; Fri,  7 Jun 2024 18:56:35 +0200 (CEST)
Received: from mails.dpdk.org (localhost [127.0.0.1])
	by mails.dpdk.org (Postfix) with ESMTP id 813FB40272;
	Fri,  7 Jun 2024 18:56:35 +0200 (CEST)
Received: from mail-pl1-f225.google.com (mail-pl1-f225.google.com
 [209.85.214.225])
 by mails.dpdk.org (Postfix) with ESMTP id 46A6440150
 for <test-report@dpdk.org>; Fri,  7 Jun 2024 18:56:34 +0200 (CEST)
Received: by mail-pl1-f225.google.com with SMTP id
 d9443c01a7336-1f4a5344ec7so18331205ad.1
 for <test-report@dpdk.org>; Fri, 07 Jun 2024 09:56:34 -0700 (PDT)
DKIM-Signature: v=1; a=rsa-sha256; c=relaxed/relaxed;
 d=iol.unh.edu; s=unh-iol; t=1717779393; x=1718384193; darn=dpdk.org;
 h=references:in-reply-to:cc:to:from:subject:message-id:date:from:to
 :cc:subject:date:message-id:reply-to;
 bh=+oEbyCk/EztKbW0QXlJjb6guRHHa2kwUfvpFGs0g8C4=;
 b=Xpk+O2ucAcI1dLlat+aLTUWOHbEayFz74cp5i240+0Jz+bUrSytf+PjFFZpLa0s0Mu
 tsTLLx/4o7ld7lKoOgSO3Gt84wwGswZNhAyk4sB+zaHxaKYRxZp1Wod5qHaGlEm3ubet
 014iYbL1F/NOPzQvVwl5WIOiKzbmh7GiqCvqE=
X-Google-DKIM-Signature: v=1; a=rsa-sha256; c=relaxed/relaxed;
 d=1e100.net; s=20230601; t=1717779393; x=1718384193;
 h=references:in-reply-to:cc:to:from:subject:message-id:date
 :x-gm-message-state:from:to:cc:subject:date:message-id:reply-to;
 bh=+oEbyCk/EztKbW0QXlJjb6guRHHa2kwUfvpFGs0g8C4=;
 b=Uo6OBY6hg7wm1befTczgKpz0dnJpA9tQ8B+bvzpv7dQ0oAigKRVpXRNoVU3L2RVzMp
 nLzpil2nXTzCIH32AKVhny8BXauAROBXCsC0neYNH27xMFJA4xUmnz9fFehnTrNcWi/u
 s1inMuY2qr7vLjdT7aPM9IstjOrEeN31JkyH4hIPnrv/WB3TyB8zMh7NM254orvh0Rmy
 nSg+3sI/ohbe9ZRAdJyJd4rGz07pkGcBx4ElJ+u3I+QFY4Vmc1cJrlHK+51dSjw8FALP
 rTUYkknX5R4er/GeGYvxf4TkKrWLX/aqlMuV9DnwjL1PFBhJe7FsCSFNESa9MOHMcbI5
 nSGQ==
X-Gm-Message-State: AOJu0YwxmUzwcWhNMIoFfiNOtL9eHAwKsAXYWpS45cnxJ1YPJC/Nob2D
 O79QUBU1zzASOQyhDELfWyfYIbyxxP5Avv7UQsv4ZK+EIPqayDtKvlAwWLK7huSLjOdtZpbxJqc
 BUY08aaaWKJNqfdijjYx8cziaVGj1VxpPfTLtPbXo
X-Google-Smtp-Source: AGHT+IF0zKrarRNanbEhBk76cYSLRImDL2TlCgVu+7JOFdvOShEPC2rf3vb8UX5L0S70In4VjZE/iP9MgJUW
X-Received: by 2002:a17:902:dac7:b0:1f6:a5e1:696 with SMTP id
 d9443c01a7336-1f6b8c4dbcemr92404915ad.4.1717779393235; 
 Fri, 07 Jun 2024 09:56:33 -0700 (PDT)
Received: from postal.iol.unh.edu (postal.iol.unh.edu. [132.177.123.84])
 by smtp-relay.gmail.com with ESMTPS id
 d9443c01a7336-1f6bd7ca875sm1156985ad.96.2024.06.07.09.56.33
 (version=TLS1_2 cipher=ECDHE-ECDSA-AES128-GCM-SHA256 bits=128/128);
 Fri, 07 Jun 2024 09:56:33 -0700 (PDT)
X-Relaying-Domain: iol.unh.edu
Date: Fri, 07 Jun 2024 09:56:33 -0700 (PDT)
Message-ID: <66633bc1.170a0220.a728.a084SMTPIN_ADDED_MISSING@mx.google.com>
Received: from [172.21.0.6] (unknown [172.18.0.240])
 by postal.iol.unh.edu (Postfix) with ESMTP id 9F4AC605C380;
 Fri,  7 Jun 2024 12:56:32 -0400 (EDT)
Subject: |SUCCESS| pw140871-140872 [PATCH] [v9,2/2] dts: Change hugepage 'amo
From: dpdklab@iol.unh.edu
To: Test Report <test-report@dpdk.org>
Cc: dpdk-test-reports@iol.unh.edu
In-Reply-To: <20240607145925.27566-3-npratte@iol.unh.edu>
References: <20240607145925.27566-3-npratte@iol.unh.edu>
Content-Type: text/plain
X-BeenThere: test-report@dpdk.org
X-Mailman-Version: 2.1.29
Precedence: list
List-Id: automatic DPDK test reports <test-report.dpdk.org>
List-Unsubscribe: <https://mails.dpdk.org/options/test-report>,
 <mailto:test-report-request@dpdk.org?subject=unsubscribe>
List-Archive: <http://mails.dpdk.org/archives/test-report/>
List-Post: <mailto:test-report@dpdk.org>
List-Help: <mailto:test-report-request@dpdk.org?subject=help>
List-Subscribe: <https://mails.dpdk.org/listinfo/test-report>,
 <mailto:test-report-request@dpdk.org?subject=subscribe>
Errors-To: test-report-bounces@dpdk.org

Test-Label: iol-unit-amd64-testing
Test-Status: SUCCESS
http://dpdk.org/patch/140872

_Testing PASS_

Submitter: Nicholas Pratte <npratte@iol.unh.edu>
Date: Friday, June 07 2024 14:59:24 
DPDK git baseline: Repo:dpdk
  Branch: master
  CommitID:76cef1af8bdaeaf67a5c4ca5df3f221df994dc46

140871-140872 --> testing pass

Test environment and result as below:

+---------------------+----------------+
|     Environment     | dpdk_unit_test |
+=====================+================+
| Windows Server 2019 | PASS           |
+---------------------+----------------+
| CentOS Stream 8     | PASS           |
+---------------------+----------------+
| CentOS Stream 9     | PASS           |
+---------------------+----------------+
| Debian 12           | PASS           |
+---------------------+----------------+
| Fedora 37           | PASS           |
+---------------------+----------------+
| Fedora 38           | PASS           |
+---------------------+----------------+
| Ubuntu 20.04        | PASS           |
+---------------------+----------------+
| Fedora 39           | PASS           |
+---------------------+----------------+
| RHEL8               | PASS           |
+---------------------+----------------+
| Debian Bullseye     | PASS           |
+---------------------+----------------+
| Ubuntu 22.04        | PASS           |
+---------------------+----------------+
| Windows Server 2022 | PASS           |
+---------------------+----------------+
| openSUSE Leap 15    | PASS           |
+---------------------+----------------+
| Ubuntu 24.04        | PASS           |
+---------------------+----------------+


Windows Server 2019
	Kernel: 10.0.17763
	Compiler: clang 14.0 and gcc 8.1.0 (MinGW)

CentOS Stream 8
	Kernel: 5.4.0-167-generic
	Compiler: gcc 8.5.0 20210514

CentOS Stream 9
	Kernel: 5.4.0-167-generic
	Compiler: gcc 11.4.1 20230605

Debian 12
	Kernel: Container Host Kernel
	Compiler: gcc 12.2.0

Fedora 37
	Kernel: Depends on container host system
	Compiler: gcc 12.3.1

Fedora 38
	Kernel: Depends on container host
	Compiler: gcc 13.2.1

Ubuntu 20.04
	Kernel: 5.4.0-167-generic
	Compiler: gcc 9.4.0-1ubuntu1~20.04.1

Fedora 39
	Kernel: Depends on container host
	Compiler: gcc 13.2.1

RHEL8
	Kernel: 5.4.0-167-generic
	Compiler: gcc 8.5.0 20210514 (Red Hat 8.5.0-20)

Debian Bullseye
	Kernel: 5.4.0-167-generic
	Compiler: gcc 10.2.1-6

Ubuntu 22.04
	Kernel: 5.4.0-167-generic
	Compiler: gcc 11.4.0

Windows Server 2022
	Kernel: 10.0.20348.2031
	Compiler: clang 15.0.7, gcc 8.1.0 (MinGW), and MSVC VS 17.9

openSUSE Leap 15
	Kernel: 5.4.0-167-generic
	Compiler: gcc 7.5.0

Ubuntu 24.04
	Kernel: 5.4.0-167-generic
	Compiler: gcc 13.2.0

To view detailed results, visit:
https://lab.dpdk.org/results/dashboard/patchsets/30148/

UNH-IOL DPDK Community Lab

To manage your email subscriptions, visit: 
https://lab.dpdk.org/results/dashboard/preferences/subscriptions/