From mboxrd@z Thu Jan  1 00:00:00 1970
Return-Path: <test-report-bounces@dpdk.org>
Received: from mails.dpdk.org (mails.dpdk.org [217.70.189.124])
	by inbox.dpdk.org (Postfix) with ESMTP id CDDEB44184
	for <public@inbox.dpdk.org>; Fri,  7 Jun 2024 19:55:35 +0200 (CEST)
Received: from mails.dpdk.org (localhost [127.0.0.1])
	by mails.dpdk.org (Postfix) with ESMTP id C8F6E40272;
	Fri,  7 Jun 2024 19:55:35 +0200 (CEST)
Received: from mail-pl1-f225.google.com (mail-pl1-f225.google.com
 [209.85.214.225])
 by mails.dpdk.org (Postfix) with ESMTP id 0FCB940150
 for <test-report@dpdk.org>; Fri,  7 Jun 2024 19:55:35 +0200 (CEST)
Received: by mail-pl1-f225.google.com with SMTP id
 d9443c01a7336-1f62fae8c3cso21717285ad.3
 for <test-report@dpdk.org>; Fri, 07 Jun 2024 10:55:34 -0700 (PDT)
DKIM-Signature: v=1; a=rsa-sha256; c=relaxed/relaxed;
 d=iol.unh.edu; s=unh-iol; t=1717782934; x=1718387734; darn=dpdk.org;
 h=references:in-reply-to:cc:to:from:subject:message-id:date:from:to
 :cc:subject:date:message-id:reply-to;
 bh=bEZG/MYhcEv4vErR7tKJoAHJ2Lj+lX5qJFezuhvqHTE=;
 b=eUeuaFu0Cotw45RCeR15ogN8Qr5MQ7OmkMGdAshQSwsWyo2JLVZMqKs3I+eRR81ZKS
 oQbMm7Bn5uDpp/gGsCLwj+YtuCzLEoje8mHRpy8aRtqH588GdLCPxkGmoK5DhgKWuky4
 xGopHRI7TDl7yBE396Abt9Fh5y0QWYDS6Zf6U=
X-Google-DKIM-Signature: v=1; a=rsa-sha256; c=relaxed/relaxed;
 d=1e100.net; s=20230601; t=1717782934; x=1718387734;
 h=references:in-reply-to:cc:to:from:subject:message-id:date
 :x-gm-message-state:from:to:cc:subject:date:message-id:reply-to;
 bh=bEZG/MYhcEv4vErR7tKJoAHJ2Lj+lX5qJFezuhvqHTE=;
 b=AlCo5Dm3st+xt/VYq61bqeRSq0VloF+wi9FAXI/08xub0m45TwHAh9Dhw7sgrvgWAX
 3IMBSFGIvmXfGL3cMwNvAp3W9yA0Jt+2EM4IfmNoAArV1CZ/VaObFf9ZiYKaqsz9+g1J
 Hr73OzEivqz45d28LlXOLdTgXGheX7Aec5tdxp6xeBkh0iA/abrt82sNEgDm3jcwDFMN
 KSo00c786Z2faosxdPdTJXmlzvIdnIaWz97Y0D5xKM8h/IBbMK01t8HiBRzGpWxlwQGO
 3driid2swKavsYSEDZ98htX6nHOdT8HTTuQmNCYCrpYip66IrsRXPowytk1BBU44DWDe
 TXCw==
X-Gm-Message-State: AOJu0YzLRtAoVv/UXEKZd4FR5pxmZXnuyZMVNVm5297HNqLllBosZaAG
 7wUyTEzR1EHObascR34agjjJgGP3+jzuyGzp5GZcH5Q6aB95QDJXFScURLtXFjAv5UoQLXku/6G
 9jtuQiVFq0LgPRQGCC4w7y/QVmh8csrkCckGCYlq3CjYkaWmnCs31OprQ
X-Google-Smtp-Source: AGHT+IH/Fi+sKI8/f5ipYwYT8UOVfozJSpqejfkWjoPwrB8IVtCedI40vb40zJHNF/0xqAsyLhqmpwNAT8SM
X-Received: by 2002:a17:902:6506:b0:1f6:ee9e:f601 with SMTP id
 d9443c01a7336-1f6ee9efbc1mr1933975ad.7.1717782934249; 
 Fri, 07 Jun 2024 10:55:34 -0700 (PDT)
Received: from postal.iol.unh.edu (postal.iol.unh.edu.
 [2606:4100:3880:1234::84]) by smtp-relay.gmail.com with ESMTPS id
 d9443c01a7336-1f6e5db8e92sm383985ad.7.2024.06.07.10.55.34
 (version=TLS1_2 cipher=ECDHE-ECDSA-AES128-GCM-SHA256 bits=128/128);
 Fri, 07 Jun 2024 10:55:34 -0700 (PDT)
X-Relaying-Domain: iol.unh.edu
Date: Fri, 07 Jun 2024 10:55:34 -0700 (PDT)
Message-ID: <66634996.170a0220.551b9.4668SMTPIN_ADDED_MISSING@mx.google.com>
Received: from [172.21.0.6] (unknown [172.18.0.240])
 by postal.iol.unh.edu (Postfix) with ESMTP id 68E60605C380;
 Fri,  7 Jun 2024 13:55:33 -0400 (EDT)
Subject: |SUCCESS| pw140861-140867 [PATCH] [v3,9/9] crypto/ionic: add stats s
From: dpdklab@iol.unh.edu
To: Test Report <test-report@dpdk.org>
Cc: dpdk-test-reports@iol.unh.edu
In-Reply-To: <20240607142740.60175-10-andrew.boyer@amd.com>
References: <20240607142740.60175-10-andrew.boyer@amd.com>
Content-Type: text/plain
X-BeenThere: test-report@dpdk.org
X-Mailman-Version: 2.1.29
Precedence: list
List-Id: automatic DPDK test reports <test-report.dpdk.org>
List-Unsubscribe: <https://mails.dpdk.org/options/test-report>,
 <mailto:test-report-request@dpdk.org?subject=unsubscribe>
List-Archive: <http://mails.dpdk.org/archives/test-report/>
List-Post: <mailto:test-report@dpdk.org>
List-Help: <mailto:test-report-request@dpdk.org?subject=help>
List-Subscribe: <https://mails.dpdk.org/listinfo/test-report>,
 <mailto:test-report-request@dpdk.org?subject=subscribe>
Errors-To: test-report-bounces@dpdk.org

Test-Label: iol-unit-arm64-testing
Test-Status: SUCCESS
http://dpdk.org/patch/140867

_Testing PASS_

Submitter: Andrew Boyer <Andrew.Boyer@amd.com>
Date: Friday, June 07 2024 14:27:40 
DPDK git baseline: Repo:dpdk
  Branch: master
  CommitID:367b8db312517edb9f5340d280e77b1437d84dd3

140861-140867 --> testing pass

Test environment and result as below:

+-----------------------------+------------------------------+---------------------------+----------------+--------------+
|         Environment         | cryptodev_sw_snow3g_autotest | cryptodev_sw_zuc_autotest | dpdk_unit_test | lpm_autotest |
+=============================+==============================+===========================+================+==============+
| Debian 12 (arm)             | PASS                         | PASS                      | PASS           | SKIPPED      |
+-----------------------------+------------------------------+---------------------------+----------------+--------------+
| CentOS Stream 9 (ARM)       | SKIPPED                      | SKIPPED                   | PASS           | SKIPPED      |
+-----------------------------+------------------------------+---------------------------+----------------+--------------+
| Debian 11 (Buster) (ARM)    | SKIPPED                      | SKIPPED                   | PASS           | SKIPPED      |
+-----------------------------+------------------------------+---------------------------+----------------+--------------+
| Fedora 38 (ARM)             | SKIPPED                      | SKIPPED                   | PASS           | SKIPPED      |
+-----------------------------+------------------------------+---------------------------+----------------+--------------+
| Fedora 37 (ARM)             | SKIPPED                      | SKIPPED                   | PASS           | SKIPPED      |
+-----------------------------+------------------------------+---------------------------+----------------+--------------+
| 32-bit Ubuntu 20.04.4 (ARM) | SKIPPED                      | SKIPPED                   | PASS           | SKIPPED      |
+-----------------------------+------------------------------+---------------------------+----------------+--------------+
| Fedora 39 (ARM)             | SKIPPED                      | SKIPPED                   | PASS           | SKIPPED      |
+-----------------------------+------------------------------+---------------------------+----------------+--------------+
| Ubuntu 20.04 (ARM)          | SKIPPED                      | SKIPPED                   | PASS           | SKIPPED      |
+-----------------------------+------------------------------+---------------------------+----------------+--------------+
| Fedora 38 (ARM Clang)       | SKIPPED                      | SKIPPED                   | PASS           | SKIPPED      |
+-----------------------------+------------------------------+---------------------------+----------------+--------------+
| Fedora 39 (ARM Clang)       | SKIPPED                      | SKIPPED                   | PASS           | SKIPPED      |
+-----------------------------+------------------------------+---------------------------+----------------+--------------+
| Ubuntu 24.04 (ARM)          | SKIPPED                      | SKIPPED                   | PASS           | SKIPPED      |
+-----------------------------+------------------------------+---------------------------+----------------+--------------+
| Ubuntu 22.04 (ARM)          | SKIPPED                      | SKIPPED                   | PASS           | SKIPPED      |
+-----------------------------+------------------------------+---------------------------+----------------+--------------+
| Ubuntu 20.04 ARM SVE        | SKIPPED                      | SKIPPED                   | SKIPPED        | PASS         |
+-----------------------------+------------------------------+---------------------------+----------------+--------------+


Debian 12 (arm)
	Kernel: Container Host Kernel
	Compiler: gcc 12.2.0

CentOS Stream 9 (ARM)
	Kernel: Container Host Kernel
	Compiler: gcc 11.4.1

Debian 11 (Buster) (ARM)
	Kernel: Container Host Kernel
	Compiler: gcc 10.2.1

Fedora 38 (ARM)
	Kernel: Depends on container host
	Compiler: gcc 13.2.1

Fedora 37 (ARM)
	Kernel: Depends on container host
	Compiler: gcc 12.3.1

32-bit Ubuntu 20.04.4 (ARM)
	Kernel: 5.4.0-155-generic aarch64
	Compiler: gcc 9.4

Fedora 39 (ARM)
	Kernel: Depends on container host
	Compiler: gcc 13.2.1

Ubuntu 20.04 (ARM)
	Kernel: Container Host Kernel
	Compiler: gcc 9.4.0

Fedora 38 (ARM Clang)
	Kernel: Depends on container host
	Compiler: clang 16.0.6

Fedora 39 (ARM Clang)
	Kernel: Depends on container host
	Compiler: clang 17.0.6

Ubuntu 24.04 (ARM)
	Kernel: 5.4.0-167-generic
	Compiler: gcc 13.2.0

Ubuntu 22.04 (ARM)
	Kernel: Container Host Kernel
	Compiler: gcc 11.4.0

Ubuntu 20.04 ARM SVE
	Kernel: 5.4.0-167-generic
	Compiler: gcc (Ubuntu 10.5.0-1ubuntu1~20.04) 10.5.0

To view detailed results, visit:
https://lab.dpdk.org/results/dashboard/patchsets/30145/

UNH-IOL DPDK Community Lab

To manage your email subscriptions, visit: 
https://lab.dpdk.org/results/dashboard/preferences/subscriptions/