From mboxrd@z Thu Jan  1 00:00:00 1970
Return-Path: <test-report-bounces@dpdk.org>
Received: from mails.dpdk.org (mails.dpdk.org [217.70.189.124])
	by inbox.dpdk.org (Postfix) with ESMTP id B799F44185
	for <public@inbox.dpdk.org>; Fri,  7 Jun 2024 20:33:20 +0200 (CEST)
Received: from mails.dpdk.org (localhost [127.0.0.1])
	by mails.dpdk.org (Postfix) with ESMTP id B0FFE402DD;
	Fri,  7 Jun 2024 20:33:20 +0200 (CEST)
Received: from mail-oi1-f225.google.com (mail-oi1-f225.google.com
 [209.85.167.225])
 by mails.dpdk.org (Postfix) with ESMTP id C6C0540272
 for <test-report@dpdk.org>; Fri,  7 Jun 2024 20:33:19 +0200 (CEST)
Received: by mail-oi1-f225.google.com with SMTP id
 5614622812f47-3d2026f5b33so1321649b6e.2
 for <test-report@dpdk.org>; Fri, 07 Jun 2024 11:33:19 -0700 (PDT)
DKIM-Signature: v=1; a=rsa-sha256; c=relaxed/relaxed;
 d=iol.unh.edu; s=unh-iol; t=1717785199; x=1718389999; darn=dpdk.org;
 h=references:in-reply-to:cc:to:from:subject:message-id:date:from:to
 :cc:subject:date:message-id:reply-to;
 bh=yTbD8uCANwBUIYhMdy/dVx/KR53NjMH41af7KJNJlLs=;
 b=Zc7f4mkkc9GdplN5IBHz2H5zlqeF8OVt7cGWlg40wLtF9ZtNAcClduQgjDVwsNlSyc
 5yRCuZe2AsI6uNngTJ3KCQcu6z7ZgPGjMG+HrOv5QY9ddueLTFPc5yfOqtXPepdzQZp1
 2F1yIbXDAqZjqfisQIx/lr009ZVsbBqaYYgSo=
X-Google-DKIM-Signature: v=1; a=rsa-sha256; c=relaxed/relaxed;
 d=1e100.net; s=20230601; t=1717785199; x=1718389999;
 h=references:in-reply-to:cc:to:from:subject:message-id:date
 :x-gm-message-state:from:to:cc:subject:date:message-id:reply-to;
 bh=yTbD8uCANwBUIYhMdy/dVx/KR53NjMH41af7KJNJlLs=;
 b=me38hm35qwMaX0pBW+gSGTKlnhFk7lGcikDkg/wcrYjsSfzjDddkmGVS7Yi6d77rlt
 0Y2lIYY9yqXqs95gSeBsTww/yVlGQ/Fxei2/WRmSqQ/3SkyOAzzkgYYObTID+pYzfmUJ
 8pzczu4OulduPBvR9UyuSQ5DplAgyfjUYCcwAOBK42mqIWU+vaI+FE+SU4fIw+/Tc/NE
 z6ao64UfDXEOFpEb47w4l57bf2Jk0bXCQxe5hHtb7xa+zcbTG92rIeGM7jJzz1R0HDJw
 SW/3DfKP+PctCVIPBxaT5NKeqc+IExdMGKmFHj/rO0Ico/EC50Mgl5Zb9wmhjr1YZQSd
 RiYQ==
X-Gm-Message-State: AOJu0YygUXhMXgRppFmVfc+EFm500lRYDkJ7El9l/e+yZKLTFaVKyyDx
 u/9by1Ntllck6ak8LTnEYOQN1/h89QKtET1OqrTlCjsDt7b8JgejbDhtVramrXkR+W+Mgj7X2pA
 4CFokQc0+D7WXw/nSX4BBHVgaDrT7UPQGVwhEStQz9kNz//1/UL2LmndB
X-Google-Smtp-Source: AGHT+IF+OMjq+pw6wPFywaWGkt4SEw96qxdbf/MbCLYmrErINw+rDLba1dvlOMf9ZitPO152jTLF1SEQV02D
X-Received: by 2002:a05:6808:6083:b0:3c9:7a59:3bbc with SMTP id
 5614622812f47-3d210f56102mr3427390b6e.54.1717785199047; 
 Fri, 07 Jun 2024 11:33:19 -0700 (PDT)
Received: from postal.iol.unh.edu (postal.iol.unh.edu.
 [2606:4100:3880:1234::84]) by smtp-relay.gmail.com with ESMTPS id
 6a1803df08f44-6b04f71909esm1794256d6.27.2024.06.07.11.33.18
 (version=TLS1_2 cipher=ECDHE-ECDSA-AES128-GCM-SHA256 bits=128/128);
 Fri, 07 Jun 2024 11:33:19 -0700 (PDT)
X-Relaying-Domain: iol.unh.edu
Date: Fri, 07 Jun 2024 11:33:19 -0700 (PDT)
Message-ID: <6663526f.050a0220.62a05.e4d4SMTPIN_ADDED_MISSING@mx.google.com>
Received: from [172.21.0.6] (unknown [172.18.0.240])
 by postal.iol.unh.edu (Postfix) with ESMTP id B4D27605C380;
 Fri,  7 Jun 2024 14:33:18 -0400 (EDT)
Subject: |SUCCESS| pw140861-140867 [PATCH] [v3,9/9] crypto/ionic: add stats s
From: dpdklab@iol.unh.edu
To: Test Report <test-report@dpdk.org>
Cc: dpdk-test-reports@iol.unh.edu
In-Reply-To: <20240607142740.60175-10-andrew.boyer@amd.com>
References: <20240607142740.60175-10-andrew.boyer@amd.com>
Content-Type: text/plain
X-BeenThere: test-report@dpdk.org
X-Mailman-Version: 2.1.29
Precedence: list
List-Id: automatic DPDK test reports <test-report.dpdk.org>
List-Unsubscribe: <https://mails.dpdk.org/options/test-report>,
 <mailto:test-report-request@dpdk.org?subject=unsubscribe>
List-Archive: <http://mails.dpdk.org/archives/test-report/>
List-Post: <mailto:test-report@dpdk.org>
List-Help: <mailto:test-report-request@dpdk.org?subject=help>
List-Subscribe: <https://mails.dpdk.org/listinfo/test-report>,
 <mailto:test-report-request@dpdk.org?subject=subscribe>
Errors-To: test-report-bounces@dpdk.org

Test-Label: iol-unit-amd64-testing
Test-Status: SUCCESS
http://dpdk.org/patch/140867

_Testing PASS_

Submitter: Andrew Boyer <Andrew.Boyer@amd.com>
Date: Friday, June 07 2024 14:27:40 
DPDK git baseline: Repo:dpdk
  Branch: master
  CommitID:367b8db312517edb9f5340d280e77b1437d84dd3

140861-140867 --> testing pass

Test environment and result as below:

+---------------------+----------------+
|     Environment     | dpdk_unit_test |
+=====================+================+
| Windows Server 2019 | PASS           |
+---------------------+----------------+
| CentOS Stream 9     | PASS           |
+---------------------+----------------+
| Debian Bullseye     | PASS           |
+---------------------+----------------+
| CentOS Stream 8     | PASS           |
+---------------------+----------------+
| Debian 12           | PASS           |
+---------------------+----------------+
| Fedora 37           | PASS           |
+---------------------+----------------+
| Fedora 38           | PASS           |
+---------------------+----------------+
| Fedora 39           | PASS           |
+---------------------+----------------+
| Windows Server 2022 | PASS           |
+---------------------+----------------+
| openSUSE Leap 15    | PASS           |
+---------------------+----------------+
| RHEL8               | PASS           |
+---------------------+----------------+
| Ubuntu 22.04        | PASS           |
+---------------------+----------------+
| Ubuntu 20.04        | PASS           |
+---------------------+----------------+


Windows Server 2019
	Kernel: 10.0.17763
	Compiler: clang 14.0 and gcc 8.1.0 (MinGW)

CentOS Stream 9
	Kernel: 5.4.0-167-generic
	Compiler: gcc 11.4.1 20230605

Debian Bullseye
	Kernel: 5.4.0-167-generic
	Compiler: gcc 10.2.1-6

CentOS Stream 8
	Kernel: 5.4.0-167-generic
	Compiler: gcc 8.5.0 20210514

Debian 12
	Kernel: Container Host Kernel
	Compiler: gcc 12.2.0

Fedora 37
	Kernel: Depends on container host system
	Compiler: gcc 12.3.1

Fedora 38
	Kernel: Depends on container host
	Compiler: gcc 13.2.1

Fedora 39
	Kernel: Depends on container host
	Compiler: gcc 13.2.1

Windows Server 2022
	Kernel: 10.0.20348.2031
	Compiler: clang 15.0.7, gcc 8.1.0 (MinGW), and MSVC VS 17.9

openSUSE Leap 15
	Kernel: 5.4.0-167-generic
	Compiler: gcc 7.5.0

RHEL8
	Kernel: 5.4.0-167-generic
	Compiler: gcc 8.5.0 20210514 (Red Hat 8.5.0-20)

Ubuntu 22.04
	Kernel: 5.4.0-167-generic
	Compiler: gcc 11.4.0

Ubuntu 20.04
	Kernel: 5.4.0-167-generic
	Compiler: gcc 9.4.0-1ubuntu1~20.04.1

To view detailed results, visit:
https://lab.dpdk.org/results/dashboard/patchsets/30145/

UNH-IOL DPDK Community Lab

To manage your email subscriptions, visit: 
https://lab.dpdk.org/results/dashboard/preferences/subscriptions/