From mboxrd@z Thu Jan  1 00:00:00 1970
Return-Path: <test-report-bounces@dpdk.org>
Received: from mails.dpdk.org (mails.dpdk.org [217.70.189.124])
	by inbox.dpdk.org (Postfix) with ESMTP id 1F6FF45479
	for <public@inbox.dpdk.org>; Sun, 16 Jun 2024 10:18:04 +0200 (CEST)
Received: from mails.dpdk.org (localhost [127.0.0.1])
	by mails.dpdk.org (Postfix) with ESMTP id 24E8E40270;
	Sun, 16 Jun 2024 10:18:04 +0200 (CEST)
Received: from mail-ot1-f100.google.com (mail-ot1-f100.google.com
 [209.85.210.100])
 by mails.dpdk.org (Postfix) with ESMTP id D62E740042
 for <test-report@dpdk.org>; Sun, 16 Jun 2024 10:18:02 +0200 (CEST)
Received: by mail-ot1-f100.google.com with SMTP id
 46e09a7af769-6f98178ceb3so1950388a34.0
 for <test-report@dpdk.org>; Sun, 16 Jun 2024 01:18:02 -0700 (PDT)
DKIM-Signature: v=1; a=rsa-sha256; c=relaxed/relaxed;
 d=iol.unh.edu; s=unh-iol; t=1718525882; x=1719130682; darn=dpdk.org;
 h=references:in-reply-to:cc:to:from:subject:message-id:date:from:to
 :cc:subject:date:message-id:reply-to;
 bh=YzLz3G+Eq0oHXvKRfaDNYU2PUIo4xD19WMlZqdKjE6c=;
 b=bttnTT1aowXBuChUEPEKTDy6Fa9hz/6QIyw05376wSHgazI6CnjuKJWeCNkYiNVnlH
 WDNlIoBGbhoqCWgqFh4SImGCYCx+6VksMwmhaH+PV1xeDmf1KPdiEpnNOKX1jrgjZC9m
 vgroVCNAkLG0eUighG8eIo12KMdM8ADODlU5Y=
X-Google-DKIM-Signature: v=1; a=rsa-sha256; c=relaxed/relaxed;
 d=1e100.net; s=20230601; t=1718525882; x=1719130682;
 h=references:in-reply-to:cc:to:from:subject:message-id:date
 :x-gm-message-state:from:to:cc:subject:date:message-id:reply-to;
 bh=YzLz3G+Eq0oHXvKRfaDNYU2PUIo4xD19WMlZqdKjE6c=;
 b=JmluaYrnmm6U5ICzcvz2FvvIvKDxoceO7IqJ1Id/B1j80NE5JFEiTdGfMmYEFy4dnh
 CULryLW7cy0aL0QShy6NVAsBIyuwn9nDsmIY4os8SLOMigMkfRkjQUvpsvtJeMzLvXBX
 p1skO2m6wEqvaMPpZlzXCF0f/RzH8TO7FuQHayFhJXj69tThwXpDKBrXVoejHfZfRpK2
 R3mT9tAOPzpj8w9UKkQZGt6Z/pHwmoWeb7wcapatHqKpJgWuubWxkKHBn6Eb6gLRomWK
 4SRMjbpy5FBYHTtH0ceFEbndNmWxRFj63QR5qO41F3PDHBTL03DYRgIRthxVS6H0NAdp
 Vbsg==
X-Gm-Message-State: AOJu0YxyrHnLx/09/dTz9kWGhHxZ/ekZIb0LFddBM+vpEByXK81XkM8Z
 TOGTvn9ZAnDPVaH3KhOJhsah9tcHKcWeAgfl7pNQTWtko9Zrye0fV5Bz1ympQ3znAYW1tm1sGVI
 qgmJwx9I+y4VGsInN6igUzlZyWv0mJq9PgM4VWQtF
X-Google-Smtp-Source: AGHT+IFcB+JKy5kCjufM4LzNUm943jrZQD/RqxYCRjCaFfGc0YpstrmZvtMBJZzx7hM+I+k6oK7ppmEnwC6I
X-Received: by 2002:a05:6830:130f:b0:6f9:72ca:fdc8 with SMTP id
 46e09a7af769-6fb93b1971bmr6567397a34.37.1718525881933; 
 Sun, 16 Jun 2024 01:18:01 -0700 (PDT)
Received: from postal.iol.unh.edu (postal.iol.unh.edu. [132.177.123.84])
 by smtp-relay.gmail.com with ESMTPS id
 006d021491bc7-5bd5e077af7sm268213eaf.3.2024.06.16.01.18.01
 (version=TLS1_2 cipher=ECDHE-ECDSA-AES128-GCM-SHA256 bits=128/128);
 Sun, 16 Jun 2024 01:18:01 -0700 (PDT)
X-Relaying-Domain: iol.unh.edu
Date: Sun, 16 Jun 2024 01:18:01 -0700 (PDT)
Message-ID: <666e9fb9.050a0220.24ff0.0c41SMTPIN_ADDED_MISSING@mx.google.com>
Received: from [172.17.0.5] (unknown [172.18.0.217])
 by postal.iol.unh.edu (Postfix) with ESMTP id 676066050A9C;
 Sun, 16 Jun 2024 04:18:01 -0400 (EDT)
Subject: |SUCCESS| pw141170-141173 [PATCH] [v1,4/4] test/crypto: add modex te
From: dpdklab@iol.unh.edu
To: Test Report <test-report@dpdk.org>
Cc: dpdk-test-reports@iol.unh.edu
In-Reply-To: <20240616044223.2841-5-gmuthukrishn@marvell.com>
References: <20240616044223.2841-5-gmuthukrishn@marvell.com>
Content-Type: text/plain
X-BeenThere: test-report@dpdk.org
X-Mailman-Version: 2.1.29
Precedence: list
List-Id: automatic DPDK test reports <test-report.dpdk.org>
List-Unsubscribe: <https://mails.dpdk.org/options/test-report>,
 <mailto:test-report-request@dpdk.org?subject=unsubscribe>
List-Archive: <http://mails.dpdk.org/archives/test-report/>
List-Post: <mailto:test-report@dpdk.org>
List-Help: <mailto:test-report-request@dpdk.org?subject=help>
List-Subscribe: <https://mails.dpdk.org/listinfo/test-report>,
 <mailto:test-report-request@dpdk.org?subject=subscribe>
Errors-To: test-report-bounces@dpdk.org

Test-Label: iol-abi-testing
Test-Status: SUCCESS
http://dpdk.org/patch/141173

_Testing PASS_

Submitter: Gowrishankar Muthukrishnan <gmuthukrishn@marvell.com>
Date: Sunday, June 16 2024 04:42:20 
DPDK git baseline: Repo:dpdk
  Branch: master
  CommitID:6909b48776badc05542a410ebd34bcfec4c248bf

141170-141173 --> testing pass

Test environment and result as below:

+------------------+----------+
|   Environment    | abi_test |
+==================+==========+
| CentOS Stream 8  | PASS     |
+------------------+----------+
| Debian Bullseye  | PASS     |
+------------------+----------+
| Fedora 39        | PASS     |
+------------------+----------+
| CentOS Stream 9  | PASS     |
+------------------+----------+
| Fedora 40        | PASS     |
+------------------+----------+
| Fedora 38        | PASS     |
+------------------+----------+
| Fedora 37        | PASS     |
+------------------+----------+
| Debian 12        | PASS     |
+------------------+----------+
| RHEL8            | PASS     |
+------------------+----------+
| openSUSE Leap 15 | PASS     |
+------------------+----------+
| RHEL9            | PASS     |
+------------------+----------+
| Ubuntu 22.04     | PASS     |
+------------------+----------+
| Ubuntu 24.04     | PASS     |
+------------------+----------+


CentOS Stream 8
	Kernel: 5.4.0-167-generic
	Compiler: gcc 8.5.0 20210514

Debian Bullseye
	Kernel: 5.4.0-167-generic
	Compiler: gcc 10.2.1-6

Fedora 39
	Kernel: Depends on container host
	Compiler: gcc 13.2.1

CentOS Stream 9
	Kernel: 5.4.0-167-generic
	Compiler: gcc 11.4.1 20230605

Fedora 40
	Kernel: Depends on container host
	Compiler: clang 18.1.6

Fedora 38
	Kernel: Depends on container host
	Compiler: clang 16.0.6

Fedora 37
	Kernel: Depends on container host system
	Compiler: gcc 12.3.1

Debian 12
	Kernel: Container Host Kernel
	Compiler: gcc 12.2.0

RHEL8
	Kernel: 5.4.0-167-generic
	Compiler: gcc 8.5.0 20210514 (Red Hat 8.5.0-20)

openSUSE Leap 15
	Kernel: 5.4.0-167-generic
	Compiler: gcc 7.5.0

RHEL9
	Kernel: Depends on container host
	Compiler: gcc 11.4.1

Ubuntu 22.04
	Kernel: 5.4.0-167-generic
	Compiler: gcc 11.4.0

Ubuntu 24.04
	Kernel: 5.4.0-167-generic
	Compiler: gcc 13.2.0

To view detailed results, visit:
https://lab.dpdk.org/results/dashboard/patchsets/30201/

UNH-IOL DPDK Community Lab

To manage your email subscriptions, visit: 
https://lab.dpdk.org/results/dashboard/preferences/subscriptions/