From mboxrd@z Thu Jan  1 00:00:00 1970
Return-Path: <test-report-bounces@dpdk.org>
Received: from mails.dpdk.org (mails.dpdk.org [217.70.189.124])
	by inbox.dpdk.org (Postfix) with ESMTP id 6690745479
	for <public@inbox.dpdk.org>; Sun, 16 Jun 2024 10:33:10 +0200 (CEST)
Received: from mails.dpdk.org (localhost [127.0.0.1])
	by mails.dpdk.org (Postfix) with ESMTP id 6E1B540270;
	Sun, 16 Jun 2024 10:33:10 +0200 (CEST)
Received: from mail-il1-f226.google.com (mail-il1-f226.google.com
 [209.85.166.226])
 by mails.dpdk.org (Postfix) with ESMTP id C736040042
 for <test-report@dpdk.org>; Sun, 16 Jun 2024 10:33:08 +0200 (CEST)
Received: by mail-il1-f226.google.com with SMTP id
 e9e14a558f8ab-375dbfde049so12301205ab.2
 for <test-report@dpdk.org>; Sun, 16 Jun 2024 01:33:08 -0700 (PDT)
DKIM-Signature: v=1; a=rsa-sha256; c=relaxed/relaxed;
 d=iol.unh.edu; s=unh-iol; t=1718526788; x=1719131588; darn=dpdk.org;
 h=references:in-reply-to:cc:to:from:subject:message-id:date:from:to
 :cc:subject:date:message-id:reply-to;
 bh=DSWiv5sivDPiBD2vl0cBrn3n3pmdWUZAgpvlH5hH1E4=;
 b=NCEjR0HYFQvdOsX000Tv/G7uHJEGWRT/804NFr8oUo6f8vOR7zanEfO6Safk9sBVf3
 hanF5UEuScr3xAuSRzthzNXcvx+L1UbcVPIVume1mdH03ZCG2yx+YE4CoIHJYuw2+/FQ
 lm2XyRYse08L1vG4+JOKQNao+g7GKby3PF6dw=
X-Google-DKIM-Signature: v=1; a=rsa-sha256; c=relaxed/relaxed;
 d=1e100.net; s=20230601; t=1718526788; x=1719131588;
 h=references:in-reply-to:cc:to:from:subject:message-id:date
 :x-gm-message-state:from:to:cc:subject:date:message-id:reply-to;
 bh=DSWiv5sivDPiBD2vl0cBrn3n3pmdWUZAgpvlH5hH1E4=;
 b=TbX7qqrPnMZQTZdEJlauhF8P2/1S5vhVMKiWQ1rC/CVWWhhjWXfV3t6lpFjkR7hnya
 t0fPrhtM5IRH+Pt6/F9/G74SwvG3yuEeC7BW65v4YGRUt4RdhJ/ZIciRtOB9M8z8jNb3
 KiaBf5ie7CiPaegXbWt11ciu/I/sMFIsn6CXKW74ZUtwWpn/0iHt+B9VyaIvaREKpsAm
 NzNSZDqhCDxjkBrR4DEsl6615MroiZXpwRve3EFlmnOXKjvQNaZYquaEQO0LuJSbL2jn
 sH+3ySt+J9Kk4PQPo5dSlPK6+qL5snDGkAm+CPUiI4eOMIDH4Qebc8uSTBSdKY+eVpha
 vKBg==
X-Gm-Message-State: AOJu0Yx9Rz8vMT6B38RPPnx10ApyKnCeW4KkOOHoSQcEWIz/FB8sWj/f
 j3nFx4yfaodC3URH8LZdW8Cnkj+UlabU8AyegcHSB/tpt8lSaAQBaLkD3fdOOUkX2Ow49hMYeiB
 Tafxtqwe2iuzfVZMPNRtyI9pgKu8vwDHEE52grYvyur2joZrOC6HTfaNO
X-Google-Smtp-Source: AGHT+IGZzc1VU4MPoJiKofmnjK+eLvEh0Af0kh2HBBf6e1TgWTVKNdAwpCpIG61K0a+LK4O8EELC5bleJWwx
X-Received: by 2002:a05:6e02:1489:b0:374:9916:70 with SMTP id
 e9e14a558f8ab-375e0e20718mr80864455ab.11.1718526788208; 
 Sun, 16 Jun 2024 01:33:08 -0700 (PDT)
Received: from postal.iol.unh.edu (postal.iol.unh.edu.
 [2606:4100:3880:1234::84]) by smtp-relay.gmail.com with ESMTPS id
 e9e14a558f8ab-375d85bf483sm3094365ab.16.2024.06.16.01.33.08
 (version=TLS1_2 cipher=ECDHE-ECDSA-AES128-GCM-SHA256 bits=128/128);
 Sun, 16 Jun 2024 01:33:08 -0700 (PDT)
X-Relaying-Domain: iol.unh.edu
Date: Sun, 16 Jun 2024 01:33:08 -0700 (PDT)
Message-ID: <666ea344.050a0220.ef39c.4059SMTPIN_ADDED_MISSING@mx.google.com>
Received: from [172.17.0.2] (unknown [172.18.0.217])
 by postal.iol.unh.edu (Postfix) with ESMTP id AB7046050A9C;
 Sun, 16 Jun 2024 04:33:07 -0400 (EDT)
Subject: |SUCCESS| pw141170-141173 [PATCH] [v1,4/4] test/crypto: add modex te
From: dpdklab@iol.unh.edu
To: Test Report <test-report@dpdk.org>
Cc: dpdk-test-reports@iol.unh.edu
In-Reply-To: <20240616044223.2841-5-gmuthukrishn@marvell.com>
References: <20240616044223.2841-5-gmuthukrishn@marvell.com>
Content-Type: text/plain
X-BeenThere: test-report@dpdk.org
X-Mailman-Version: 2.1.29
Precedence: list
List-Id: automatic DPDK test reports <test-report.dpdk.org>
List-Unsubscribe: <https://mails.dpdk.org/options/test-report>,
 <mailto:test-report-request@dpdk.org?subject=unsubscribe>
List-Archive: <http://mails.dpdk.org/archives/test-report/>
List-Post: <mailto:test-report@dpdk.org>
List-Help: <mailto:test-report-request@dpdk.org?subject=help>
List-Subscribe: <https://mails.dpdk.org/listinfo/test-report>,
 <mailto:test-report-request@dpdk.org?subject=subscribe>
Errors-To: test-report-bounces@dpdk.org

Test-Label: iol-unit-amd64-testing
Test-Status: SUCCESS
http://dpdk.org/patch/141173

_Testing PASS_

Submitter: Gowrishankar Muthukrishnan <gmuthukrishn@marvell.com>
Date: Sunday, June 16 2024 04:42:20 
DPDK git baseline: Repo:dpdk
  Branch: master
  CommitID:6909b48776badc05542a410ebd34bcfec4c248bf

141170-141173 --> testing pass

Test environment and result as below:

+---------------------+----------------+
|     Environment     | dpdk_unit_test |
+=====================+================+
| Windows Server 2019 | PASS           |
+---------------------+----------------+
| Windows Server 2022 | PASS           |
+---------------------+----------------+
| CentOS Stream 9     | PASS           |
+---------------------+----------------+
| CentOS Stream 8     | PASS           |
+---------------------+----------------+
| Debian Bullseye     | PASS           |
+---------------------+----------------+
| Debian 12           | PASS           |
+---------------------+----------------+
| Fedora 37           | PASS           |
+---------------------+----------------+
| Fedora 39           | PASS           |
+---------------------+----------------+
| Fedora 38           | PASS           |
+---------------------+----------------+
| Fedora 40           | PASS           |
+---------------------+----------------+


Windows Server 2019
	Kernel: 10.0.17763
	Compiler: clang 14.0 and gcc 8.1.0 (MinGW)

Windows Server 2022
	Kernel: 10.0.20348.2031
	Compiler: clang 15.0.7, gcc 8.1.0 (MinGW), and MSVC VS 17.9

CentOS Stream 9
	Kernel: 5.4.0-167-generic
	Compiler: gcc 11.4.1 20230605

CentOS Stream 8
	Kernel: 5.4.0-167-generic
	Compiler: gcc 8.5.0 20210514

Debian Bullseye
	Kernel: 5.4.0-167-generic
	Compiler: gcc 10.2.1-6

Debian 12
	Kernel: Container Host Kernel
	Compiler: gcc 12.2.0

Fedora 37
	Kernel: Depends on container host system
	Compiler: gcc 12.3.1

Fedora 39
	Kernel: Depends on container host
	Compiler: gcc 13.2.1

Fedora 38
	Kernel: Depends on container host
	Compiler: clang 16.0.6

Fedora 40
	Kernel: Depends on container host
	Compiler: clang 18.1.6

To view detailed results, visit:
https://lab.dpdk.org/results/dashboard/patchsets/30201/

UNH-IOL DPDK Community Lab

To manage your email subscriptions, visit: 
https://lab.dpdk.org/results/dashboard/preferences/subscriptions/